BEGIN:VCALENDAR
VERSION:2.0
PRODID:-//Impronta Etica - ECPv6.15.20//NONSGML v1.0//EN
CALSCALE:GREGORIAN
METHOD:PUBLISH
X-WR-CALNAME:Impronta Etica
X-ORIGINAL-URL:https://www.improntaetica.org
X-WR-CALDESC:Eventi per Impronta Etica
REFRESH-INTERVAL;VALUE=DURATION:PT1H
X-Robots-Tag:noindex
X-PUBLISHED-TTL:PT1H
BEGIN:VTIMEZONE
TZID:Europe/Rome
BEGIN:DAYLIGHT
TZOFFSETFROM:+0100
TZOFFSETTO:+0200
TZNAME:CEST
DTSTART:20200329T010000
END:DAYLIGHT
BEGIN:STANDARD
TZOFFSETFROM:+0200
TZOFFSETTO:+0100
TZNAME:CET
DTSTART:20201025T010000
END:STANDARD
BEGIN:DAYLIGHT
TZOFFSETFROM:+0100
TZOFFSETTO:+0200
TZNAME:CEST
DTSTART:20210328T010000
END:DAYLIGHT
BEGIN:STANDARD
TZOFFSETFROM:+0200
TZOFFSETTO:+0100
TZNAME:CET
DTSTART:20211031T010000
END:STANDARD
BEGIN:DAYLIGHT
TZOFFSETFROM:+0100
TZOFFSETTO:+0200
TZNAME:CEST
DTSTART:20220327T010000
END:DAYLIGHT
BEGIN:STANDARD
TZOFFSETFROM:+0200
TZOFFSETTO:+0100
TZNAME:CET
DTSTART:20221030T010000
END:STANDARD
END:VTIMEZONE
BEGIN:VEVENT
DTSTART;TZID=Europe/Rome:20211213T100000
DTEND;TZID=Europe/Rome:20211213T120000
DTSTAMP:20260421T082734
CREATED:20211207T165127Z
LAST-MODIFIED:20211207T165221Z
UID:34173-1639389600-1639396800@www.improntaetica.org
SUMMARY:13/12 | Premiazione Innovatori Responsabili 2021
DESCRIPTION:Premiazione dei migliori progetti candidati alla VII edizione del Premio Innovatori Responsabili e al premio Ged – gender & equality.\nIl 13 dicembre alle ore 10:00 si terrà l’evento di premiazione del Premio Innovatori Responsabili 2021. Una diretta per i protagonisti di questa edizione: imprese\, cooperative sociali\, liberi professionisti\, scuole\, che da ogni parte della regione concorrono alla realizzazione degli obiettivi indicati dal Patto per il lavoro e per il clima: conoscenza e saperi\, transizione ecologica\, diritti e doveri\, lavoro\, imprese e opportunità. \nSegui la diretta sul canale facebook e youtube  della Regione Emilia-Romagna. \nMaggiori informazioni sono disponibili al seguente link.
URL:https://www.improntaetica.org/evento/13-12-premiazione-innovatori-responsabili-2021/
ATTACH;FMTTYPE=image/jpeg:https://www.improntaetica.org/wp-content/uploads/2021/12/premio-innovatori.jpeg
END:VEVENT
END:VCALENDAR