BEGIN:VCALENDAR
VERSION:2.0
PRODID:-//Impronta Etica - ECPv6.15.20//NONSGML v1.0//EN
CALSCALE:GREGORIAN
METHOD:PUBLISH
X-WR-CALNAME:Impronta Etica
X-ORIGINAL-URL:https://www.improntaetica.org
X-WR-CALDESC:Eventi per Impronta Etica
REFRESH-INTERVAL;VALUE=DURATION:PT1H
X-Robots-Tag:noindex
X-PUBLISHED-TTL:PT1H
BEGIN:VTIMEZONE
TZID:Europe/Rome
BEGIN:DAYLIGHT
TZOFFSETFROM:+0100
TZOFFSETTO:+0200
TZNAME:CEST
DTSTART:20220327T010000
END:DAYLIGHT
BEGIN:STANDARD
TZOFFSETFROM:+0200
TZOFFSETTO:+0100
TZNAME:CET
DTSTART:20221030T010000
END:STANDARD
BEGIN:DAYLIGHT
TZOFFSETFROM:+0100
TZOFFSETTO:+0200
TZNAME:CEST
DTSTART:20230326T010000
END:DAYLIGHT
BEGIN:STANDARD
TZOFFSETFROM:+0200
TZOFFSETTO:+0100
TZNAME:CET
DTSTART:20231029T010000
END:STANDARD
BEGIN:DAYLIGHT
TZOFFSETFROM:+0100
TZOFFSETTO:+0200
TZNAME:CEST
DTSTART:20240331T010000
END:DAYLIGHT
BEGIN:STANDARD
TZOFFSETFROM:+0200
TZOFFSETTO:+0100
TZNAME:CET
DTSTART:20241027T010000
END:STANDARD
END:VTIMEZONE
BEGIN:VEVENT
DTSTART;TZID=Europe/Rome:20230926T113000
DTEND;TZID=Europe/Rome:20230926T131500
DTSTAMP:20260423T213153
CREATED:20230913T063439Z
LAST-MODIFIED:20230915T063038Z
UID:37518-1695727800-1695734100@www.improntaetica.org
SUMMARY:26/09 | La versione finale degli standard europei per il reporting di sostenibilità e il lavoro attuale e prospettico dell’EFRAG
DESCRIPTION:Il nuovo webinar di Fondazione O.I.B.R.\nSi terrà il 26 settembre dalle ore 11.30 alle ore 13:15 il nuovo webinar di Fondazione O.I.B.R. con l’obiettivo di presentare – assieme ai principali attori europei – la versione definitiva dei primi ESRS\, chiudendo così la serie di eventi organizzati dalla Fondazione O.I.B.R. volti a seguire passo passo il lungo processo di elaborazione di tale standard europei\, che vede ora la fine della prima fase. \nUna Tavola Rotonda di alto livello discuterà le implicazioni e i necessari cambiamenti per le imprese italiane a fronte di questa rivoluzione ormai in atto. \nE’ possibile iscriversi e ottenere maggiori informazioni al seguente link. \n 
URL:https://www.improntaetica.org/evento/26-09-la-versione-finale-degli-standard-europei-per-il-reporting-di-sostenibilita-e-il-lavoro-attuale-e-prospettico-dellefrag/
ATTACH;FMTTYPE=image/png:https://www.improntaetica.org/wp-content/uploads/2019/08/oibr.png
END:VEVENT
BEGIN:VEVENT
DTSTART;TZID=Europe/Rome:20230301T160000
DTEND;TZID=Europe/Rome:20230301T183000
DTSTAMP:20260423T213153
CREATED:20230209T105446Z
LAST-MODIFIED:20230209T105446Z
UID:36364-1677686400-1677695400@www.improntaetica.org
SUMMARY:01/03 | Il terzo webinar O.I.B.R. sul reporting di sostenibilità
DESCRIPTION:Standard EFRAG e gli ESRS sulle tematiche sociali.\nSi terrà l’1 marzo\, dalle 16:00 alle 18.30\, il webinar “Gli Standard EFRAG per Il Reporting di Sostenibilità: Gli ESRS sulle tematiche sociali”\, il terzo incontro della Webinar Series volta a presentare e approfondire la nuova Corporate Sustainability Reporting Directive (CSRD) e la versione finale dei 12 European Sustainability Reporting Standards (ESRS)\, organizzato dalla Fondazione O.I.B.R. con il patrocinio dell’ASviS. \nL’obiettivo del webinar è presentare ed esaminare i quattro standard EFRAG dedicati agli aspetti sociali: la propria forza lavoro (ESRS S1); la forza lavoro nella catena di fornitura(ESRS S2); le comunità impattate (ESRS S3) e i consumatori e gli utilizzatori finali (ESRS S4). \nPer partecipare all’evento\, che si terrà esclusivamente online\, è necessario iscriversi al seguente link. \nMaggiori informazioni sono disponibili al seguente link. \nSCARICA IL PROGRAMMA
URL:https://www.improntaetica.org/evento/01-03-il-terzo-webinar-o-i-b-r-sul-reporting-di-sostenibilita/
ATTACH;FMTTYPE=image/png:https://www.improntaetica.org/wp-content/uploads/2019/08/oibr.png
END:VEVENT
BEGIN:VEVENT
DTSTART;TZID=Europe/Rome:20230208T160000
DTEND;TZID=Europe/Rome:20230208T183000
DTSTAMP:20260423T213153
CREATED:20230110T094538Z
LAST-MODIFIED:20230130T124352Z
UID:36138-1675872000-1675881000@www.improntaetica.org
SUMMARY:08/02 | Webinar O.I.B.R. sul reporting di sostenibilità
DESCRIPTION:Standard EFRAG e reporting di sostenibilità.\nSi terrà l’8 febbraio\, dalle 16 alle 18.30\, il webinar “Gli Standard EFRAG per Il Reporting di Sostenibilità: Gli ESRS Ambientali”\, il secondo incontro della Webinar Series volta a presentare e approfondire la nuova Corporate Sustainability Reporting Directive (CSRD) e la versione finale dei 12 European Sustainability Reporting Standards (ESRS)\, organizzato dalla Fondazione O.I.B.R. con il patrocinio dell’ASviS. \nL’obiettivo del webinar è presentare ed esaminare i cinque standard EFRAG dedicati alle cruciali tematiche ambientali: cambiamento climatico (ESRS E1); inquinamento (ESRS E2); acqua e risorse marine (ESRS E3); biodiversità ed ecosistemi (ESRS E4); e utilizzo delle risorse ed economia circolare (ESRS E5). \nPer partecipare all’evento\, che si terrà esclusivamente online\, è necessario iscriversi al seguente link. \nMaggiori informazioni sono disponibili al seguente link. \nSCARICA IL PROGRAMMA
URL:https://www.improntaetica.org/evento/08-02-fondazione-o-i-b-r-nuovo-webinar-sul-reporting-di-sostenibilita/
ATTACH;FMTTYPE=image/png:https://www.improntaetica.org/wp-content/uploads/2019/08/oibr.png
END:VEVENT
END:VCALENDAR