BEGIN:VCALENDAR
VERSION:2.0
PRODID:-//Impronta Etica - ECPv6.15.20//NONSGML v1.0//EN
CALSCALE:GREGORIAN
METHOD:PUBLISH
X-ORIGINAL-URL:https://www.improntaetica.org
X-WR-CALDESC:Eventi per Impronta Etica
REFRESH-INTERVAL;VALUE=DURATION:PT1H
X-Robots-Tag:noindex
X-PUBLISHED-TTL:PT1H
BEGIN:VTIMEZONE
TZID:Europe/Rome
BEGIN:DAYLIGHT
TZOFFSETFROM:+0100
TZOFFSETTO:+0200
TZNAME:CEST
DTSTART:20240331T010000
END:DAYLIGHT
BEGIN:STANDARD
TZOFFSETFROM:+0200
TZOFFSETTO:+0100
TZNAME:CET
DTSTART:20241027T010000
END:STANDARD
BEGIN:DAYLIGHT
TZOFFSETFROM:+0100
TZOFFSETTO:+0200
TZNAME:CEST
DTSTART:20250330T010000
END:DAYLIGHT
BEGIN:STANDARD
TZOFFSETFROM:+0200
TZOFFSETTO:+0100
TZNAME:CET
DTSTART:20251026T010000
END:STANDARD
BEGIN:DAYLIGHT
TZOFFSETFROM:+0100
TZOFFSETTO:+0200
TZNAME:CEST
DTSTART:20260329T010000
END:DAYLIGHT
BEGIN:STANDARD
TZOFFSETFROM:+0200
TZOFFSETTO:+0100
TZNAME:CET
DTSTART:20261025T010000
END:STANDARD
END:VTIMEZONE
BEGIN:VEVENT
DTSTART;TZID=Europe/Rome:20250508T150000
DTEND;TZID=Europe/Rome:20250508T170000
DTSTAMP:20260421T012634
CREATED:20250414T075306Z
LAST-MODIFIED:20250414T075306Z
UID:41059-1746716400-1746723600@www.improntaetica.org
SUMMARY:08/05 | La ricerca GBS “Valore e sostenibilità”: discussione con le imprese di Impronta Etica
DESCRIPTION:Un incontro per approfondire ed esplorare le prospettive del rapporto tra valore e sostenibilità.\nSi terrà in presenzal’8 maggio 2025 dalle ore 15.00 alle 17.00 presso la sede di Rekeep S.p.A. in Via Poli 4 40069 a Zola Predosa\, Bologna\, il nuovo evento pubblico organizzato da Impronta Etica  e GBS dal titolo “La ricerca GBS “Valore e sostenibilità”: discussione con le imprese di Impronta Etica”. \nAd alcuni mesi dalla presentazione ufficiale della ricerca “Valore e sostenibilità” avvenuta lo scorso 18 ottobre a Roma e dopo un primo momento di discussione e disseminazione svolto con le imprese socie di Impronta Etica\, l’evento vuole riflettere sui concetti cardine del lavoro svolto da GBS\, comprendente una sezione in collaborazione con Impronta Etica\, alla luce delle recenti novità normative che hanno riacceso il dibattito circa la sostenibilità nelle imprese. \nLa nuova direzione proveniente dalla Commissione europea riaccende la discussione circa il destino della sostenibilità in azienda\, tra nuovi scetticismi e solidi valori che spingono a proseguire nel cammino già avviato verso un futuro sostenibile. \nMa quali sono le esperienze e le percezioni di chi lavora con la sostenibilità nelle organizzazioni? Lo scopriremo in un momento di dialogo a più voci con esperti di diverse organizzazioni e settori. \nMaggiori informazioni sono disponibili al seguente link. \nE’ possibile iscriversi al seguente link. \nSCARICA IL PROGRAMMA \nSCARICA LA RICERCA
URL:https://www.improntaetica.org/evento/08-05-la-ricerca-gbs-valore-e-sostenibilita-discussione-con-le-imprese-di-impronta-etica/
CATEGORIES:Eventi 2025
ATTACH;FMTTYPE=image/png:https://www.improntaetica.org/wp-content/uploads/2025/04/GRANDE-e1744365791712.png
END:VEVENT
BEGIN:VEVENT
DTSTART;TZID=Europe/Rome:20250416T130000
DTEND;TZID=Europe/Rome:20250416T160000
DTSTAMP:20260421T012634
CREATED:20250313T150051Z
LAST-MODIFIED:20250319T144845Z
UID:40887-1744808400-1744819200@www.improntaetica.org
SUMMARY:16/04 | Seminario "Quale futuro per la sostenibilità in azienda: sfide e nuove competenze richieste"
DESCRIPTION:L’evento pubblico in collaborazione tra Impronta Etica e l’Università degli Studi Bologna.\nImpronta Etica insieme al corso di Laurea Magistrale in Management dell’Economia Sociale (Università di Bologna) organizza il seminario  “Quale futuro per la sostenibilità in azienda: sfide e nuove competenze richieste” si terrà il 16 aprile 2025 dalle ore 13.00 alle ore 16.00. L’evento si terrà in modalità ibrida con la possibilità per i partecipanti di partecipare in presenza presso il Teaching Hub – Campus di Forlì in Viale Filippo Corridoni 20 a Forlì o online. \nIl seminario rappresenta un’importante occasione  per esplorare il tema delle competenze della sostenibilità\, in un panorama odierno che vede le aziende sempre più richiedenti di skills e conoscenze interne che consentano di integrare piani di sostenibilità strategici in modo coerente e lungimirante\, anche alla luce della recente normativa. \nDurante l’evento verranno approfonditi i ruoli che oggi si occupano di sostenibilità in impresa e la struttura della relativa governance\, tra nuove sfide e necessarie competenze per trasformarle in opportunità. \nL’evento si terrà in modalità ibrida con la possibilità per i partecipanti di partecipare in presenza presso il Teaching Hub – Campus di Forlì in Viale Filippo Corridoni 20 a Forlì o online. \nPer partecipare all’iniziativa e ricevere i riferimenti per il collegamento\, è necessario iscriversi al seguente link. \nSCARICA IL PROGRAMMA
URL:https://www.improntaetica.org/evento/16-04-seminario-quale-futuro-per-la-sostenibilita-in-azienda-sfide-e-nuove-competenze-richieste/
CATEGORIES:Eventi 2025
ATTACH;FMTTYPE=image/png:https://www.improntaetica.org/wp-content/uploads/2025/03/mes-e1740997873336.png
END:VEVENT
END:VCALENDAR