BEGIN:VCALENDAR
VERSION:2.0
PRODID:-//Impronta Etica - ECPv6.15.20//NONSGML v1.0//EN
CALSCALE:GREGORIAN
METHOD:PUBLISH
X-ORIGINAL-URL:https://www.improntaetica.org
X-WR-CALDESC:Eventi per Impronta Etica
REFRESH-INTERVAL;VALUE=DURATION:PT1H
X-Robots-Tag:noindex
X-PUBLISHED-TTL:PT1H
BEGIN:VTIMEZONE
TZID:Europe/Rome
BEGIN:DAYLIGHT
TZOFFSETFROM:+0100
TZOFFSETTO:+0200
TZNAME:CEST
DTSTART:20160327T010000
END:DAYLIGHT
BEGIN:STANDARD
TZOFFSETFROM:+0200
TZOFFSETTO:+0100
TZNAME:CET
DTSTART:20161030T010000
END:STANDARD
BEGIN:DAYLIGHT
TZOFFSETFROM:+0100
TZOFFSETTO:+0200
TZNAME:CEST
DTSTART:20170326T010000
END:DAYLIGHT
BEGIN:STANDARD
TZOFFSETFROM:+0200
TZOFFSETTO:+0100
TZNAME:CET
DTSTART:20171029T010000
END:STANDARD
BEGIN:DAYLIGHT
TZOFFSETFROM:+0100
TZOFFSETTO:+0200
TZNAME:CEST
DTSTART:20180325T010000
END:DAYLIGHT
BEGIN:STANDARD
TZOFFSETFROM:+0200
TZOFFSETTO:+0100
TZNAME:CET
DTSTART:20181028T010000
END:STANDARD
END:VTIMEZONE
BEGIN:VEVENT
DTSTART;TZID=Europe/Rome:20171123T103000
DTEND;TZID=Europe/Rome:20171123T130000
DTSTAMP:20260421T095503
CREATED:20171116T150237Z
LAST-MODIFIED:20171116T150237Z
UID:13971-1511433000-1511442000@www.improntaetica.org
SUMMARY:TPER: mobilità e sostenibilità
DESCRIPTION:Produrre valore\, ridurre le distanze.\nIn un momento molto importante per la mobilità\, sia intesa come servizio ai cittadini\, sia come leva per la sostenibilità ambientale e sociale\, Tper intende presentare agli stakeholder il percorso compiuto e gli impegni per il futuro.\nMaggiori informazioni  e il modulo di iscrizione sono disponibili al seguente link.\nProgramma
URL:https://www.improntaetica.org/evento/tper-mobilita-sostenibilita/
LOCATION:Confindustria Emilia\, Via San Domenico\, 4\, Bologna\, 40100\, Italia
ATTACH;FMTTYPE=:
END:VEVENT
END:VCALENDAR