BEGIN:VCALENDAR
VERSION:2.0
PRODID:-//Impronta Etica - ECPv6.15.20//NONSGML v1.0//EN
CALSCALE:GREGORIAN
METHOD:PUBLISH
X-ORIGINAL-URL:https://www.improntaetica.org
X-WR-CALDESC:Eventi per Impronta Etica
REFRESH-INTERVAL;VALUE=DURATION:PT1H
X-Robots-Tag:noindex
X-PUBLISHED-TTL:PT1H
BEGIN:VTIMEZONE
TZID:Europe/Rome
BEGIN:DAYLIGHT
TZOFFSETFROM:+0100
TZOFFSETTO:+0200
TZNAME:CEST
DTSTART:20210328T010000
END:DAYLIGHT
BEGIN:STANDARD
TZOFFSETFROM:+0200
TZOFFSETTO:+0100
TZNAME:CET
DTSTART:20211031T010000
END:STANDARD
BEGIN:DAYLIGHT
TZOFFSETFROM:+0100
TZOFFSETTO:+0200
TZNAME:CEST
DTSTART:20220327T010000
END:DAYLIGHT
BEGIN:STANDARD
TZOFFSETFROM:+0200
TZOFFSETTO:+0100
TZNAME:CET
DTSTART:20221030T010000
END:STANDARD
BEGIN:DAYLIGHT
TZOFFSETFROM:+0100
TZOFFSETTO:+0200
TZNAME:CEST
DTSTART:20230326T010000
END:DAYLIGHT
BEGIN:STANDARD
TZOFFSETFROM:+0200
TZOFFSETTO:+0100
TZNAME:CET
DTSTART:20231029T010000
END:STANDARD
END:VTIMEZONE
BEGIN:VEVENT
DTSTART;TZID=Europe/Rome:20220512T110000
DTEND;TZID=Europe/Rome:20220512T130000
DTSTAMP:20260421T033847
CREATED:20220426T062909Z
LAST-MODIFIED:20220426T062909Z
UID:34715-1652353200-1652360400@www.improntaetica.org
SUMMARY:12\05 | CRIF presenta BOOM
DESCRIPTION:Il nuovo knowledge e innovation hub fisico e digitale di CRIF.\nSi terrà giovedì 12 maggio l’evento digitale  di CRIF\, nuovo socio di Impronta Etica\, per la presentazione di BOOM: un luogo fisico e digitale dove formazione\, innovazione\, imprenditoria si incontrano e si contaminano per generare nuove opportunità di crescita e favorire uno scambio continuo di know-how. \nTante le iniziative e percorsi di formazione dedicati a studenti di ogni grado scolastico\, professionisti\, imprenditori\, startupper e executive. \nIn occasione dell’evento di inaugurazione\, saranno presenti speaker d’eccezione: docenti dell’università di Ferrara\,  HR di riferimento di aziende come Hera\, Aeroporto di Bologna e Marchesini\, esperti di innovation e start up di successo. \nLa partecipazione all’evento è gratuita. \nE’ possibile iscriversi compilando il modulo al seguente link. \nPer maggiori informazioni è possibile contattare la segreteria organizzativa al seguente indirizzo email info@bo-om.it. \n 
URL:https://www.improntaetica.org/evento/1205-crif-presenta-boom/
ATTACH;FMTTYPE=image/png:https://www.improntaetica.org/wp-content/uploads/2022/04/crif.png
END:VEVENT
END:VCALENDAR