BEGIN:VCALENDAR
VERSION:2.0
PRODID:-//Impronta Etica - ECPv6.15.20//NONSGML v1.0//EN
CALSCALE:GREGORIAN
METHOD:PUBLISH
X-ORIGINAL-URL:https://www.improntaetica.org
X-WR-CALDESC:Eventi per Impronta Etica
REFRESH-INTERVAL;VALUE=DURATION:PT1H
X-Robots-Tag:noindex
X-PUBLISHED-TTL:PT1H
BEGIN:VTIMEZONE
TZID:Europe/Rome
BEGIN:DAYLIGHT
TZOFFSETFROM:+0100
TZOFFSETTO:+0200
TZNAME:CEST
DTSTART:20220327T010000
END:DAYLIGHT
BEGIN:STANDARD
TZOFFSETFROM:+0200
TZOFFSETTO:+0100
TZNAME:CET
DTSTART:20221030T010000
END:STANDARD
BEGIN:DAYLIGHT
TZOFFSETFROM:+0100
TZOFFSETTO:+0200
TZNAME:CEST
DTSTART:20230326T010000
END:DAYLIGHT
BEGIN:STANDARD
TZOFFSETFROM:+0200
TZOFFSETTO:+0100
TZNAME:CET
DTSTART:20231029T010000
END:STANDARD
BEGIN:DAYLIGHT
TZOFFSETFROM:+0100
TZOFFSETTO:+0200
TZNAME:CEST
DTSTART:20240331T010000
END:DAYLIGHT
BEGIN:STANDARD
TZOFFSETFROM:+0200
TZOFFSETTO:+0100
TZNAME:CET
DTSTART:20241027T010000
END:STANDARD
BEGIN:DAYLIGHT
TZOFFSETFROM:+0100
TZOFFSETTO:+0200
TZNAME:CEST
DTSTART:20250330T010000
END:DAYLIGHT
BEGIN:STANDARD
TZOFFSETFROM:+0200
TZOFFSETTO:+0100
TZNAME:CET
DTSTART:20251026T010000
END:STANDARD
END:VTIMEZONE
BEGIN:VEVENT
DTSTART;TZID=Europe/Rome:20241001T170000
DTEND;TZID=Europe/Rome:20241001T180000
DTSTAMP:20260421T004634
CREATED:20240920T124843Z
LAST-MODIFIED:20240920T140918Z
UID:39960-1727802000-1727805600@www.improntaetica.org
SUMMARY:1/10 | Tappa bolognese Oscar di Bilancio 2024
DESCRIPTION:Due Soci di Impronta Etica tra gli speaker.\n1° ottobre dalle ore 17.00 alle ore 18.00\, si terrà al Museo del Patrimonio Industriale di Bologna\, la tappa bolognese del roadshow nazionale degliOscar di Bilancio 2024. L’evento è organizzato in collaborazione con Impronta Etica ed Homina\, Socio di Impronta Etica. \nGiunto alla 60esima edizione\, l’Oscar di Bilancio negli anni ha testimoniato l’evoluzione dei sistemi di reporting e della comunicazione economica-finanziaria\, arrivando ad integrare a pieno titolo anche la rendicontazione delle performance ESG. Il Premio è cresciuto nel tempo anticipando le nuove tendenze e adattandosi alle normative e agli standard sempre più stringenti in tema di accountability. Tema particolarmente attuale oggi\, considerato il percorso di recepimento nell’ordinamento italiano della nuova normativa europea CSRD. \nTra gli speaker dell’incontro della tappa bolognese\, interverranno due Soci di Impronta Etica\, UpDay e Lavoropiù\, portando la loro esperienza e buona pratica circa il tema. \nInoltre\, dalle 16.00 alle 17.00 verrà data la possibilità ai partecipanti di effettuare la visita guidata al Museo del Patrimonio Industriale\, location dell’evento. \nE’ possibile partecipare iscrivendosi al seguente link. \nSCARICA IL SAVE THE DATE
URL:https://www.improntaetica.org/evento/1-10-tappa-bolognese-oscar-di-bilancio-2024/
ATTACH;FMTTYPE=image/jpeg:https://www.improntaetica.org/wp-content/uploads/2024/09/LOGO_COLORI.jpg
END:VEVENT
BEGIN:VEVENT
DTSTART;TZID=Europe/Rome:20231215T173000
DTEND;TZID=Europe/Rome:20231215T193000
DTSTAMP:20260421T004634
CREATED:20231211T090822Z
LAST-MODIFIED:20231211T090822Z
UID:38123-1702661400-1702668600@www.improntaetica.org
SUMMARY:15/12 | Oscar di Bilancio 2023
DESCRIPTION:Si terranno venerdì 15 dicembre dalle ore 17:30  alle ore 19:30 a Milano\, la cerimonia di premiazione degli Oscar di Bilancio 2023 di FERPI. \nL’Oscar di Bilancio\, da oltre cinquant’anni\, premia le organizzazioni che attraverso il bilancio non solo rendicontano il proprio operato\, ma dimostrano anche di voler condividere risultati e obiettivi con i propri stakeholder. \nMaggiori informazioni sono disponibili al seguente link. \nE’ possibile iscriversi al seguente link. \n 
URL:https://www.improntaetica.org/evento/15-12-oscar-di-bilancio-2023/
ATTACH;FMTTYPE=image/jpeg:https://www.improntaetica.org/wp-content/uploads/2023/12/oscar_positivo2023_.jpg
END:VEVENT
END:VCALENDAR