BEGIN:VCALENDAR
VERSION:2.0
PRODID:-//Impronta Etica - ECPv6.15.20//NONSGML v1.0//EN
CALSCALE:GREGORIAN
METHOD:PUBLISH
X-WR-CALNAME:Impronta Etica
X-ORIGINAL-URL:https://www.improntaetica.org
X-WR-CALDESC:Eventi per Impronta Etica
REFRESH-INTERVAL;VALUE=DURATION:PT1H
X-Robots-Tag:noindex
X-PUBLISHED-TTL:PT1H
BEGIN:VTIMEZONE
TZID:Europe/Rome
BEGIN:DAYLIGHT
TZOFFSETFROM:+0100
TZOFFSETTO:+0200
TZNAME:CEST
DTSTART:20240331T010000
END:DAYLIGHT
BEGIN:STANDARD
TZOFFSETFROM:+0200
TZOFFSETTO:+0100
TZNAME:CET
DTSTART:20241027T010000
END:STANDARD
BEGIN:DAYLIGHT
TZOFFSETFROM:+0100
TZOFFSETTO:+0200
TZNAME:CEST
DTSTART:20250330T010000
END:DAYLIGHT
BEGIN:STANDARD
TZOFFSETFROM:+0200
TZOFFSETTO:+0100
TZNAME:CET
DTSTART:20251026T010000
END:STANDARD
BEGIN:DAYLIGHT
TZOFFSETFROM:+0100
TZOFFSETTO:+0200
TZNAME:CEST
DTSTART:20260329T010000
END:DAYLIGHT
BEGIN:STANDARD
TZOFFSETFROM:+0200
TZOFFSETTO:+0100
TZNAME:CET
DTSTART:20261025T010000
END:STANDARD
END:VTIMEZONE
BEGIN:VEVENT
DTSTART;VALUE=DATE:20250507
DTEND;VALUE=DATE:20250524
DTSTAMP:20260421T060114
CREATED:20250514T123523Z
LAST-MODIFIED:20250514T123729Z
UID:40745-1746576000-1748044799@www.improntaetica.org
SUMMARY:ASviS: Festival dello Sviluppo Sostenibile
DESCRIPTION:17 giorni di incontro e reciproco scambio.\nDal 7 al 23 maggio 2025\, si terrà in tutta Italia la nuova edizione del Festival dello Sviluppo Sostenibile\, organizzato dall’Alleanza Italiana per lo Sviluppo Sostenibile (ASviS) con oltre 300 aderenti del mondo economico e sociale tra cui Impronta Etica. La manifestazione\, rappresenta la più grande iniziativa italiana per promuovere l’Agenda 2030 dell’ONU e i 17 Obiettivi di Sviluppo Sostenibile (SDGs)\, coinvolgendo attivamente cittadini\, imprese\, istituzioni e società civile. \nL’edizione 2025 si svilupperà in 17 giorni\, tanti quanti gli SDGs\, con centinaia di eventi diffusi sul territorio nazionale: convegni\, workshop\, mostre\, spettacoli\, eventi sportivi e presentazioni con l’obiettivo di sensibilizzare tutte le fasce della popolazione\, superando i confini degli addetti ai lavori. \nIl Festival rappresenta un’occasione per diffondere la cultura della sostenibilità\, promuovere un cambiamento culturale\, stimolare proposte dal basso e favorire il dialogo multistakeholder in un contesto aperto alla partecipazione di tutte e tutti. Chiunque ha infatti la possibilità di organizzare un evento autonomo all’interno del Festival\, contribuendo a tracciare un percorso concreto verso la sostenibilità. \nIl programma è in aggiornamento. \nMaggiori informazioni sono disponibili al seguente link.
URL:https://www.improntaetica.org/evento/asvis-festival-dello-sviluppo-sostenibile/
CATEGORIES:Eventi 2025
ATTACH;FMTTYPE=image/png:https://www.improntaetica.org/wp-content/uploads/2019/08/Logo-ASviS-e1736929301112.png
END:VEVENT
END:VCALENDAR