BEGIN:VCALENDAR
VERSION:2.0
PRODID:-//Impronta Etica - ECPv6.15.20//NONSGML v1.0//EN
CALSCALE:GREGORIAN
METHOD:PUBLISH
X-ORIGINAL-URL:https://www.improntaetica.org
X-WR-CALDESC:Eventi per Impronta Etica
REFRESH-INTERVAL;VALUE=DURATION:PT1H
X-Robots-Tag:noindex
X-PUBLISHED-TTL:PT1H
BEGIN:VTIMEZONE
TZID:Europe/Rome
BEGIN:DAYLIGHT
TZOFFSETFROM:+0100
TZOFFSETTO:+0200
TZNAME:CEST
DTSTART:20210328T010000
END:DAYLIGHT
BEGIN:STANDARD
TZOFFSETFROM:+0200
TZOFFSETTO:+0100
TZNAME:CET
DTSTART:20211031T010000
END:STANDARD
BEGIN:DAYLIGHT
TZOFFSETFROM:+0100
TZOFFSETTO:+0200
TZNAME:CEST
DTSTART:20220327T010000
END:DAYLIGHT
BEGIN:STANDARD
TZOFFSETFROM:+0200
TZOFFSETTO:+0100
TZNAME:CET
DTSTART:20221030T010000
END:STANDARD
BEGIN:DAYLIGHT
TZOFFSETFROM:+0100
TZOFFSETTO:+0200
TZNAME:CEST
DTSTART:20230326T010000
END:DAYLIGHT
BEGIN:STANDARD
TZOFFSETFROM:+0200
TZOFFSETTO:+0100
TZNAME:CET
DTSTART:20231029T010000
END:STANDARD
BEGIN:DAYLIGHT
TZOFFSETFROM:+0100
TZOFFSETTO:+0200
TZNAME:CEST
DTSTART:20240331T010000
END:DAYLIGHT
BEGIN:STANDARD
TZOFFSETFROM:+0200
TZOFFSETTO:+0100
TZNAME:CET
DTSTART:20241027T010000
END:STANDARD
END:VTIMEZONE
BEGIN:VEVENT
DTSTART;TZID=Europe/Rome:20231123T000000
DTEND;TZID=Europe/Rome:20231125T000000
DTSTAMP:20260421T044429
CREATED:20231120T095233Z
LAST-MODIFIED:20231120T095338Z
UID:38035-1700697600-1700870400@www.improntaetica.org
SUMMARY:23/11-25/11 | Festival del Futuro 2023
DESCRIPTION:Tra globalizzazione e frammentazione.\nIl Festival del Futuro mette a confronto esperti di fama internazionale sui grandi temi che caratterizzano l’evoluzione futura del nostro pianeta. Salute\, sviluppo tecnologico\, economico e finanziario\, cambiamenti climatici e sostenibilità\, cibo\, transizione energetica e decarbonizzazione\, nonché aspetti socio-politici. \nLa quinta edizione del Festival del Futuro avrà luogo nella suggestiva location del Teatro Ristori a Verona\, dal 23 al 25 novembre 2023. Tre giorni di conferenze\, seminari e workshop\, con oltre 60 speaker. \nIl tema di quest’anno “Tra globalizzazione e frammentazione” tenterà di rispondere alle seguenti domande: di quale lavoro ci sarà bisogno? Saremo sopraffatti dall’intelligenza artificiale? Troveranno un ruolo le giovani generazioni? Le imprese si reinventaranno tra mercato diviso e costi energetici? Il cambiamento climatico quanto inciderà sulla nostra salute? Gli Stati sovrani resisteranno nel nuovo contesto geopolitico ed economico che si va disegnando in controtendenza rispetto ai trend degli ultimi anni? \nMaggiori informazioni sono disponibili al seguente link. \nE’ possibile iscriversi al seguente link.
URL:https://www.improntaetica.org/evento/23-11-25-11-festival-del-futuro-2023/
ATTACH;FMTTYPE=image/png:https://www.improntaetica.org/wp-content/uploads/2023/11/festival.png
END:VEVENT
BEGIN:VEVENT
DTSTART;TZID=Europe/Rome:20221124T000000
DTEND;TZID=Europe/Rome:20221126T000000
DTSTAMP:20260421T044429
CREATED:20220829T140747Z
LAST-MODIFIED:20221111T100009Z
UID:35287-1669248000-1669420800@www.improntaetica.org
SUMMARY:24/11-26/11 | Festival del Futuro 2022
DESCRIPTION:Salute\, cambiamento climatico\, transizione energetica e molto altro.\nIl Festival del Futuro mette a confronto esperti di fama internazionale sui grandi temi che caratterizzano l’evoluzione futura del nostro pianeta. Salute\, sviluppo tecnologico\, economico e finanziario\, cambiamenti climatici e sostenibilità\, cibo\, transizione energetica e decarbonizzazione\, nonché aspetti socio-politici. \nLa quarta edizione del Festival del Futuro avrà luogo a Verona dal 24 al 26 novembre 2022\, e sarà possibile seguirla sia in presenza sia in streaming. La salute\, il cambiamento climatico\, la transizione energetica\, l’agricoltura\, la space economy\, il mondo del lavoro; sono solo alcuni degli argomenti che verranno affrontati quest’anno dai numerosi speaker presenti. Di altissimo livello  i partner scientifici del Festival tra cui l’Alleanza Italiana per lo Sviluppo Sostenibile (ASviS)\, l’Istituto Italiano di Tecnologia\, l’Università Bocconi\, Oxford Economics\, il Politecnico di Milano\, l’Università degli Studi di Padova e l’Università di Verona. \n\n\n\n\nMaggiori informazioni sono disponibili al seguente link. \nE’ possibile consultare il programma al seguente link.
URL:https://www.improntaetica.org/evento/24-2611-festival-del-futuro-2022/
ATTACH;FMTTYPE=image/png:https://www.improntaetica.org/wp-content/uploads/2022/08/futuro.png
END:VEVENT
END:VCALENDAR