BEGIN:VCALENDAR
VERSION:2.0
PRODID:-//Impronta Etica - ECPv6.15.20//NONSGML v1.0//EN
CALSCALE:GREGORIAN
METHOD:PUBLISH
X-ORIGINAL-URL:https://www.improntaetica.org
X-WR-CALDESC:Eventi per Impronta Etica
REFRESH-INTERVAL;VALUE=DURATION:PT1H
X-Robots-Tag:noindex
X-PUBLISHED-TTL:PT1H
BEGIN:VTIMEZONE
TZID:Europe/Rome
BEGIN:DAYLIGHT
TZOFFSETFROM:+0100
TZOFFSETTO:+0200
TZNAME:CEST
DTSTART:20210328T010000
END:DAYLIGHT
BEGIN:STANDARD
TZOFFSETFROM:+0200
TZOFFSETTO:+0100
TZNAME:CET
DTSTART:20211031T010000
END:STANDARD
BEGIN:DAYLIGHT
TZOFFSETFROM:+0100
TZOFFSETTO:+0200
TZNAME:CEST
DTSTART:20220327T010000
END:DAYLIGHT
BEGIN:STANDARD
TZOFFSETFROM:+0200
TZOFFSETTO:+0100
TZNAME:CET
DTSTART:20221030T010000
END:STANDARD
BEGIN:DAYLIGHT
TZOFFSETFROM:+0100
TZOFFSETTO:+0200
TZNAME:CEST
DTSTART:20230326T010000
END:DAYLIGHT
BEGIN:STANDARD
TZOFFSETFROM:+0200
TZOFFSETTO:+0100
TZNAME:CET
DTSTART:20231029T010000
END:STANDARD
END:VTIMEZONE
BEGIN:VEVENT
DTSTART;TZID=Europe/Rome:20221007T143000
DTEND;TZID=Europe/Rome:20221007T173000
DTSTAMP:20260421T062039
CREATED:20221005T153432Z
LAST-MODIFIED:20221005T153432Z
UID:35597-1665153000-1665163800@www.improntaetica.org
SUMMARY:07/10 | Un patto per il lavoro e lo sviluppo sostenibile
DESCRIPTION:Un evento CERS in occasione del Festival dello Sviluppo Sostenibile.\nSi terrà venerdì 7 ottobre dalle ore 14.30 alle ore 17:30 presso il CUBO Condividere Cultura in Piazza Vieira de Mello 3/5 l’evento di CERS “Un patto per il lavoro e lo sviluppo sostenibile“. \nTra i relatori anche il socio di Impronta Etica Legacoop Bologna. \nSCARICA LA LOCANDINA \n 
URL:https://www.improntaetica.org/evento/07-10-un-patto-per-il-lavoro-e-lo-sviluppo-sostenibile/
ATTACH;FMTTYPE=image/png:https://www.improntaetica.org/wp-content/uploads/2022/02/cers-evento.png
END:VEVENT
END:VCALENDAR