BEGIN:VCALENDAR
VERSION:2.0
PRODID:-//Impronta Etica - ECPv6.15.20//NONSGML v1.0//EN
CALSCALE:GREGORIAN
METHOD:PUBLISH
X-ORIGINAL-URL:https://www.improntaetica.org
X-WR-CALDESC:Eventi per Impronta Etica
REFRESH-INTERVAL;VALUE=DURATION:PT1H
X-Robots-Tag:noindex
X-PUBLISHED-TTL:PT1H
BEGIN:VTIMEZONE
TZID:Europe/Rome
BEGIN:DAYLIGHT
TZOFFSETFROM:+0100
TZOFFSETTO:+0200
TZNAME:CEST
DTSTART:20210328T010000
END:DAYLIGHT
BEGIN:STANDARD
TZOFFSETFROM:+0200
TZOFFSETTO:+0100
TZNAME:CET
DTSTART:20211031T010000
END:STANDARD
BEGIN:DAYLIGHT
TZOFFSETFROM:+0100
TZOFFSETTO:+0200
TZNAME:CEST
DTSTART:20220327T010000
END:DAYLIGHT
BEGIN:STANDARD
TZOFFSETFROM:+0200
TZOFFSETTO:+0100
TZNAME:CET
DTSTART:20221030T010000
END:STANDARD
BEGIN:DAYLIGHT
TZOFFSETFROM:+0100
TZOFFSETTO:+0200
TZNAME:CEST
DTSTART:20230326T010000
END:DAYLIGHT
BEGIN:STANDARD
TZOFFSETFROM:+0200
TZOFFSETTO:+0100
TZNAME:CET
DTSTART:20231029T010000
END:STANDARD
BEGIN:DAYLIGHT
TZOFFSETFROM:+0100
TZOFFSETTO:+0200
TZNAME:CEST
DTSTART:20240331T010000
END:DAYLIGHT
BEGIN:STANDARD
TZOFFSETFROM:+0200
TZOFFSETTO:+0100
TZNAME:CET
DTSTART:20241027T010000
END:STANDARD
END:VTIMEZONE
BEGIN:VEVENT
DTSTART;TZID=Europe/Rome:20231213T110000
DTEND;TZID=Europe/Rome:20231213T120000
DTSTAMP:20260421T035735
CREATED:20231204T094047Z
LAST-MODIFIED:20231204T094047Z
UID:38098-1702465200-1702468800@www.improntaetica.org
SUMMARY:13/12 | Il Regolamento sui prodotti a deforestazione zero è in vigore per produttori e commercianti di prodotti ottenuti da bovini\, cacao\, caffè\, olio di palma\, soia e legno.
DESCRIPTION:Cosa fare entro dicembre 2024?\nSi terrà il 13 dicembre dalle ore 11.00 alle ore 12.00 il webinar di Sustainability Makers dal titolo “Il Regolamento sui prodotti a deforestazione zero è in vigore per produttori e commercianti di prodotti ottenuti da bovini\, cacao\, caffè\, olio di palma\, soia e legno. Cosa fare entro dicembre 2024?”. \nE’ possibile iscriversi e ottenere maggiori informazioni sono disponibili al seguente link.
URL:https://www.improntaetica.org/evento/13-12-il-regolamento-sui-prodotti-a-deforestazione-zero-e-in-vigore-per-produttori-e-commercianti-di-prodotti-ottenuti-da-bovini-cacao-caffe-olio-di-palma-soia-e-legno/
ATTACH;FMTTYPE=image/png:https://www.improntaetica.org/wp-content/uploads/2021/11/sustainability-makers.png
END:VEVENT
BEGIN:VEVENT
DTSTART;TZID=Europe/Rome:20221013T180000
DTEND;TZID=Europe/Rome:20221013T180000
DTSTAMP:20260421T035735
CREATED:20221011T145226Z
LAST-MODIFIED:20221011T145226Z
UID:35638-1665684000-1665684000@www.improntaetica.org
SUMMARY:13/10 | Un futuro senza caffè?
DESCRIPTION:Un incontro con esperti del settore per parlare degli effetti della crisi climatica ed economica sulle filiere alimentari.\nSi terrà giovedì 13 ottobre 2022 alle ore 18:00 l’evento di Coop Alleanza 3.0 dedicato agli effetti dell’emergenza climatica sulle filiere alimentari\, con Fairtrade e Coop Italia e nell’ambito del festival dell’Alleanza Italiana per lo Sviluppo Sostenibile (ASVIS). Un incontro per  indagare come fenomeni metereologici estremi possano mettere a repentaglio la coltivazione di uno dei prodotti più consumati del pianeta\, il caffè. \nAd accompagnarci in questo viaggio nella cosiddetta “cintura del caffè”\, che si espande dal Tropico del Capricorno a quello del Cancro\, ci saranno Griselda Jarquín López\, direttrice Cooperativa Uca San Juan de Rio Coco in Nicaragua\, Giulia Camparsi\, Supply Chain Manager Fairtrade Italia e Paolo Bonsignore di Coop Italia. L’incontro è moderato dalla giornalista del Sole 24 Ore Micaela Cappellini. \nL’incontro potrà essere seguito in live streaming gratuito dai soci e clienti di Coop Alleanza 3.0.  \nMaggiori informazioni sono disponibili al seguente link. \nE’ possibile iscriversi al seguente link.
URL:https://www.improntaetica.org/evento/13-10-un-futuro-senza-caffe/
ATTACH;FMTTYPE=image/jpeg:https://www.improntaetica.org/wp-content/uploads/2019/06/Coop-Alleanza3-1-e1459419334509.jpg
END:VEVENT
END:VCALENDAR