BEGIN:VCALENDAR
VERSION:2.0
PRODID:-//Impronta Etica - ECPv6.15.20//NONSGML v1.0//EN
CALSCALE:GREGORIAN
METHOD:PUBLISH
X-WR-CALNAME:Impronta Etica
X-ORIGINAL-URL:https://www.improntaetica.org
X-WR-CALDESC:Eventi per Impronta Etica
REFRESH-INTERVAL;VALUE=DURATION:PT1H
X-Robots-Tag:noindex
X-PUBLISHED-TTL:PT1H
BEGIN:VTIMEZONE
TZID:Europe/Rome
BEGIN:DAYLIGHT
TZOFFSETFROM:+0100
TZOFFSETTO:+0200
TZNAME:CEST
DTSTART:20240331T010000
END:DAYLIGHT
BEGIN:STANDARD
TZOFFSETFROM:+0200
TZOFFSETTO:+0100
TZNAME:CET
DTSTART:20241027T010000
END:STANDARD
BEGIN:DAYLIGHT
TZOFFSETFROM:+0100
TZOFFSETTO:+0200
TZNAME:CEST
DTSTART:20250330T010000
END:DAYLIGHT
BEGIN:STANDARD
TZOFFSETFROM:+0200
TZOFFSETTO:+0100
TZNAME:CET
DTSTART:20251026T010000
END:STANDARD
BEGIN:DAYLIGHT
TZOFFSETFROM:+0100
TZOFFSETTO:+0200
TZNAME:CEST
DTSTART:20260329T010000
END:DAYLIGHT
BEGIN:STANDARD
TZOFFSETFROM:+0200
TZOFFSETTO:+0100
TZNAME:CET
DTSTART:20261025T010000
END:STANDARD
END:VTIMEZONE
BEGIN:VEVENT
DTSTART;TZID=Europe/Rome:20251022T143000
DTEND;TZID=Europe/Rome:20251022T173000
DTSTAMP:20260421T051047
CREATED:20250905T142819Z
LAST-MODIFIED:20250912T120709Z
UID:41594-1761143400-1761154200@www.improntaetica.org
SUMMARY:22/10 | Forum Sostenibilità 2025 - Focus Imprese
DESCRIPTION:Un evento dedicato ad esplorare l’importanza strategica della sostenibilità.\nSi terrà il 22 ottobre dalle 14.30 alle 17.30\, in forma mista in presenza e online\, presso l’Auditorium della Tecnica a Roma la tappa Focus Imprese della nuova edizione del Forum Sostenibilità 2025 a cura de Il Sole 24 Ore. \nL’evento offrirà la possibilità di esplorare la sostenibilità sotto il punto di vista strategico evidenziando il ruolo competitivo e identitario per ogni impresa. Le aziende sono chiamate a ripensare modelli produttivi\, processi interni\, filiere e culture aziendali con uno sguardo rivolto al lungo periodo. \nIl Focus Imprese del Forum Sostenibilità 2025 sarà l’occasione per esplorare le nuove prospettive della transizione sostenibile sotto tutte le dimensioni della sostenibilità. Un confronto aperto su come integrare la sostenibilità nelle proprie strategie\, anche attraverso un’evoluzione culturale capace di generare valore condiviso. \nA coronamento di questo percorso\, la quarta edizione del Premio Impresa Sostenibile premierà le PMI che si distinguono per l’integrazione della sostenibilità nel proprio modello di business. \nMaggiori informazioni su come registrarsi e sul programma sono disponibili al seguente link.
URL:https://www.improntaetica.org/evento/22-10-forum-sostenibilita-2025-focus-imprese/
CATEGORIES:Eventi 2025
ATTACH;FMTTYPE=image/png:https://www.improntaetica.org/wp-content/uploads/2025/07/sole-24-ore-e1753971537462.png
END:VEVENT
END:VCALENDAR