BEGIN:VCALENDAR
VERSION:2.0
PRODID:-//Impronta Etica - ECPv6.15.20//NONSGML v1.0//EN
CALSCALE:GREGORIAN
METHOD:PUBLISH
X-WR-CALNAME:Impronta Etica
X-ORIGINAL-URL:https://www.improntaetica.org
X-WR-CALDESC:Eventi per Impronta Etica
REFRESH-INTERVAL;VALUE=DURATION:PT1H
X-Robots-Tag:noindex
X-PUBLISHED-TTL:PT1H
BEGIN:VTIMEZONE
TZID:Europe/Rome
BEGIN:DAYLIGHT
TZOFFSETFROM:+0100
TZOFFSETTO:+0200
TZNAME:CEST
DTSTART:20210328T010000
END:DAYLIGHT
BEGIN:STANDARD
TZOFFSETFROM:+0200
TZOFFSETTO:+0100
TZNAME:CET
DTSTART:20211031T010000
END:STANDARD
BEGIN:DAYLIGHT
TZOFFSETFROM:+0100
TZOFFSETTO:+0200
TZNAME:CEST
DTSTART:20220327T010000
END:DAYLIGHT
BEGIN:STANDARD
TZOFFSETFROM:+0200
TZOFFSETTO:+0100
TZNAME:CET
DTSTART:20221030T010000
END:STANDARD
BEGIN:DAYLIGHT
TZOFFSETFROM:+0100
TZOFFSETTO:+0200
TZNAME:CEST
DTSTART:20230326T010000
END:DAYLIGHT
BEGIN:STANDARD
TZOFFSETFROM:+0200
TZOFFSETTO:+0100
TZNAME:CET
DTSTART:20231029T010000
END:STANDARD
BEGIN:DAYLIGHT
TZOFFSETFROM:+0100
TZOFFSETTO:+0200
TZNAME:CEST
DTSTART:20240331T010000
END:DAYLIGHT
BEGIN:STANDARD
TZOFFSETFROM:+0200
TZOFFSETTO:+0100
TZNAME:CET
DTSTART:20241027T010000
END:STANDARD
BEGIN:DAYLIGHT
TZOFFSETFROM:+0100
TZOFFSETTO:+0200
TZNAME:CEST
DTSTART:20250330T010000
END:DAYLIGHT
BEGIN:STANDARD
TZOFFSETFROM:+0200
TZOFFSETTO:+0100
TZNAME:CET
DTSTART:20251026T010000
END:STANDARD
BEGIN:DAYLIGHT
TZOFFSETFROM:+0100
TZOFFSETTO:+0200
TZNAME:CEST
DTSTART:20260329T010000
END:DAYLIGHT
BEGIN:STANDARD
TZOFFSETFROM:+0200
TZOFFSETTO:+0100
TZNAME:CET
DTSTART:20261025T010000
END:STANDARD
END:VTIMEZONE
BEGIN:VEVENT
DTSTART;TZID=Europe/Rome:20251203T090000
DTEND;TZID=Europe/Rome:20251203T173000
DTSTAMP:20260421T035615
CREATED:20251202T101729Z
LAST-MODIFIED:20251202T101729Z
UID:42103-1764752400-1764783000@www.improntaetica.org
SUMMARY:03/12 | "ECOSISTER È..."
DESCRIPTION:Accademia e imprese unite per il futuro sostenibile dell’Emilia Romagna.\nIl 3 dicembre 2025\, dalle 9:00 alle 17:30\, l’Aula Magna Santa Lucia dell’Università di Bologna ospiterà “ECOSISTER È…”\, l’evento che riunisce università\, imprese e istituzioni per discutere il futuro della sostenibilità e dell’innovazione in Emilia-Romagna. \nL’iniziativa presenterà i risultati dell’ecosistema ECOSISTER nato grazie ai fondi PNRR e dedicato a ricerca avanzata\, trasferimento tecnologico e collaborazione pubblico-privato\, a cui ha fatto parte anche Impronta Etica partecipando al progetto R-Innoviamo l’economia circolare. La giornata si aprirà con i saluti del Rettore Giovanni Molari e un confronto sul ruolo del sistema Paese\, seguiranno contributi del MUR e dei responsabili scientifici del progetto\, fino ad arrivare alla conclusione con la lectio del professor Andrew Hoffman sulla sostenibilità globale. Nel pomeriggio verrà invece dato spazio ai sei Spoke tematici\, ai risultati del Programma di Trasferimento Tecnologico e al quiz interattivo “Chi vuol essere Ecosister?”. \nL’evento sarà accompagnato dal live dei Black Ball Boogies e dal visual artist YOBI\, per una giornata che celebra la ricerca e la sua trasformazione in valore per il territorio. \nLa partecipazione all’evento è gratuita previa iscrizione al seguente link. \nSCARICA IL PROGRAMMA COMPLETO
URL:https://www.improntaetica.org/evento/03-12-ecosister-e/
CATEGORIES:Eventi 2025
ATTACH;FMTTYPE=image/png:https://www.improntaetica.org/wp-content/uploads/2025/12/Screenshot-2025-12-01-170753.png
END:VEVENT
BEGIN:VEVENT
DTSTART;TZID=Europe/Rome:20221021T183000
DTEND;TZID=Europe/Rome:20221021T203000
DTSTAMP:20260421T035615
CREATED:20220916T145955Z
LAST-MODIFIED:20220923T082354Z
UID:35443-1666377000-1666384200@www.improntaetica.org
SUMMARY:21/10| Cambiare strada per una transizione ecologica giusta
DESCRIPTION:Meccanismi decisionali e scelte finanziarie nel processo di transizione.\nIl talk\, promosso dal Forum per la Finanza Sostenibile e da ANASF in collaborazione con Taxi1729\, si terrà il 21 ottobre dalle 18.30 alle 20.30 e  punta a far emergere i meccanismi mentali alla base delle nostre decisioni\, per comprendere dove il necessario processo di transizione a cui siamo chiamati rischia di arenarsi. Per realizzare una transizione ecologica giusta\, decarbonizzare l’economia e raggiungere gli obiettivi climatici è necessario cambiare strada. Servono decisioni lungimiranti e incisive sulle strategie da perseguire per ridurre emissioni e disuguaglianze sociali \nDi pari passo\, saranno analizzate anche opportunità e possibili soluzioni: gli investimenti sostenibili e il ruolo dei consulenti finanziari come guida per scelte finanziarie consapevoli. \nMaggiori informazioni sono disponibili al seguente link. \nE’ possibile iscriversi al seguente link. \n 
URL:https://www.improntaetica.org/evento/21-10-cambiare-strada-per-una-transizione-ecologica-giusta/
ATTACH;FMTTYPE=image/png:https://www.improntaetica.org/wp-content/uploads/2022/09/anasf.png
END:VEVENT
BEGIN:VEVENT
DTSTART;TZID=Europe/Rome:20220516T000000
DTEND;TZID=Europe/Rome:20220520T000000
DTSTAMP:20260421T035615
CREATED:20220310T154619Z
LAST-MODIFIED:20220310T154619Z
UID:34488-1652659200-1653004800@www.improntaetica.org
SUMMARY:16/05-20/05 | European Vocational Skills Week
DESCRIPTION:In arrivo la sesta edizione con focus su VET e Green Transition.\nLa Commissione Europea per il Lavoro e i Diritti Sociali lancia la sesta edizione dell’European Vocational Skills Week\, proponendo un focus incentrato sul VET (Vocational and Educational Training) e sulla Transizione Verde\, in linea con l’impegno dell’UE a favore del Green Deal europeo e il percorso verso l’azzeramento delle emissioni nette entro il 2050. \nL’obbiettivo della European Vocational Skills Week sarà quello di fornire la ricetta giusta in termini di competenze e conoscenze necessarie ad affrontare i due grandi temi su cui l’evento è incentrato\, con uno sguardo al futuro e alle giovani generazioni. \nMaggiori informazioni sono disponibili al seguente link.
URL:https://www.improntaetica.org/evento/16-05-20-05-european-vocational-skills-week/
ATTACH;FMTTYPE=image/jpeg:https://www.improntaetica.org/wp-content/uploads/2020/01/commissione-europea-impronta-etica-e1741190441692.jpg
END:VEVENT
END:VCALENDAR