BEGIN:VCALENDAR
VERSION:2.0
PRODID:-//Impronta Etica - ECPv6.15.20//NONSGML v1.0//EN
CALSCALE:GREGORIAN
METHOD:PUBLISH
X-ORIGINAL-URL:https://www.improntaetica.org
X-WR-CALDESC:Eventi per Impronta Etica
REFRESH-INTERVAL;VALUE=DURATION:PT1H
X-Robots-Tag:noindex
X-PUBLISHED-TTL:PT1H
BEGIN:VTIMEZONE
TZID:Europe/Rome
BEGIN:DAYLIGHT
TZOFFSETFROM:+0100
TZOFFSETTO:+0200
TZNAME:CEST
DTSTART:20220327T010000
END:DAYLIGHT
BEGIN:STANDARD
TZOFFSETFROM:+0200
TZOFFSETTO:+0100
TZNAME:CET
DTSTART:20221030T010000
END:STANDARD
BEGIN:DAYLIGHT
TZOFFSETFROM:+0100
TZOFFSETTO:+0200
TZNAME:CEST
DTSTART:20230326T010000
END:DAYLIGHT
BEGIN:STANDARD
TZOFFSETFROM:+0200
TZOFFSETTO:+0100
TZNAME:CET
DTSTART:20231029T010000
END:STANDARD
BEGIN:DAYLIGHT
TZOFFSETFROM:+0100
TZOFFSETTO:+0200
TZNAME:CEST
DTSTART:20240331T010000
END:DAYLIGHT
BEGIN:STANDARD
TZOFFSETFROM:+0200
TZOFFSETTO:+0100
TZNAME:CET
DTSTART:20241027T010000
END:STANDARD
END:VTIMEZONE
BEGIN:VEVENT
DTSTART;TZID=Europe/Rome:20230308T085000
DTEND;TZID=Europe/Rome:20230308T095000
DTSTAMP:20260421T033434
CREATED:20230301T155154Z
LAST-MODIFIED:20230301T155154Z
UID:36520-1678265400-1678269000@www.improntaetica.org
SUMMARY:08/03 | Ring the Bell for Gender Equality 2023
DESCRIPTION:Oltre 100 Borse in tutto il mondo dedicano l’apertura del mercato dell’8 marzo alla parità di genere.\nBorsa Italiana\, con le altre 6 borse del gruppo Euronext\, si unisce a questo network mondiale e l’8 marzo dedica il tradizionale suono della campanella di apertura del mercato ai temi della gender equality e della valorizzazione del talento femminile.\n\nL’ evento è organizzato in partnership con UN Global Compact Network Italia e Women in ETFs.\n\nE possibile visualizzare il programma\, ottenere maggiori informazioni e iscriversi al seguente link.
URL:https://www.improntaetica.org/evento/08-03-ring-the-bell-for-gender-equality-2023/
ATTACH;FMTTYPE=image/jpeg:https://www.improntaetica.org/wp-content/uploads/2023/03/bordsa.jpg
END:VEVENT
END:VCALENDAR