BEGIN:VCALENDAR
VERSION:2.0
PRODID:-//Impronta Etica - ECPv6.15.20//NONSGML v1.0//EN
CALSCALE:GREGORIAN
METHOD:PUBLISH
X-WR-CALNAME:Impronta Etica
X-ORIGINAL-URL:https://www.improntaetica.org
X-WR-CALDESC:Eventi per Impronta Etica
REFRESH-INTERVAL;VALUE=DURATION:PT1H
X-Robots-Tag:noindex
X-PUBLISHED-TTL:PT1H
BEGIN:VTIMEZONE
TZID:Europe/Rome
BEGIN:DAYLIGHT
TZOFFSETFROM:+0100
TZOFFSETTO:+0200
TZNAME:CEST
DTSTART:20210328T010000
END:DAYLIGHT
BEGIN:STANDARD
TZOFFSETFROM:+0200
TZOFFSETTO:+0100
TZNAME:CET
DTSTART:20211031T010000
END:STANDARD
BEGIN:DAYLIGHT
TZOFFSETFROM:+0100
TZOFFSETTO:+0200
TZNAME:CEST
DTSTART:20220327T010000
END:DAYLIGHT
BEGIN:STANDARD
TZOFFSETFROM:+0200
TZOFFSETTO:+0100
TZNAME:CET
DTSTART:20221030T010000
END:STANDARD
BEGIN:DAYLIGHT
TZOFFSETFROM:+0100
TZOFFSETTO:+0200
TZNAME:CEST
DTSTART:20230326T010000
END:DAYLIGHT
BEGIN:STANDARD
TZOFFSETFROM:+0200
TZOFFSETTO:+0100
TZNAME:CET
DTSTART:20231029T010000
END:STANDARD
END:VTIMEZONE
BEGIN:VEVENT
DTSTART;TZID=Europe/Rome:20220704T170000
DTEND;TZID=Europe/Rome:20220704T192000
DTSTAMP:20260421T060859
CREATED:20220630T120758Z
LAST-MODIFIED:20220630T120758Z
UID:35037-1656954000-1656962400@www.improntaetica.org
SUMMARY:04\07 | O.I.B.R: Previsione delle crisi d'impresa
DESCRIPTION:Informazioni non finanziarie per gli adeguati assetti e per la previsione delle crisi nelle PMI.\nIl tema della previsione della crisi di impresa ha avuto negli ultimi anni un’accelerazione in precedenza non facilmente immaginabile. Sarà questo il tema del webinar organizzato da Fondazione O.I.B.R. che si terrà il 4 luglio dalle ore 17:00 alle ore 19:20\, inserendosi  in questo filone in modo innovativo\, portando con sé una sfida concettuale rilevante: quella di mettere in luce come anche le informazioni “non finanziarie”\, oltre o insieme a quelle finanziarie tradizionalmente considerate\, debbano essere rappresentate e considerate nella direzione di utilmente perseguire il duplice obiettivo di strutturare adeguati assetti organizzativi\, amministrativi e contabili\, e di prevedere le crisi nelle piccole e medie imprese.  \nLa crescente rilevanza delle informazioni “non finanziarie” nella vita delle imprese non soddisfa solo una pressante esigenza di conoscenza in tema di sostenibilità\, ma può far fronte a specifiche attese che hanno un impatto decisionale importante per i soggetti d’impresa\, per gli interlocutori esterni e per i professionisti in particolare. \nIl presente Webinar mira a proporre e a discutere questo approccio innovativo a tali importanti tematiche aziendali e professionali. \nE’ possibile scaricare il programma e iscriversi al seguente link. \n 
URL:https://www.improntaetica.org/evento/0407-o-i-b-r-previsione-delle-crisi-dimpresa/
ATTACH;FMTTYPE=image/png:https://www.improntaetica.org/wp-content/uploads/2019/08/oibr.png
END:VEVENT
END:VCALENDAR