BEGIN:VCALENDAR
VERSION:2.0
PRODID:-//Impronta Etica - ECPv6.15.20//NONSGML v1.0//EN
CALSCALE:GREGORIAN
METHOD:PUBLISH
X-ORIGINAL-URL:https://www.improntaetica.org
X-WR-CALDESC:Eventi per Impronta Etica
REFRESH-INTERVAL;VALUE=DURATION:PT1H
X-Robots-Tag:noindex
X-PUBLISHED-TTL:PT1H
BEGIN:VTIMEZONE
TZID:Europe/Rome
BEGIN:DAYLIGHT
TZOFFSETFROM:+0100
TZOFFSETTO:+0200
TZNAME:CEST
DTSTART:20240331T010000
END:DAYLIGHT
BEGIN:STANDARD
TZOFFSETFROM:+0200
TZOFFSETTO:+0100
TZNAME:CET
DTSTART:20241027T010000
END:STANDARD
BEGIN:DAYLIGHT
TZOFFSETFROM:+0100
TZOFFSETTO:+0200
TZNAME:CEST
DTSTART:20250330T010000
END:DAYLIGHT
BEGIN:STANDARD
TZOFFSETFROM:+0200
TZOFFSETTO:+0100
TZNAME:CET
DTSTART:20251026T010000
END:STANDARD
BEGIN:DAYLIGHT
TZOFFSETFROM:+0100
TZOFFSETTO:+0200
TZNAME:CEST
DTSTART:20260329T010000
END:DAYLIGHT
BEGIN:STANDARD
TZOFFSETFROM:+0200
TZOFFSETTO:+0100
TZNAME:CET
DTSTART:20261025T010000
END:STANDARD
END:VTIMEZONE
BEGIN:VEVENT
DTSTART;VALUE=DATE:20250605
DTEND;VALUE=DATE:20250608
DTSTAMP:20260421T074853
CREATED:20250510T105631Z
LAST-MODIFIED:20250514T123945Z
UID:41149-1749081600-1749340799@www.improntaetica.org
SUMMARY:05/06-07/06 | Festival Green&Blue 2025
DESCRIPTION:Ripartiamo da zero.\nSi svolgerà dal 5 al 7 giugno in presenza a Milano presso il Museo Nazional Scienza e Tecnologia Leonardo da Vinci\, in via Olona 4\, la nuova edizione del Green&Blue Festival organizzata dal GEDI Gruppo Editoriale. \nAnche l’edizione di quest’anno rappresenterà una grande occasione di riflessione comune su come affrontare la crisi climatica attraverso ampie sessioni tematiche\, workshop e show di divulgazione. \nL’edizione di quest’anno intende riflettere su come i numeri possano essere il nuovo mezzo attraverso il quale  indirizzare le politiche e gli strumenti per affrontare il cambiamento climatico verso una transizione sostenibile. \nMaggiori informazioni sul programma e su come iscriversi sono disponibili al seguente link.
URL:https://www.improntaetica.org/evento/05-06-07-06-festival-greenblue-2025/
CATEGORIES:Eventi 2025
ATTACH;FMTTYPE=image/jpeg:https://www.improntaetica.org/wp-content/uploads/2025/04/c4c92d51-b0cc-482a-8d9a-e9925ccbf1d9-e1745855110329.jpeg
END:VEVENT
END:VCALENDAR