BEGIN:VCALENDAR
VERSION:2.0
PRODID:-//Impronta Etica - ECPv6.15.20//NONSGML v1.0//EN
CALSCALE:GREGORIAN
METHOD:PUBLISH
X-WR-CALNAME:Impronta Etica
X-ORIGINAL-URL:https://www.improntaetica.org
X-WR-CALDESC:Eventi per Impronta Etica
REFRESH-INTERVAL;VALUE=DURATION:PT1H
X-Robots-Tag:noindex
X-PUBLISHED-TTL:PT1H
BEGIN:VTIMEZONE
TZID:Europe/Rome
BEGIN:DAYLIGHT
TZOFFSETFROM:+0100
TZOFFSETTO:+0200
TZNAME:CEST
DTSTART:20210328T010000
END:DAYLIGHT
BEGIN:STANDARD
TZOFFSETFROM:+0200
TZOFFSETTO:+0100
TZNAME:CET
DTSTART:20211031T010000
END:STANDARD
BEGIN:DAYLIGHT
TZOFFSETFROM:+0100
TZOFFSETTO:+0200
TZNAME:CEST
DTSTART:20220327T010000
END:DAYLIGHT
BEGIN:STANDARD
TZOFFSETFROM:+0200
TZOFFSETTO:+0100
TZNAME:CET
DTSTART:20221030T010000
END:STANDARD
BEGIN:DAYLIGHT
TZOFFSETFROM:+0100
TZOFFSETTO:+0200
TZNAME:CEST
DTSTART:20230326T010000
END:DAYLIGHT
BEGIN:STANDARD
TZOFFSETFROM:+0200
TZOFFSETTO:+0100
TZNAME:CET
DTSTART:20231029T010000
END:STANDARD
BEGIN:DAYLIGHT
TZOFFSETFROM:+0100
TZOFFSETTO:+0200
TZNAME:CEST
DTSTART:20240331T010000
END:DAYLIGHT
BEGIN:STANDARD
TZOFFSETFROM:+0200
TZOFFSETTO:+0100
TZNAME:CET
DTSTART:20241027T010000
END:STANDARD
BEGIN:DAYLIGHT
TZOFFSETFROM:+0100
TZOFFSETTO:+0200
TZNAME:CEST
DTSTART:20250330T010000
END:DAYLIGHT
BEGIN:STANDARD
TZOFFSETFROM:+0200
TZOFFSETTO:+0100
TZNAME:CET
DTSTART:20251026T010000
END:STANDARD
END:VTIMEZONE
BEGIN:VEVENT
DTSTART;TZID=Europe/Rome:20240603T090000
DTEND;TZID=Europe/Rome:20240603T133000
DTSTAMP:20260421T063245
CREATED:20240527T142915Z
LAST-MODIFIED:20240527T142915Z
UID:39103-1717405200-1717421400@www.improntaetica.org
SUMMARY:03/06 | 7° Conferenza Nazionale delle Green City
DESCRIPTION:Si terrà il prossimo 3 giugno a Milano nell’ambito del Festival Green&Blue 2024 la Conferenza della Fondazione per lo Sviluppo Sostenibile\, dedicata al tema “Verso le Nature-Positive Cities” si svolgerà dalle 9.00 alle 13.30 presso gli IBM Studios in Piazza Gae Aulenti 10. \nIn tale occasione verrà presentata la Carta per le Nature-Positive Cities. La crescita del benessere nelle città\, per molto tempo\, ha coinciso con un elevato consumo di natura e con una forte crescita di emissioni di gas serra che alimentano forti preoccupazioni per il presente e\, ancor più\, per il futuro. \nMaggiori informazioni sono disponibili al seguente link. \nSCARICA IL PROGRAMMA
URL:https://www.improntaetica.org/evento/03-06-7-conferenza-nazionale-delle-green-city/
ATTACH;FMTTYPE=image/gif:https://www.improntaetica.org/wp-content/uploads/2019/06/logo_fondazione.gif
END:VEVENT
BEGIN:VEVENT
DTSTART;TZID=Europe/Rome:20220606T150000
DTEND;TZID=Europe/Rome:20220606T173000
DTSTAMP:20260421T063245
CREATED:20220524T064700Z
LAST-MODIFIED:20220524T064700Z
UID:34890-1654527600-1654536600@www.improntaetica.org
SUMMARY:06\06 | Conferenza Nazionale delle Green City
DESCRIPTION:Presentati i risultati dell’indagine sull’Impegno delle città verso la neutralità climatica. \nSi terrà il 6 giugno a Milano presso i Bagni Misteriosi del Teatro Franco Parenti in Via Carlo Botta 18 dalle 15.00 alle 17.30 la Conferenza Nazionale delle Green City promossa dal Green City Network della Fondazione per lo sviluppo sostenibile\, in collaborazione con il Gestore dei Servizi Energetici – GSE SpA\, che si terrà nell’ambito del primo Festival per la Giornata Mondiale dell’Ambiente di Green&Blue organizzato dal Gruppo GEDI. \nIn tale occasione verranno presentati i risultati dell’indagine sull’Impegno delle città verso la neutralità climatica condotta su un campione di città italiane di diverse dimensioni tra marzo e aprile 2022. \nLa conferenza sarà aperta dalla relazione introduttiva di Edo Ronchi\, Presidente della Fondazione per lo sviluppo sostenibile. A seguire\, moderati da Jaime D’Alessandro di La Repubblica\, interverranno Andrea Ripa di Meana\, Amministratore Unico del GSE e Francesco La Camera\, Direttore Generale di IRENA – International Renewable Energy Agency. Presenterà le best practice europee Fabrizio Tucci\, Direttore del Dipartimento PDTA della Sapienza Università di Roma. Si terrà poi la tavola rotonda con le città aperta dal Sindaco di Milano\, Beppe Sala\, a cui parteciperanno i Sindaci di diverse città italiane. \nE’ possibile consultare il programma al seguente link.  \nE’ possibile registrarsi al seguente link.  \n  \n 
URL:https://www.improntaetica.org/evento/0606-conferenza-nazionale-delle-green-city/
ATTACH;FMTTYPE=image/gif:https://www.improntaetica.org/wp-content/uploads/2019/06/logo_fondazione.gif
END:VEVENT
END:VCALENDAR