BEGIN:VCALENDAR
VERSION:2.0
PRODID:-//Impronta Etica - ECPv6.15.20//NONSGML v1.0//EN
CALSCALE:GREGORIAN
METHOD:PUBLISH
X-ORIGINAL-URL:https://www.improntaetica.org
X-WR-CALDESC:Eventi per Impronta Etica
REFRESH-INTERVAL;VALUE=DURATION:PT1H
X-Robots-Tag:noindex
X-PUBLISHED-TTL:PT1H
BEGIN:VTIMEZONE
TZID:Europe/Rome
BEGIN:DAYLIGHT
TZOFFSETFROM:+0100
TZOFFSETTO:+0200
TZNAME:CEST
DTSTART:20220327T010000
END:DAYLIGHT
BEGIN:STANDARD
TZOFFSETFROM:+0200
TZOFFSETTO:+0100
TZNAME:CET
DTSTART:20221030T010000
END:STANDARD
BEGIN:DAYLIGHT
TZOFFSETFROM:+0100
TZOFFSETTO:+0200
TZNAME:CEST
DTSTART:20230326T010000
END:DAYLIGHT
BEGIN:STANDARD
TZOFFSETFROM:+0200
TZOFFSETTO:+0100
TZNAME:CET
DTSTART:20231029T010000
END:STANDARD
BEGIN:DAYLIGHT
TZOFFSETFROM:+0100
TZOFFSETTO:+0200
TZNAME:CEST
DTSTART:20240331T010000
END:DAYLIGHT
BEGIN:STANDARD
TZOFFSETFROM:+0200
TZOFFSETTO:+0100
TZNAME:CET
DTSTART:20241027T010000
END:STANDARD
END:VTIMEZONE
BEGIN:VEVENT
DTSTART;TZID=Europe/Rome:20230317T090000
DTEND;TZID=Europe/Rome:20230317T160000
DTSTAMP:20260421T065102
CREATED:20230309T144410Z
LAST-MODIFIED:20230309T144410Z
UID:36587-1679043600-1679068800@www.improntaetica.org
SUMMARY:17/03 | Energy technologies for the mobility revolution
DESCRIPTION:Seminario organizzato dal Politecnico di Milano.\nIl Politecnico di Milano organizza un seminario a partecipazione libera dal titolo “Energy technologies for the mobility revolution”. \nL’evento si terrà in forma ibrida\, tramite diretta streaming YouTube e presso il Campus Bovis\, Carassa Dadda Conference Hall\, Politecnico di Milano.  \nE’ possibile registrarsi al seguente link. \nMaggiori informazioni sono disponibili al seguente link. \nSCARICA IL PROGRAMMA
URL:https://www.improntaetica.org/evento/17-03-energy-technologies-for-the-mobility-revolution/
ATTACH;FMTTYPE=image/jpeg:https://www.improntaetica.org/wp-content/uploads/2023/03/SCARICA-IL-VOLANTINO.jpg
END:VEVENT
END:VCALENDAR