BEGIN:VCALENDAR
VERSION:2.0
PRODID:-//Impronta Etica - ECPv6.15.20//NONSGML v1.0//EN
CALSCALE:GREGORIAN
METHOD:PUBLISH
X-WR-CALNAME:Impronta Etica
X-ORIGINAL-URL:https://www.improntaetica.org
X-WR-CALDESC:Eventi per Impronta Etica
REFRESH-INTERVAL;VALUE=DURATION:PT1H
X-Robots-Tag:noindex
X-PUBLISHED-TTL:PT1H
BEGIN:VTIMEZONE
TZID:Europe/Rome
BEGIN:DAYLIGHT
TZOFFSETFROM:+0100
TZOFFSETTO:+0200
TZNAME:CEST
DTSTART:20170326T010000
END:DAYLIGHT
BEGIN:STANDARD
TZOFFSETFROM:+0200
TZOFFSETTO:+0100
TZNAME:CET
DTSTART:20171029T010000
END:STANDARD
BEGIN:DAYLIGHT
TZOFFSETFROM:+0100
TZOFFSETTO:+0200
TZNAME:CEST
DTSTART:20180325T010000
END:DAYLIGHT
BEGIN:STANDARD
TZOFFSETFROM:+0200
TZOFFSETTO:+0100
TZNAME:CET
DTSTART:20181028T010000
END:STANDARD
BEGIN:DAYLIGHT
TZOFFSETFROM:+0100
TZOFFSETTO:+0200
TZNAME:CEST
DTSTART:20190331T010000
END:DAYLIGHT
BEGIN:STANDARD
TZOFFSETFROM:+0200
TZOFFSETTO:+0100
TZNAME:CET
DTSTART:20191027T010000
END:STANDARD
END:VTIMEZONE
BEGIN:VEVENT
DTSTART;VALUE=DATE:20180521
DTEND;VALUE=DATE:20180526
DTSTAMP:20260421T072249
CREATED:20180507T105954Z
LAST-MODIFIED:20180507T105954Z
UID:14681-1526860800-1527292799@www.improntaetica.org
SUMMARY:La Settimana verde europea 2018
DESCRIPTION:#EUGREENWEEK.\nLa Settimana verde europea 2018 esplorerà i modi in cui l’UE sta aiutando le città a diventare posti migliori dove vivere e lavorare. Illustrerà infatti gli sviluppi delle politiche in materia di qualità dell’aria\, inquinamento acustico\, natura e biodiversità\, rifiuti e gestione delle risorse idriche e promuoverà approcci partecipativi allo sviluppo urbano\, programmi di networking e strumenti per la condivisione delle migliori pratiche. Al contempo\, sosterrà le forme di coinvolgimento delle autorità locali e dei cittadini e li incoraggerà a creare insieme la loro visione di un futuro sostenibile.\nLa settimana avrà ufficialmente inizio il 21 maggio a Utrecht (Paesi Bassi) e si concluderà il 25 maggio a Madrid (Spagna). L’High level EU Green Cities Summit si svolgerà a Bruxelles tra il 22 e il 24 maggio.\nMaggiori informazioni e il calendario degli eventi sono consultabili al seguente link.
URL:https://www.improntaetica.org/evento/la-settimana-verde-europea-2018/
ATTACH;FMTTYPE=:
END:VEVENT
BEGIN:VEVENT
DTSTART;VALUE=DATE:20180313
DTEND;VALUE=DATE:20180319
DTSTAMP:20260421T072249
CREATED:20180309T140421Z
LAST-MODIFIED:20180309T140421Z
UID:14397-1520899200-1521417599@www.improntaetica.org
SUMMARY:Green Week 2018
DESCRIPTION:Il Festival di discussione sui temi della green economy.\nPromossa da Fondazione Symbola e ItalyPost\, con Comune di Trento\, Provincia Autonoma di Trento\, Università di Trento\, Fondazione Edmund Mach\, Fondazione Bruno Kessler\, MUSEMuseo delle Scienze e Trentino Sviluppo\, con la media partnership di Corriere della Sera ed Egea\, la Green Week ha l’obiettivo di proporsi come  forum di discussione sui temi della green economy e delle tecnologie del green-thinking.\nLa Green Week sarà divisa in due parti: \n\nda martedì 13 a giovedì 15 marzo\, la Green Week propone il tour nelle “Fabbriche della Sostenibilità” alla scoperta delle aziende d’eccellenza protagoniste dell’innovazione nel campo della sostenibilità;\nda venerdì 16 a domenica 18 marzo\, la manifestazione giungerà a Trento\, che per tre giorni sarà animata da dibattiti\, incontri ed eventi in un vero e proprio Festival della Green Economy.\n\nMaggiori informazioni sono disponibili al seguente link.\nIl programma è consultabile al seguente link.
URL:https://www.improntaetica.org/evento/green-week-2018/
LOCATION:Trento\, Trento
ATTACH;FMTTYPE=:
END:VEVENT
END:VCALENDAR