BEGIN:VCALENDAR
VERSION:2.0
PRODID:-//Impronta Etica - ECPv6.15.20//NONSGML v1.0//EN
CALSCALE:GREGORIAN
METHOD:PUBLISH
X-WR-CALNAME:Impronta Etica
X-ORIGINAL-URL:https://www.improntaetica.org
X-WR-CALDESC:Eventi per Impronta Etica
REFRESH-INTERVAL;VALUE=DURATION:PT1H
X-Robots-Tag:noindex
X-PUBLISHED-TTL:PT1H
BEGIN:VTIMEZONE
TZID:Europe/Rome
BEGIN:DAYLIGHT
TZOFFSETFROM:+0100
TZOFFSETTO:+0200
TZNAME:CEST
DTSTART:20220327T010000
END:DAYLIGHT
BEGIN:STANDARD
TZOFFSETFROM:+0200
TZOFFSETTO:+0100
TZNAME:CET
DTSTART:20221030T010000
END:STANDARD
BEGIN:DAYLIGHT
TZOFFSETFROM:+0100
TZOFFSETTO:+0200
TZNAME:CEST
DTSTART:20230326T010000
END:DAYLIGHT
BEGIN:STANDARD
TZOFFSETFROM:+0200
TZOFFSETTO:+0100
TZNAME:CET
DTSTART:20231029T010000
END:STANDARD
BEGIN:DAYLIGHT
TZOFFSETFROM:+0100
TZOFFSETTO:+0200
TZNAME:CEST
DTSTART:20240331T010000
END:DAYLIGHT
BEGIN:STANDARD
TZOFFSETFROM:+0200
TZOFFSETTO:+0100
TZNAME:CET
DTSTART:20241027T010000
END:STANDARD
END:VTIMEZONE
BEGIN:VEVENT
DTSTART;TZID=Europe/Rome:20230613T110000
DTEND;TZID=Europe/Rome:20230616T130000
DTSTAMP:20260421T082739
CREATED:20230530T085928Z
LAST-MODIFIED:20230530T085928Z
UID:37026-1686654000-1686920400@www.improntaetica.org
SUMMARY:13/06 - 16/06 | Hackathon solidale Big Bloom
DESCRIPTION: Fondazione Mission Bambini  come beneficiaria.\nSi terrà dal 13 al 16 giugno tra le 11:00 e le 13:00\, l’hackathon solidale di Big Bloom  per il quale La Fondazione Mission Bambini è stata selezionata come beneficiaria.  \nUna ventina di partecipanti provenienti da aziende saranno accompagnati da un’équipe di coach e designer formati alla metodologia Big Bloom basata sul Design Thinking per fare emergere delle soluzioni concrete per rispondere a una problematica della nostra associazione. Big Bloom mette a disposizione 2 posti gratuiti per le aziende del nostro network che volessero mettersi in gioco. \nL’evento è sponsorizzato da diverse grandi aziende come ABB\, Chanel\, Mediobanca\, ecc. Sarete accompagnati da un coach e da un designer specializzato in Design Thinking che faranno di questo evento una vera e propria esperienza di apprendimento. \nPer informazioni e iscrizioni\, vi invitiamo a scrivere a Laura Montagna\, Direttrice Big Bloom Italia\, tramite la mail laura.montagna@bigbloom.org.
URL:https://www.improntaetica.org/evento/13-06-16-06-hackathon-solidale-big-bloom/
ATTACH;FMTTYPE=image/png:https://www.improntaetica.org/wp-content/uploads/2023/05/01-Big_BLOOM-LOGO-RVB-Color-Fond-Transparent.png
END:VEVENT
END:VCALENDAR