BEGIN:VCALENDAR
VERSION:2.0
PRODID:-//Impronta Etica - ECPv6.15.20//NONSGML v1.0//EN
CALSCALE:GREGORIAN
METHOD:PUBLISH
X-WR-CALNAME:Impronta Etica
X-ORIGINAL-URL:https://www.improntaetica.org
X-WR-CALDESC:Eventi per Impronta Etica
REFRESH-INTERVAL;VALUE=DURATION:PT1H
X-Robots-Tag:noindex
X-PUBLISHED-TTL:PT1H
BEGIN:VTIMEZONE
TZID:Europe/Rome
BEGIN:DAYLIGHT
TZOFFSETFROM:+0100
TZOFFSETTO:+0200
TZNAME:CEST
DTSTART:20230326T010000
END:DAYLIGHT
BEGIN:STANDARD
TZOFFSETFROM:+0200
TZOFFSETTO:+0100
TZNAME:CET
DTSTART:20231029T010000
END:STANDARD
BEGIN:DAYLIGHT
TZOFFSETFROM:+0100
TZOFFSETTO:+0200
TZNAME:CEST
DTSTART:20240331T010000
END:DAYLIGHT
BEGIN:STANDARD
TZOFFSETFROM:+0200
TZOFFSETTO:+0100
TZNAME:CET
DTSTART:20241027T010000
END:STANDARD
BEGIN:DAYLIGHT
TZOFFSETFROM:+0100
TZOFFSETTO:+0200
TZNAME:CEST
DTSTART:20250330T010000
END:DAYLIGHT
BEGIN:STANDARD
TZOFFSETFROM:+0200
TZOFFSETTO:+0100
TZNAME:CET
DTSTART:20251026T010000
END:STANDARD
END:VTIMEZONE
BEGIN:VEVENT
DTSTART;VALUE=DATE:20240708
DTEND;VALUE=DATE:20240719
DTSTAMP:20260423T180904
CREATED:20240708T140720Z
LAST-MODIFIED:20240708T140720Z
UID:39517-1720396800-1721347199@www.improntaetica.org
SUMMARY:08/07 - 18/07 | High-level Political Forum on Sustainable Development (HLPF) 2024
DESCRIPTION:Un monitoraggio globale dell’Agenda 2030.\nL’High-level Political Forum on Sustainable Development (HLPF) 2024 si terrà dall’8 al 18 luglio 2024 a New York City\, sotto l’egida del Consiglio Economico e Sociale delle Nazioni Unite (ECOSOC). \nL’ HLPF è la principale piattaforma delle Nazioni Unite dedicata allo sviluppo sostenibile e svolge un ruolo centrale nel monitoraggio e nella revisione dell’attuazione dell’Agenda 2030 per lo Sviluppo Sostenibile e i suoi Obiettivi di Sviluppo Sostenibile (SDGs). \nIl tema per il 2024 sarà “Rafforzare l’Agenda 2030 per lo Sviluppo Sostenosibile ed eradicare la povertà in tempi di crisi multiple: La fornitura efficace di soluzioni sostenibili\, resilienti e innovative“. Nello specifico verranno condotte revisioni approfondite degli SDGs 1 (lotta alla povertà)\, 2 (zero fame) \, 13 (azione per il clima) \, 16 (page\, giustizia e istituzioni) e 17 (partnership per gli obiettivi). \nMaggiori informazioni sul programma e gli approfondimenti sono disponibili al seguente link.
URL:https://www.improntaetica.org/evento/08-07-18-07-high-level-political-forum-on-sustainable-development-hlpf-2024/
ATTACH;FMTTYPE=image/jpeg:https://www.improntaetica.org/wp-content/uploads/2020/09/hlpf2020-e1738689619318.jpg
END:VEVENT
END:VCALENDAR