BEGIN:VCALENDAR
VERSION:2.0
PRODID:-//Impronta Etica - ECPv6.15.20//NONSGML v1.0//EN
CALSCALE:GREGORIAN
METHOD:PUBLISH
X-ORIGINAL-URL:https://www.improntaetica.org
X-WR-CALDESC:Eventi per Impronta Etica
REFRESH-INTERVAL;VALUE=DURATION:PT1H
X-Robots-Tag:noindex
X-PUBLISHED-TTL:PT1H
BEGIN:VTIMEZONE
TZID:Europe/Rome
BEGIN:DAYLIGHT
TZOFFSETFROM:+0100
TZOFFSETTO:+0200
TZNAME:CEST
DTSTART:20210328T010000
END:DAYLIGHT
BEGIN:STANDARD
TZOFFSETFROM:+0200
TZOFFSETTO:+0100
TZNAME:CET
DTSTART:20211031T010000
END:STANDARD
BEGIN:DAYLIGHT
TZOFFSETFROM:+0100
TZOFFSETTO:+0200
TZNAME:CEST
DTSTART:20220327T010000
END:DAYLIGHT
BEGIN:STANDARD
TZOFFSETFROM:+0200
TZOFFSETTO:+0100
TZNAME:CET
DTSTART:20221030T010000
END:STANDARD
BEGIN:DAYLIGHT
TZOFFSETFROM:+0100
TZOFFSETTO:+0200
TZNAME:CEST
DTSTART:20230326T010000
END:DAYLIGHT
BEGIN:STANDARD
TZOFFSETFROM:+0200
TZOFFSETTO:+0100
TZNAME:CET
DTSTART:20231029T010000
END:STANDARD
BEGIN:DAYLIGHT
TZOFFSETFROM:+0100
TZOFFSETTO:+0200
TZNAME:CEST
DTSTART:20240331T010000
END:DAYLIGHT
BEGIN:STANDARD
TZOFFSETFROM:+0200
TZOFFSETTO:+0100
TZNAME:CET
DTSTART:20241027T010000
END:STANDARD
BEGIN:DAYLIGHT
TZOFFSETFROM:+0100
TZOFFSETTO:+0200
TZNAME:CEST
DTSTART:20250330T010000
END:DAYLIGHT
BEGIN:STANDARD
TZOFFSETFROM:+0200
TZOFFSETTO:+0100
TZNAME:CET
DTSTART:20251026T010000
END:STANDARD
BEGIN:DAYLIGHT
TZOFFSETFROM:+0100
TZOFFSETTO:+0200
TZNAME:CEST
DTSTART:20260329T010000
END:DAYLIGHT
BEGIN:STANDARD
TZOFFSETFROM:+0200
TZOFFSETTO:+0100
TZNAME:CET
DTSTART:20261025T010000
END:STANDARD
END:VTIMEZONE
BEGIN:VEVENT
DTSTART;TZID=Europe/Rome:20250225T143000
DTEND;TZID=Europe/Rome:20250225T170000
DTSTAMP:20260423T185849
CREATED:20250210T145809Z
LAST-MODIFIED:20250210T145809Z
UID:40771-1740493800-1740502800@www.improntaetica.org
SUMMARY:25/02 | BOOM Impact Annual Workshop
DESCRIPTION:Data Driven Leadership\, Innovazione e AI: Il mix di competenze che cambia le regole.\nSi terrà dalle 14.30 alle 17.00 presso la sede di BOOM\, Via Piemonte 6-8 Osteria Grande (BO)  l’appuntamento annuale di BOOM\, il knowledge hub di CRIF\, impresa socia di Impronta Etica\, dedicato alle nuove competenze e alla formazione in ambito HR. L’evento di quest’anno sarà improntato all’approfondimento delle nuove tecnologie e alla loro concreta applicazione nel campo delle risorse umane attraverso una strategia data-driven. \nL’evento si dipanerà in tre sessioni parallele che comprenderanno ognuna tre parti: un main speech\, tavole rotonde che coinvolgeranno esperti del settore e una parte dedicata a workshop interattivi con l’obiettivo di stimolare il dibattito e il confronto tra i partecipanti sui temi caldi in ambito HR. \nLe tre sessioni saranno le seguenti: \n\nNavigare il People Journey con un approccio data driven: che esplorerà le strategie data-driven all’interno dei processi HR\nDal dato alla strategia: indicatori e KPI per una Strategia ESG Vincente: dedicata all’individuazione e analisi dei KPI per una strategia di D&I\nModelli di governance per gestire l’AI e la GEN AI: applicare le nuove tecnologie dell’IA nei processi HR\n\nMaggiori informazioni sono disponibili al seguente link. \nMaggiori informazioni su come registrarsi sono disponibili al seguente link. \nSCARICA IL PROGRAMMA
URL:https://www.improntaetica.org/evento/25-02-boom-impact-annual-workshop/
CATEGORIES:Eventi 2025
ATTACH;FMTTYPE=image/jpeg:https://www.improntaetica.org/wp-content/uploads/2023/02/boom.jpg
END:VEVENT
BEGIN:VEVENT
DTSTART;TZID=Europe/Rome:20240625T170000
DTEND;TZID=Europe/Rome:20240625T190000
DTSTAMP:20260423T185849
CREATED:20240618T143102Z
LAST-MODIFIED:20240621T072930Z
UID:39300-1719334800-1719342000@www.improntaetica.org
SUMMARY:25/06 | People Analytics & AI: Trasformare i Dati HR in Decisioni Strategiche
DESCRIPTION:L’utilizzo dei dati e dell’AI nel mondo HR.\nSi terrà il 25 giugno dalle ore 17.00 presso BOOM l’evento di CRIF in collaborazione con AIDP dal titolo ” People Analytics & AI: Trasformare i Dati HR in Decisione Strategiche” dedicato all’esplorazione del tema dell’utilizzo dei dati e dell’Intelligenza Artificiale nel mondo delle risorse umane. \nE’ possibile iscriversi e ottenere maggiori informazioni al seguente link. \nSCARICA IL PROGRAMMA
URL:https://www.improntaetica.org/evento/25-06-people-analytics-ai-trasformare-i-dati-hr-in-decisioni-strategiche/
ATTACH;FMTTYPE=image/png:https://www.improntaetica.org/wp-content/uploads/2024/06/crif-ai.png
END:VEVENT
BEGIN:VEVENT
DTSTART;TZID=Europe/Rome:20240509T170000
DTEND;TZID=Europe/Rome:20240509T200000
DTSTAMP:20260423T185849
CREATED:20240418T095656Z
LAST-MODIFIED:20240418T101814Z
UID:38897-1715274000-1715284800@www.improntaetica.org
SUMMARY:09/05 | "Persone fuori dal comune"
DESCRIPTION:Come attrarre\, trattenere e motivare le persone nella Pubblica Amministrazione e sviluppare il territorio\, costruendo un futuro sostenibile.\nSi terrà il 9 maggio 2024 l’evento gratuito organizzato dal nostro Socio SCS Consulting | Consulenza direzionale “Persone fuori dal comune“\, che si terrà a Bologna al dalle 17.00 alle 20.00. \nUna tavola rotonda con personalità di spicco del territorio per attivare un confronto su numerosi temi: \n\nCome rompere la generale narrazione legata alla Pubblica Amministrazione mettendo in luce le azioni virtuose che già vengono portate avanti dalle persone nella PA\,\nCome attrarre\, trattenere e motivare le persone nella PA per lo sviluppo del territorio\,\nQuali leve utilizzare nella costruzione di un futuro sostenibile.\n\nA seguire lo spettacolo teatrale curato dalla Compagnia Piano di Bilico e tratto dal libro di “Persone fuori dal comune”. \nMaggiori informazioni sono disponibili al seguente link. \nE’ possibile iscriversi al seguente link.
URL:https://www.improntaetica.org/evento/09-05-persone-fuori-dal-comune/
ATTACH;FMTTYPE=image/jpeg:https://www.improntaetica.org/wp-content/uploads/2023/07/scscc.jpg
END:VEVENT
BEGIN:VEVENT
DTSTART;TZID=Europe/Rome:20240507T153000
DTEND;TZID=Europe/Rome:20240507T190000
DTSTAMP:20260423T185849
CREATED:20240419T102619Z
LAST-MODIFIED:20240503T095649Z
UID:38905-1715095800-1715108400@www.improntaetica.org
SUMMARY:07/05 | TRY4: Cambiare il lavoro
DESCRIPTION:TRY4\, il format di eventi dove l’occasione diventa azione. La ricerca di cambiamento dei Change Makers questa volta si occupa di ambienti di azione/lavoro in cui esprimere e vedere accolti i propri bisogni. \nPartendo dalla condivisione dei propri background ed esempi di situazioni vissute\, chi partecipa avrà modo di trovare strategie\, metodi e strumenti per trasformare le proprie esperienze e quelle delle persone con cui le si vive\, per generare un cambiamento concreto. \nIl prossimo evento si terrà il 7 maggio dalle ore 15.30 alle ore 19.00 presso il DumBO Via Camillo Casarini 19 a Bologna\, e sarà un confronto strutturato e facilitato che mette insieme HR/Datori di lavoro e persone sotto i 40 anni\, che partendo dai propri background ed esempi di situazioni vissute\, avranno modo di trovare strategie\, metodi e strumenti per trasformare le proprie esperienze e quelle delle persone con cui le si vive\, per generare un cambiamento concreto. \nE’ possibile iscriversi e ottenere maggiori informazioni al seguente link. \nSCARICA IL SAVE THE DATE
URL:https://www.improntaetica.org/evento/07-05-try4-cambiare-il-lavoro/
ATTACH;FMTTYPE=image/png:https://www.improntaetica.org/wp-content/uploads/2024/04/cm.png
END:VEVENT
BEGIN:VEVENT
DTSTART;TZID=Europe/Rome:20221129T143000
DTEND;TZID=Europe/Rome:20221129T154500
DTSTAMP:20260423T185849
CREATED:20221122T092621Z
LAST-MODIFIED:20221122T092621Z
UID:36001-1669732200-1669736700@www.improntaetica.org
SUMMARY:29/11 | Webinar di presentazione del progetto G.E.T.
DESCRIPTION:Gender Equality Training: il percorso di studio e di formazione per integrare la gender equality nei piani di crescita delle imprese.\nSi terrà martedì 29 novembre dalle ore 14:30 alle ore 15:45 il webinar formativo di presentazione del progetto G.E.T. (Gender Equality Training) : un percorso di studio e di formazione per integrare la gender equality nei piani di crescita delle imprese. \nIl progetto\, a cura di Manager Italia\, Università di Bologna e LAB Sustainability e Circular Economy\, si svilupperà in due moduli: il primo prevede uno studio\, tramite indici statistici e benchmarking \, su livello di equità di genere nelle imprese; il secondo\, un percorso formativo di 40 ore per hr e csr manager per favorire la crescita e una migliore integrazione dei ruoli femminili all’interno delle organizzazioni aziendali\, a tutti i livelli: da quelli impiegatizi fino al top management. \nG.E.T permette alle imprese e ai manager di aver una misurazione precisa\, e confrontabile a livello italiano\, del proprio stato di inclusione interno . La partecipazione al progetto permette di acquisire strumenti e competenze per integrare una strategia per la riduzione del gap di genere. \nMaggiori informazioni sono disponibili al seguente link. \nSCARICA LA BROCHURE \n 
URL:https://www.improntaetica.org/evento/29-11-webinar-di-presentazione-del-progetto-g-e-t/
ATTACH;FMTTYPE=image/jpeg:https://www.improntaetica.org/wp-content/uploads/2022/11/manager.jpg
END:VEVENT
END:VCALENDAR