BEGIN:VCALENDAR
VERSION:2.0
PRODID:-//Impronta Etica - ECPv6.15.20//NONSGML v1.0//EN
CALSCALE:GREGORIAN
METHOD:PUBLISH
X-ORIGINAL-URL:https://www.improntaetica.org
X-WR-CALDESC:Eventi per Impronta Etica
REFRESH-INTERVAL;VALUE=DURATION:PT1H
X-Robots-Tag:noindex
X-PUBLISHED-TTL:PT1H
BEGIN:VTIMEZONE
TZID:Europe/Rome
BEGIN:DAYLIGHT
TZOFFSETFROM:+0100
TZOFFSETTO:+0200
TZNAME:CEST
DTSTART:20230326T010000
END:DAYLIGHT
BEGIN:STANDARD
TZOFFSETFROM:+0200
TZOFFSETTO:+0100
TZNAME:CET
DTSTART:20231029T010000
END:STANDARD
BEGIN:DAYLIGHT
TZOFFSETFROM:+0100
TZOFFSETTO:+0200
TZNAME:CEST
DTSTART:20240331T010000
END:DAYLIGHT
BEGIN:STANDARD
TZOFFSETFROM:+0200
TZOFFSETTO:+0100
TZNAME:CET
DTSTART:20241027T010000
END:STANDARD
BEGIN:DAYLIGHT
TZOFFSETFROM:+0100
TZOFFSETTO:+0200
TZNAME:CEST
DTSTART:20250330T010000
END:DAYLIGHT
BEGIN:STANDARD
TZOFFSETFROM:+0200
TZOFFSETTO:+0100
TZNAME:CET
DTSTART:20251026T010000
END:STANDARD
END:VTIMEZONE
BEGIN:VEVENT
DTSTART;TZID=Europe/Rome:20240125T150000
DTEND;TZID=Europe/Rome:20240125T150000
DTSTAMP:20260421T075633
CREATED:20240109T112810Z
LAST-MODIFIED:20240122T122915Z
UID:38153-1706194800-1706194800@www.improntaetica.org
SUMMARY:25/01 | Cambiamento climatico\, impresa\, transizione verde
DESCRIPTION:Un evento IFAB per riflettere sulle sfide e le opportunità per le PMI.\nL’evento di  Fondazione IFAB\, intitolato “Cambiamento climatico e filiera delle imprese: infrastrutture e PMI nella transizione verde”\, organizzato con il patrocinio di Università di Bologna e Regione Emilia-Romagna e in programma a Bologna per il 25 gennaio 2024 dalle ore 15.00 presso il Dipartimento delle Arti dell’Università di Bologna. \nIl cambiamento climatico ha posto in evidenza l’urgenza con cui le istituzioni\, le imprese e le comunità debbano agire per attuare nuove strategie di resilienza e adattamento: l’obiettivo\, che deve essere comune e condiviso\, è quello di mettere in atto percorsi di transizione legati alla sostenibilità ambientale e alla riduzione degli impatti negativi sugli ecosistemi. \nIn questo scenario\, IFAB agisce per trasferire conoscenza\, consapevolezza e strumenti sull’innovazione tecnologica al mondo produttivo: è anche attraverso le nuove tecnologie infatti che la Transizione Green può realizzarsi compiutamente. \nMaggiori informazioni ed il programma sono disponibili al seguente link.
URL:https://www.improntaetica.org/evento/25-01-cambiamento-climatico-impresa-transizione-verde/
ATTACH;FMTTYPE=image/png:https://www.improntaetica.org/wp-content/uploads/2024/01/ifab.png
END:VEVENT
END:VCALENDAR