BEGIN:VCALENDAR
VERSION:2.0
PRODID:-//Impronta Etica - ECPv6.15.20//NONSGML v1.0//EN
CALSCALE:GREGORIAN
METHOD:PUBLISH
X-ORIGINAL-URL:https://www.improntaetica.org
X-WR-CALDESC:Eventi per Impronta Etica
REFRESH-INTERVAL;VALUE=DURATION:PT1H
X-Robots-Tag:noindex
X-PUBLISHED-TTL:PT1H
BEGIN:VTIMEZONE
TZID:Europe/Rome
BEGIN:DAYLIGHT
TZOFFSETFROM:+0100
TZOFFSETTO:+0200
TZNAME:CEST
DTSTART:20210328T010000
END:DAYLIGHT
BEGIN:STANDARD
TZOFFSETFROM:+0200
TZOFFSETTO:+0100
TZNAME:CET
DTSTART:20211031T010000
END:STANDARD
BEGIN:DAYLIGHT
TZOFFSETFROM:+0100
TZOFFSETTO:+0200
TZNAME:CEST
DTSTART:20220327T010000
END:DAYLIGHT
BEGIN:STANDARD
TZOFFSETFROM:+0200
TZOFFSETTO:+0100
TZNAME:CET
DTSTART:20221030T010000
END:STANDARD
BEGIN:DAYLIGHT
TZOFFSETFROM:+0100
TZOFFSETTO:+0200
TZNAME:CEST
DTSTART:20230326T010000
END:DAYLIGHT
BEGIN:STANDARD
TZOFFSETFROM:+0200
TZOFFSETTO:+0100
TZNAME:CET
DTSTART:20231029T010000
END:STANDARD
END:VTIMEZONE
BEGIN:VEVENT
DTSTART;TZID=Europe/Rome:20220620T160000
DTEND;TZID=Europe/Rome:20220620T180000
DTSTAMP:20260421T030654
CREATED:20220620T064217Z
LAST-MODIFIED:20220620T064217Z
UID:34978-1655740800-1655748000@www.improntaetica.org
SUMMARY:20/06 | Immigrazione e futuro demografico del Paese
DESCRIPTION:Un nuovo appuntamento organizzato da ASviS.\nSi terrà oggi\, lunedì 20 giugno alle ore 16.00\, in diretta streaming sui canali dell’Alleanza\, il nuovo ASviS Live “Immigrazione e futuro demografico del Paese” organizzato da FUTURAnetwork.eu\, quale quarta tappa di avvicinamento al Festival dello Sviluppo Sostenibile 2022 (4-20 ottobre). \nSarà possibile seguire la diretta su questa pagina\, sui siti FUTURAnetwork.eu e Festival dello Sviluppo Sostenibile\, sulla pagina Facebook dell’ASviS e sul canale YouTube ASviS\, oltre che su ansa e sulla pagina Facebook Ansa\, su Green&Blue di Repubblica\, sulla pagina Facebook di Rai per il sociale\, su Radio Radicale e sulla pagina Facebook Radio Radicale\, su Il Giorno\, Il Resto del Carlino\,  La Nazione\, Quotidiano Nazionale e Il Sole 24 Ore. \n Inoltre\, si potrà partecipare al live tweeting su @ASviSItalia con l’hashtag #ASviSLive.  \nMaggiori informazioni sono disponibili al seguente link. 
URL:https://www.improntaetica.org/evento/20-06-immigrazione-e-futuro-demografico-del-paese/
ATTACH;FMTTYPE=image/png:https://www.improntaetica.org/wp-content/uploads/2019/08/Logo-ASviS-e1736929301112.png
END:VEVENT
END:VCALENDAR