BEGIN:VCALENDAR
VERSION:2.0
PRODID:-//Impronta Etica - ECPv6.15.20//NONSGML v1.0//EN
CALSCALE:GREGORIAN
METHOD:PUBLISH
X-ORIGINAL-URL:https://www.improntaetica.org
X-WR-CALDESC:Eventi per Impronta Etica
REFRESH-INTERVAL;VALUE=DURATION:PT1H
X-Robots-Tag:noindex
X-PUBLISHED-TTL:PT1H
BEGIN:VTIMEZONE
TZID:Europe/Rome
BEGIN:DAYLIGHT
TZOFFSETFROM:+0100
TZOFFSETTO:+0200
TZNAME:CEST
DTSTART:20150329T010000
END:DAYLIGHT
BEGIN:STANDARD
TZOFFSETFROM:+0200
TZOFFSETTO:+0100
TZNAME:CET
DTSTART:20151025T010000
END:STANDARD
BEGIN:DAYLIGHT
TZOFFSETFROM:+0100
TZOFFSETTO:+0200
TZNAME:CEST
DTSTART:20160327T010000
END:DAYLIGHT
BEGIN:STANDARD
TZOFFSETFROM:+0200
TZOFFSETTO:+0100
TZNAME:CET
DTSTART:20161030T010000
END:STANDARD
BEGIN:DAYLIGHT
TZOFFSETFROM:+0100
TZOFFSETTO:+0200
TZNAME:CEST
DTSTART:20170326T010000
END:DAYLIGHT
BEGIN:STANDARD
TZOFFSETFROM:+0200
TZOFFSETTO:+0100
TZNAME:CET
DTSTART:20171029T010000
END:STANDARD
BEGIN:DAYLIGHT
TZOFFSETFROM:+0100
TZOFFSETTO:+0200
TZNAME:CEST
DTSTART:20180325T010000
END:DAYLIGHT
BEGIN:STANDARD
TZOFFSETFROM:+0200
TZOFFSETTO:+0100
TZNAME:CET
DTSTART:20181028T010000
END:STANDARD
BEGIN:DAYLIGHT
TZOFFSETFROM:+0100
TZOFFSETTO:+0200
TZNAME:CEST
DTSTART:20190331T010000
END:DAYLIGHT
BEGIN:STANDARD
TZOFFSETFROM:+0200
TZOFFSETTO:+0100
TZNAME:CET
DTSTART:20191027T010000
END:STANDARD
BEGIN:DAYLIGHT
TZOFFSETFROM:+0100
TZOFFSETTO:+0200
TZNAME:CEST
DTSTART:20200329T010000
END:DAYLIGHT
BEGIN:STANDARD
TZOFFSETFROM:+0200
TZOFFSETTO:+0100
TZNAME:CET
DTSTART:20201025T010000
END:STANDARD
BEGIN:DAYLIGHT
TZOFFSETFROM:+0100
TZOFFSETTO:+0200
TZNAME:CEST
DTSTART:20210328T010000
END:DAYLIGHT
BEGIN:STANDARD
TZOFFSETFROM:+0200
TZOFFSETTO:+0100
TZNAME:CET
DTSTART:20211031T010000
END:STANDARD
BEGIN:DAYLIGHT
TZOFFSETFROM:+0100
TZOFFSETTO:+0200
TZNAME:CEST
DTSTART:20220327T010000
END:DAYLIGHT
BEGIN:STANDARD
TZOFFSETFROM:+0200
TZOFFSETTO:+0100
TZNAME:CET
DTSTART:20221030T010000
END:STANDARD
BEGIN:DAYLIGHT
TZOFFSETFROM:+0100
TZOFFSETTO:+0200
TZNAME:CEST
DTSTART:20230326T010000
END:DAYLIGHT
BEGIN:STANDARD
TZOFFSETFROM:+0200
TZOFFSETTO:+0100
TZNAME:CET
DTSTART:20231029T010000
END:STANDARD
BEGIN:DAYLIGHT
TZOFFSETFROM:+0100
TZOFFSETTO:+0200
TZNAME:CEST
DTSTART:20240331T010000
END:DAYLIGHT
BEGIN:STANDARD
TZOFFSETFROM:+0200
TZOFFSETTO:+0100
TZNAME:CET
DTSTART:20241027T010000
END:STANDARD
END:VTIMEZONE
BEGIN:VEVENT
DTSTART;TZID=Europe/Rome:20230609T000000
DTEND;TZID=Europe/Rome:20230610T000000
DTSTAMP:20260421T072320
CREATED:20230420T070717Z
LAST-MODIFIED:20230420T070717Z
UID:36850-1686268800-1686355200@www.improntaetica.org
SUMMARY:09/06-10/06 | XVII edizione Colloquio Scientifico sull'impresa sociale 2023
DESCRIPTION:Il tradizionale convegno di Iris Network dedicato alla presentazione e discussione di contributi scientifici sull’impresa sociale.\nSi terrà il 9 e il 10 giugno presso l’Università degli studi di Perugia la XVII edizione del Colloquio Scientifico sull’impresa sociale\, il tradizionale convegno di Iris Network dedicato alla presentazione e discussione di contributi scientifici sull’impresa sociale\, sulle sue caratteristiche costitutive e sulle strategie che ne possono favorire lo sviluppo. \nStiamo vivendo trasformazioni radicali che producono fratture e discontinuità legate ai «fallimenti» del modello economico dominante che ha dimostrato di non essere in grado di garantire stabilità economica\, benessere\, uguaglianza\, inclusione sociale\, sostenibilità ambientale ed energetica\, democrazia e pace. \nPer queste ragioni Iris Network prosegue il suo impegno nell’alimentare il dibattito scientifico sull’impresa sociale\, attraverso riflessioni che possano accompagnare queste organizzazioni nelle trasformazioni socio-economiche in atto. \nE’ possibile iscriversi fino al 5 giugno al seguente link. \nMaggiori informazioni sono disponibili al seguente link. \nSCARICA IL PROGRAMMA
URL:https://www.improntaetica.org/evento/09-06-10-06-xvii-edizione-colloquio-scientifico-sullimpresa-sociale-2023/
ATTACH;FMTTYPE=image/jpeg:https://www.improntaetica.org/wp-content/uploads/2023/04/iris.jpg
END:VEVENT
BEGIN:VEVENT
DTSTART;VALUE=DATE:20221010
DTEND;VALUE=DATE:20221012
DTSTAMP:20260421T072320
CREATED:20220830T113521Z
LAST-MODIFIED:20220922T091750Z
UID:35345-1665360000-1665532799@www.improntaetica.org
SUMMARY:10/10-11/10 | XX Workshop sull'impresa sociale
DESCRIPTION:Semi di futuro.\nIl XX Workshop sull’impresa sociale organizzato da Iris Network – Istituti di Ricerca sull’Impresa Sociale\, che si terrà il 10 e l’11 ottobre al Grand Hotel di Trento\, intende porre l’accento sul significato dell’essere impresa sociale oggi e\, soprattutto\, nel prossimo futuro. Una riflessione su come le imprese sociali contribuiscono in modo concreto all’ambizioso progetto di costruire – nell’economia\, nelle istituzioni sociali e politiche del Paese\, nella cultura del popolo italiano – un mondo più giusto\, più accogliente e rispettoso delle persone e della natura. \nL’Italia\, così come l’Europa e il mondo intero\, si trovano oggi ad affrontare una serie di sfide a cui dare una risposta rapida\, sostenibile e duratura. Recuperare la capacità di produrre valore\, riformare il sistema sanitario\, ridurre l’impatto ambientale\, confrontarsi con le difficoltà dell’invecchiamento della popolazione\, creare condizioni di lavoro favorevoli per le nuove generazioni\, sono solo alcuni dei problemi a cui cercare soluzione. In uno scenario globale così delicato e instabile\, è importante attivare un’ampia e viva partecipazione del sistema imprenditoriale e della società civile\, in particolare la società civile organizzata\, rappresentata dalle imprese sociali. \nMaggiori informazioni sono disponibili al seguente link.  \nE’ possibile iscriversi al seguente link. \nSCARICA IL PROGRAMMA
URL:https://www.improntaetica.org/evento/10-1110-xx-workshop-sullimpresa-sociale/
ATTACH;FMTTYPE=image/png:https://www.improntaetica.org/wp-content/uploads/2022/08/sisis.png
END:VEVENT
BEGIN:VEVENT
DTSTART;VALUE=DATE:20190912
DTEND;VALUE=DATE:20190914
DTSTAMP:20260421T072320
CREATED:20190709T160504Z
LAST-MODIFIED:20190709T160504Z
UID:16847-1568246400-1568419199@www.improntaetica.org
SUMMARY:XVII Workshop sull'impresa sociale
DESCRIPTION:Identità è valore: oltre l’impatto.\nIl Workshop organizzato da Iris Network intende rimettere al centro il valore dell’impresa sociale\, a partire da quel “valore sociale” che ne ha ispirato la genesi\, accompagnato lo sviluppo e definito il profilo istituzionale. Si impone una riflessione che consideri il “valore complessivo” delle imprese sociali\, riproponendo il necessario equilibrio strutturale tra dimensione economica e contributo al sostegno delle persone fragili\, alla creazione di comunità e al rafforzamento delle reti fiduciarie e di capitale sociale.\nMaggiori informazioni e il modulo di iscrizione sono disponibili al seguente link.\nProgramma
URL:https://www.improntaetica.org/evento/xvii-workshop-sullimpresa-sociale/
LOCATION:Riva del Garda (TN)
ATTACH;FMTTYPE=:
END:VEVENT
BEGIN:VEVENT
DTSTART;VALUE=DATE:20180525
DTEND;VALUE=DATE:20180527
DTSTAMP:20260421T072320
CREATED:20180508T150212Z
LAST-MODIFIED:20180508T150212Z
UID:14676-1527206400-1527379199@www.improntaetica.org
SUMMARY:Colloquio scientifico sull’impresa sociale 2018
DESCRIPTION:L’impresa sociale oltre la riforma.\nIl Colloquio Scientifico sull’impresa sociale ha scelto\, per questa edizione\, un tema che potesse catalizzare proposte di studi scientifici che fossero in grado di cogliere le trasformazioni che caratterizzano la fase di sviluppo legata alla riforma dell’impresa sociale.\nLe iscrizioni al Colloquio chiuderanno lunedì 21 maggio 2018.\nMaggiori informazioni sono disponibili al seguente link.\nProgramma
URL:https://www.improntaetica.org/evento/colloquio-scientifico-sullimpresa-sociale-2018/
LOCATION:Dipartimento di Sociologia e Ricerca sociale\, Via Verdi 26\, Trento
ATTACH;FMTTYPE=:
END:VEVENT
BEGIN:VEVENT
DTSTART;VALUE=DATE:20160915
DTEND;VALUE=DATE:20160917
DTSTAMP:20260421T072320
CREATED:20160714T101143Z
LAST-MODIFIED:20160714T101143Z
UID:10870-1473897600-1474070399@www.improntaetica.org
SUMMARY:Iris Network | Workshop sull’impresa sociale
DESCRIPTION:“Equità e sostenibilità in uno scenario diseguale”.\nIl Workshop sull’impresa sociale\, promosso e organizzato da Iris Network\, si propone di far emergere le migliori buone pratiche di innovazione sociale dell’imprenditoria sociale italiana\, favorendo il confronto e lo scambio tra operatori sul campo ed altri attori pubblici e privati che intendono sostenere lo sviluppo di questo particolare ecosistema di imprese.\nLa XIV edizione sarà dedicata all’approfondimento dei fattori di disuguaglianza che caratterizzano le società post crisi. Elementi che sfidano le imprese sociali a declinare in modo nuovo quei principi di equità e sostenibilità che sono alla base del loro modello economico.\n\nIl programma dell’evento è ancora in fase di definizione\, per maggiori informazioni e aggiornamenti è possibile consultare la homepage di Iris Network.
URL:https://www.improntaetica.org/evento/iris-network-workshop-sullimpresa-sociale/
LOCATION:Riva del Garda (TN)
END:VEVENT
BEGIN:VEVENT
DTSTART;TZID=Europe/Rome:20160610T090000
DTEND;TZID=Europe/Rome:20160611T130000
DTSTAMP:20260421T072320
CREATED:20160503T173137Z
LAST-MODIFIED:20160503T173137Z
UID:10404-1465549200-1465650000@www.improntaetica.org
SUMMARY:Colloquio scientifico 2016
DESCRIPTION:X edizione del colloquio scientifico sull’impresa sociale.\nIl Colloquio Scientifico sull’impresa sociale è un convegno scientifico organizzato a cadenza annuale da Iris Network  in collaborazione con uno dei soci di Iris Network. La X edizione è organizzata grazie al supporto del Dipartimento di Scienze Politiche dell’Università degli Studi di Napoli “Federico II”.\nIl Colloquio nasce dall’esigenza di promuovere percorsi di studio e di riflessione interdisciplinare in grado di cogliere gli elementi di innovazione che caratterizzano l’attuale fase di sviluppo dell’impresa sociale in Italia.\nLe iscrizioni sono aperte fino al 6 giugno ed è possibile registrarsi al seguente link.\nMaggiori informazioni sono disponibili sul sito di Iris Network.\nUna prima versione del programma è scaricabile: Programma
URL:https://www.improntaetica.org/evento/colloquio-scientifico-2016/
LOCATION:Dipartimento di Scienze Politiche – Università degli Studi di Napoli “Federico II”\, Via Rodinò\, 22\, Napoli\, Italia
END:VEVENT
BEGIN:VEVENT
DTSTART;TZID=Europe/Rome:20160517T193000
DTEND;TZID=Europe/Rome:20160517T213000
DTSTAMP:20260421T072320
CREATED:20160512T160126Z
LAST-MODIFIED:20160512T160126Z
UID:10500-1463513400-1463520600@www.improntaetica.org
SUMMARY:"Profit responsabile: dalla responsabilità sociale di impresa alla creazione di Società Benefit"
DESCRIPTION:Profit Responsabile e Società Benefit.\nL’Italia è il primo paese in Europa che\, sull’onda del movimento delle B-Corporation americane\, ha inserito nella Legge di Stabilità la nuova forma di impresa denominata “Società Benefit”. Quest’impresa prevede l’inserimento nel proprio statuto di finalità sociali-sostenibili-responsabili\, aprendo\, potenzialmente\, un dialogo tra profit e non profit\, tra pubblico e privato.\nQuali vantaggi potrebbero esistere per chi converte la propria impresa a Società Benefit? Quali scenari si aprono per il dialogo tra profit e non profit\, quali nuovi strumenti per il rapporto tra pubblico e privato? Cosa può fare il Comune per facilitare la nascita di questo tipo di imprese a Bologna?\nDi questo si parlerà durante l’evento\, organizzato da CEFA: ripercorrendo una serie di esperienze e pratiche già diffuse\, si intende stimolare un ragionamento sulla varietà di strumenti esistenti per l’interazione tra profit e non profit\, fino ad arrivare alle neonate Società Benefit.\nE’ possibile avere maggiori informazioni e consultare il programma dell’evento a questo link.
URL:https://www.improntaetica.org/evento/profit-responsabile-societa-benefit/
LOCATION:Luogo Senza Nome\, Via Donato Creti 69/2 E\, Bologna\, Italia
END:VEVENT
END:VCALENDAR