BEGIN:VCALENDAR
VERSION:2.0
PRODID:-//Impronta Etica - ECPv6.15.20//NONSGML v1.0//EN
CALSCALE:GREGORIAN
METHOD:PUBLISH
X-WR-CALNAME:Impronta Etica
X-ORIGINAL-URL:https://www.improntaetica.org
X-WR-CALDESC:Eventi per Impronta Etica
REFRESH-INTERVAL;VALUE=DURATION:PT1H
X-Robots-Tag:noindex
X-PUBLISHED-TTL:PT1H
BEGIN:VTIMEZONE
TZID:Europe/Rome
BEGIN:DAYLIGHT
TZOFFSETFROM:+0100
TZOFFSETTO:+0200
TZNAME:CEST
DTSTART:20200329T010000
END:DAYLIGHT
BEGIN:STANDARD
TZOFFSETFROM:+0200
TZOFFSETTO:+0100
TZNAME:CET
DTSTART:20201025T010000
END:STANDARD
BEGIN:DAYLIGHT
TZOFFSETFROM:+0100
TZOFFSETTO:+0200
TZNAME:CEST
DTSTART:20210328T010000
END:DAYLIGHT
BEGIN:STANDARD
TZOFFSETFROM:+0200
TZOFFSETTO:+0100
TZNAME:CET
DTSTART:20211031T010000
END:STANDARD
BEGIN:DAYLIGHT
TZOFFSETFROM:+0100
TZOFFSETTO:+0200
TZNAME:CEST
DTSTART:20220327T010000
END:DAYLIGHT
BEGIN:STANDARD
TZOFFSETFROM:+0200
TZOFFSETTO:+0100
TZNAME:CET
DTSTART:20221030T010000
END:STANDARD
BEGIN:DAYLIGHT
TZOFFSETFROM:+0100
TZOFFSETTO:+0200
TZNAME:CEST
DTSTART:20230326T010000
END:DAYLIGHT
BEGIN:STANDARD
TZOFFSETFROM:+0200
TZOFFSETTO:+0100
TZNAME:CET
DTSTART:20231029T010000
END:STANDARD
BEGIN:DAYLIGHT
TZOFFSETFROM:+0100
TZOFFSETTO:+0200
TZNAME:CEST
DTSTART:20240331T010000
END:DAYLIGHT
BEGIN:STANDARD
TZOFFSETFROM:+0200
TZOFFSETTO:+0100
TZNAME:CET
DTSTART:20241027T010000
END:STANDARD
BEGIN:DAYLIGHT
TZOFFSETFROM:+0100
TZOFFSETTO:+0200
TZNAME:CEST
DTSTART:20250330T010000
END:DAYLIGHT
BEGIN:STANDARD
TZOFFSETFROM:+0200
TZOFFSETTO:+0100
TZNAME:CET
DTSTART:20251026T010000
END:STANDARD
BEGIN:DAYLIGHT
TZOFFSETFROM:+0100
TZOFFSETTO:+0200
TZNAME:CEST
DTSTART:20260329T010000
END:DAYLIGHT
BEGIN:STANDARD
TZOFFSETFROM:+0200
TZOFFSETTO:+0100
TZNAME:CET
DTSTART:20261025T010000
END:STANDARD
END:VTIMEZONE
BEGIN:VEVENT
DTSTART;TZID=Europe/Rome:20251124T170000
DTEND;TZID=Europe/Rome:20251124T183000
DTSTAMP:20260421T063110
CREATED:20251124T130130Z
LAST-MODIFIED:20251124T130130Z
UID:42054-1764003600-1764009000@www.improntaetica.org
SUMMARY:24/11 | Live dedicato al Rapporto ASviS 2025
DESCRIPTION:Dal Patto di Milano le indicazioni per la transizione delle imprese.\nLunedì 24 novembre alle 17:00\, nella Club House di CeoForLife a Roma\, si terrà l’ultimo appuntamento ASviS Live\, dedicato al contributo del Patto di Milano alla transizione sostenibile del sistema produttivo. \nAl centro dell’incontro ci sarà infatti la presentazione del nuovo position paper sul ruolo delle imprese\, frutto del lavoro del gruppo di lavoro “Patto di Milano”\, coordinato anche da Impronta Etica\, che definisce proposte e indirizzi per rafforzare la dimensione economica dello sviluppo sostenibile. \nPartendo dai contenuti del Rapporto ASviS 2025\, il confronto offrirà l’occasione per approfondire le analisi e le raccomandazioni elaborate dal Patto di Milano\, con particolare attenzione agli strumenti necessari per abilitare investimenti e produttività “sostenibile” nelle filiere: dalla semplificazione del permitting per rinnovabili e reti all’accesso al credito\, dall’uso mirato dei proventi ETS alla governance di acqua e suolo\, fino alle piattaforme dati\, agli standard ESG per le PMI e al potenziamento della formazione tecnica per la doppia transizione. \nLa diretta sarà disponibile qui.
URL:https://www.improntaetica.org/evento/24-11-live-dedicato-al-rapporto-asvis-2025/
CATEGORIES:Eventi 2025
ATTACH;FMTTYPE=image/png:https://www.improntaetica.org/wp-content/uploads/2019/08/Logo-ASviS-e1736929301112.png
END:VEVENT
BEGIN:VEVENT
DTSTART;VALUE=DATE:20251104
DTEND;VALUE=DATE:20251105
DTSTAMP:20260421T063110
CREATED:20251016T145417Z
LAST-MODIFIED:20251016T145508Z
UID:41809-1762214400-1762300799@www.improntaetica.org
SUMMARY:4/11 | Philantropea - Edizione 2025
DESCRIPTION:Un confronto tra aziende e enti non profit con il patrocinio di Impronta Etica.\nSi terrà il 4 novembre online\, l’evento Philantropea\, il più grande evento digitale e gratuito in Italia per dare voce alle collaborazioni tra aziende e non profit. L’evento promosso da Italia non profit\, Granter e Fornonprofit intende valorizzare lo scambio tra mondo profit e non profit come leva strategica di crescita e impatto per entrambe le parti. \nL’Edizione 2025 di Philantropea\, patrocinata da Impronta Etica\,  è un’occasione per dare vita ad un confronto diretto e senza retorica sulle collaborazioni tra impresee enti ed organizzazioni non profit. L’evento intende portare un approccio pragmatico riservando ampio spazio ai dati e agli insight oltre agli strumenti operative e alle testimonianze reali. \nL’obiettivo dell’evento è comprendere come le partnership tra profit e non profit possono dare vita a circoli virtuosi correggendo ciò che funziona e quello su cui serve migliorare insieme. \nMaggiori informazioni sul programma sono disponibili al seguente link.
URL:https://www.improntaetica.org/evento/4-11-philantropea-edizione-2025/
CATEGORIES:Eventi 2025
ATTACH;FMTTYPE=image/jpeg:https://www.improntaetica.org/wp-content/uploads/2025/10/squared-Philantropea1-e1760626416603.jpg
END:VEVENT
BEGIN:VEVENT
DTSTART;TZID=Europe/Rome:20250515T123000
DTEND;TZID=Europe/Rome:20250515T130000
DTSTAMP:20260421T063110
CREATED:20250514T111701Z
LAST-MODIFIED:20250514T123554Z
UID:41176-1747312200-1747314000@www.improntaetica.org
SUMMARY:15/05 | Puntata del Salone Extra dedicata a Impronta Etica
DESCRIPTION:Un webinar per raccontare chi siamo e cosa facciamo.\nNuovo appuntamento del ciclo di incontri promossi dal Salone della CSR per far conoscere a livello nazionale l’attività di alcune reti che operano per far crescere la cultura della sostenibilità. Il focus del terzo appuntamento è su Impronta Etica. \nRacconteremo la nostra Associazione\, il lavoro svolto con i Soci e sul territorio e il nostro sguardo al futuro. \nDurante l’edizione nazionale del Salone in ottobre a Milano le reti territoriali si incontreranno per confrontarsi\, condividere esperienze\, raccontare opportunità e criticità incontrate nelle loro attività. \nE’ possibile iscriversi al seguente link. \nSCARICA IL PROGRAMMA
URL:https://www.improntaetica.org/evento/15-05-puntata-del-salone-extra-dedicata-a-impronta-etica/
CATEGORIES:Eventi 2025
ATTACH;FMTTYPE=image/png:https://www.improntaetica.org/wp-content/uploads/2019/08/Salone-CSR-e1530797613406.png
END:VEVENT
BEGIN:VEVENT
DTSTART;TZID=Europe/Rome:20250325T114500
DTEND;TZID=Europe/Rome:20250325T123000
DTSTAMP:20260421T063110
CREATED:20250319T164108Z
LAST-MODIFIED:20250319T164108Z
UID:40991-1742903100-1742905800@www.improntaetica.org
SUMMARY:25/03 | Seminario sul Bilancio di Impatto
DESCRIPTION:Misurare e comunicare il valore sociale d’azienda.\nIl 25 marzo si terrà dalle 11.45 alle 12.30 presso la Biblioteca Comunale Natalia Ginzburg di Castel Maggiore\, Via Bondanello 39\, Castel Maggiore (BO)\,  all’interno della seconda edizione della Fiera del Lavoro 2025 dell’Unione Reno Galliera il seminario sul bilancio di impatto in collaborazione tra il FaLab di Castel Maggiore e Impronta Etica. \nIl seminario rappresenta un’opportunità per le imprese per comprendere il valore strategico del bilancio di impatto come strumento per misurare e comunicare il valore sociale ed economico generato dalle loro attività. In questo seminario\, i partecipanti impareranno a integrare pratiche di misurazione dell’impatto nei loro modelli di business\, comprendendo come queste possano migliorare la reputazione aziendale\, attrarre talenti e favorire decisioni più consapevoli. \nAttraverso casi concreti e metodi pratici\, sarà possibile comprendere come il bilancio di impatto possa diventare un driver di cambiamento positivo all’interno e all’esterno dell’azienda. \nE’ possibile registrarsi al seguente link.
URL:https://www.improntaetica.org/evento/25-03-seminario-sul-bilancio-di-impatto/
CATEGORIES:Eventi 2025
ATTACH;FMTTYPE=image/png:https://www.improntaetica.org/wp-content/uploads/2025/03/seminario-e1742377002571.png
END:VEVENT
BEGIN:VEVENT
DTSTART;TZID=Europe/Rome:20241111T180000
DTEND;TZID=Europe/Rome:20241111T193000
DTSTAMP:20260421T063110
CREATED:20241008T083827Z
LAST-MODIFIED:20241114T111841Z
UID:40239-1731348000-1731353400@www.improntaetica.org
SUMMARY:11/11 | Presentazione del libro "Una nuova leadership"
DESCRIPTION:Esperienze e lesson learned in 13 aziende italiane.\nL’11 novembre 2024 alle 18.00\, presso Librerie.coop Zanichelli\, piazza Galvani 1/h a Bologna\, verrà presentato il libro “Una nuova leadership” che contiene esperienze di diverse aziende rispetto al tema della leadership e alle sue trasformazioni. Il progetto è stato promosso dal Comitato Scientifico di BOOM Knowledge Hub\, Innovation Hub dell’impresa socia CRIF\, Socio di Impronta Etica. \nAlla presentazione interverranno il curatore Andrea Fiorenza\,  Horsa S.p.A\, e alcune delle persone che hanno contribuito alla stesura del libro tra cui Alice Molta\, Project Manager di Impronta Etica con lo scopo di esplorare il concetto di “leadership trasformativa“. Tra le altre aziende presenti all’incontro vi saranno manager di diverse imprese socie di Impronta Etica come CRIF\, Camst e BPER. \nMaggiori informazioni sono disponibili al seguente link. \nSCARICA LA LOCANDINA
URL:https://www.improntaetica.org/evento/11-11-presentazione-del-libro-una-nuova-leadership/
CATEGORIES:Eventi 2024
ATTACH;FMTTYPE=image/jpeg:https://www.improntaetica.org/wp-content/uploads/2023/02/boom.jpg
END:VEVENT
BEGIN:VEVENT
DTSTART;TZID=Europe/Rome:20210913T150000
DTEND;TZID=Europe/Rome:20210913T170000
DTSTAMP:20260421T063110
CREATED:20210722T134915Z
LAST-MODIFIED:20210908T090154Z
UID:33325-1631545200-1631552400@www.improntaetica.org
SUMMARY:13/09 | L'evento di celebrazione dei 20 anni di Impronta Etica
DESCRIPTION:Imprese sostenibili\, Impronta sul futuro.\nIl 13 settembre alle ore 15.00 si svolgerà online l’evento di celebrazione dei 20 anni di Impronta Etica. \nL’evento “Imprese sostenibili\, Impronta sul futuro. Un passato lungo vent’anni\, un futuro ancora da scrivere” vuole essere un’occasione di confronto e scambio multistakeholder volta ad evidenziare l’importanza della sostenibilità e il ruolo delle imprese nel processo di transizione verso un mondo più sostenibile. \nÈ possibile registrarsi al seguente link per ricevere il programma e le informazioni per il collegamento.  \nScarica il programma
URL:https://www.improntaetica.org/evento/13-09-levento-di-celebrazione-dei-20-anni-di-impronta-etica/
ATTACH;FMTTYPE=image/jpeg:https://www.improntaetica.org/wp-content/uploads/2021/07/StD_ok.jpg
END:VEVENT
END:VCALENDAR