BEGIN:VCALENDAR
VERSION:2.0
PRODID:-//Impronta Etica - ECPv6.15.20//NONSGML v1.0//EN
CALSCALE:GREGORIAN
METHOD:PUBLISH
X-WR-CALNAME:Impronta Etica
X-ORIGINAL-URL:https://www.improntaetica.org
X-WR-CALDESC:Eventi per Impronta Etica
REFRESH-INTERVAL;VALUE=DURATION:PT1H
X-Robots-Tag:noindex
X-PUBLISHED-TTL:PT1H
BEGIN:VTIMEZONE
TZID:Europe/Rome
BEGIN:DAYLIGHT
TZOFFSETFROM:+0100
TZOFFSETTO:+0200
TZNAME:CEST
DTSTART:20160327T010000
END:DAYLIGHT
BEGIN:STANDARD
TZOFFSETFROM:+0200
TZOFFSETTO:+0100
TZNAME:CET
DTSTART:20161030T010000
END:STANDARD
BEGIN:DAYLIGHT
TZOFFSETFROM:+0100
TZOFFSETTO:+0200
TZNAME:CEST
DTSTART:20170326T010000
END:DAYLIGHT
BEGIN:STANDARD
TZOFFSETFROM:+0200
TZOFFSETTO:+0100
TZNAME:CET
DTSTART:20171029T010000
END:STANDARD
BEGIN:DAYLIGHT
TZOFFSETFROM:+0100
TZOFFSETTO:+0200
TZNAME:CEST
DTSTART:20180325T010000
END:DAYLIGHT
BEGIN:STANDARD
TZOFFSETFROM:+0200
TZOFFSETTO:+0100
TZNAME:CET
DTSTART:20181028T010000
END:STANDARD
BEGIN:DAYLIGHT
TZOFFSETFROM:+0100
TZOFFSETTO:+0200
TZNAME:CEST
DTSTART:20190331T010000
END:DAYLIGHT
BEGIN:STANDARD
TZOFFSETFROM:+0200
TZOFFSETTO:+0100
TZNAME:CET
DTSTART:20191027T010000
END:STANDARD
BEGIN:DAYLIGHT
TZOFFSETFROM:+0100
TZOFFSETTO:+0200
TZNAME:CEST
DTSTART:20200329T010000
END:DAYLIGHT
BEGIN:STANDARD
TZOFFSETFROM:+0200
TZOFFSETTO:+0100
TZNAME:CET
DTSTART:20201025T010000
END:STANDARD
BEGIN:DAYLIGHT
TZOFFSETFROM:+0100
TZOFFSETTO:+0200
TZNAME:CEST
DTSTART:20210328T010000
END:DAYLIGHT
BEGIN:STANDARD
TZOFFSETFROM:+0200
TZOFFSETTO:+0100
TZNAME:CET
DTSTART:20211031T010000
END:STANDARD
BEGIN:DAYLIGHT
TZOFFSETFROM:+0100
TZOFFSETTO:+0200
TZNAME:CEST
DTSTART:20220327T010000
END:DAYLIGHT
BEGIN:STANDARD
TZOFFSETFROM:+0200
TZOFFSETTO:+0100
TZNAME:CET
DTSTART:20221030T010000
END:STANDARD
BEGIN:DAYLIGHT
TZOFFSETFROM:+0100
TZOFFSETTO:+0200
TZNAME:CEST
DTSTART:20230326T010000
END:DAYLIGHT
BEGIN:STANDARD
TZOFFSETFROM:+0200
TZOFFSETTO:+0100
TZNAME:CET
DTSTART:20231029T010000
END:STANDARD
BEGIN:DAYLIGHT
TZOFFSETFROM:+0100
TZOFFSETTO:+0200
TZNAME:CEST
DTSTART:20240331T010000
END:DAYLIGHT
BEGIN:STANDARD
TZOFFSETFROM:+0200
TZOFFSETTO:+0100
TZNAME:CET
DTSTART:20241027T010000
END:STANDARD
BEGIN:DAYLIGHT
TZOFFSETFROM:+0100
TZOFFSETTO:+0200
TZNAME:CEST
DTSTART:20250330T010000
END:DAYLIGHT
BEGIN:STANDARD
TZOFFSETFROM:+0200
TZOFFSETTO:+0100
TZNAME:CET
DTSTART:20251026T010000
END:STANDARD
BEGIN:DAYLIGHT
TZOFFSETFROM:+0100
TZOFFSETTO:+0200
TZNAME:CEST
DTSTART:20260329T010000
END:DAYLIGHT
BEGIN:STANDARD
TZOFFSETFROM:+0200
TZOFFSETTO:+0100
TZNAME:CET
DTSTART:20261025T010000
END:STANDARD
END:VTIMEZONE
BEGIN:VEVENT
DTSTART;TZID=Europe/Rome:20250919T090000
DTEND;TZID=Europe/Rome:20250919T130000
DTSTAMP:20260421T060817
CREATED:20250910T113526Z
LAST-MODIFIED:20250912T085055Z
UID:41486-1758272400-1758286800@www.improntaetica.org
SUMMARY:19/09 | City Flows 2025
DESCRIPTION:Inclusione e diritto alla mobilità.\nSi terrà il 19 settembre 2025 dalle 9.00 alle 13.00  a Perugia \, presso l’Auditorium di San Francesco al Prato (Via San Francesco\, 4) l’edizione annuale di City Flows\, nell’ambito del calendario dell’European Mobility Week​\, iniziativa promossa da Fondazione Unipolis\, in collaborazione con l‘European Transport Safety Council (ETSC)\, i Consigli Regionali Unipol (CRU) e le Agenzie Unipol. \nIn linea con il tema ufficiale proposto dalla Commissione Europea “Mobility for everyone”  il convegno indagherà il tema delle disuguaglianze nell’accesso ai servizi di mobilità\, analizzando ostacoli e soluzioni possibili. Il programma\, che sarà pubblicato nelle prossime settimane\, prevede casi studio internazionali e la presentazione di nuove ricerche\, a cura di esperti e organizzazioni impegnate sul campo. \nDue le direttrici principali del confronto: \n\nAree interne e periferie urbane: per riflettere su come garantire un accesso continuo\, sicuro e sostenibile alla mobilità nelle zone rurali e periferiche.\n​Mobilità di rifugiati e migranti: per evidenziare ostacoli e opportunità nel percorso verso la loro autonomia e inclusione.\n\nL’evento si potrà seguire sia in presenza che in streaming\, in italiano e inglese\, sul canale YouTube di Fondazione Unipolis. ​​ \nMaggiori informazioni sono disponibili al seguente link.
URL:https://www.improntaetica.org/evento/19-09-city-flows-2025/
CATEGORIES:Eventi 2025
ATTACH;FMTTYPE=image/jpeg:https://www.improntaetica.org/wp-content/uploads/2025/07/CityFlows_socialEN-e1752222876689.jpg
END:VEVENT
BEGIN:VEVENT
DTSTART;TZID=Europe/Rome:20190911T100000
DTEND;TZID=Europe/Rome:20190911T180000
DTSTAMP:20260421T060817
CREATED:20190709T083003Z
LAST-MODIFIED:20190709T083003Z
UID:16837-1568196000-1568224800@www.improntaetica.org
SUMMARY:Global Inclusion
DESCRIPTION:Etica e crescita economica si fondono in un progetto aperto al futuro.\nGlobal Inclusion è un’iniziativa senza fini di lucro o di fede politica costituita con l’intenzione di valorizzare il contributo delle politiche di inclusione all’interno delle aziende come leva competitiva per lo sviluppo delle organizzazioni.\nUno spazio di responsabilità sociale per imprese\, associazioni non profit\, istituzioni\, scuole e università che scelgono una strategia integrata di comunicazione interna\, esterna ed employer branding sull’inclusione.\nE’ possibile consultare il programma al seguente link.\nMaggiori informazioni sono disponibili al seguente link.
URL:https://www.improntaetica.org/evento/global-inclusion/
LOCATION:FICO Eataly World\, Via Paolo Canali\, 8\, Bologna\, 40127\, Italia
ATTACH;FMTTYPE=:
END:VEVENT
BEGIN:VEVENT
DTSTART;TZID=Europe/Rome:20170216T103000
DTEND;TZID=Europe/Rome:20170216T130000
DTSTAMP:20260421T060817
CREATED:20170131T090709Z
LAST-MODIFIED:20170131T090709Z
UID:11888-1487241000-1487250000@www.improntaetica.org
SUMMARY:Cultura e inclusione sociale | La sfida della rigenerazione urbana
DESCRIPTION:Fondazione Unipolis promuove l’edizione 2017 del bando Culturability.\nDurante l’incontro “Cultura e inclusione sociale. La sfida della rigenerazione urbana”\, verrà presentata la nuova edizione di Culturability\, il bando promosso dalla Fondazione Unipolis per sostenere progetti culturali ad alto impatto sociale di rigenerazione e riattivazione di spazi. \nNel corso della mattinata verranno presentati anche i progetti selezionati con il bando Culturability 2016 – rigenerare spazi da condividere.\nLa partecipazione è libera\, ma occorre registrarsi alla mail info@fondazioneunipolis.org.\nMaggiori informazioni sono disponibili al seguente link.\nProgramma
URL:https://www.improntaetica.org/evento/cultura-inclusione-sociale-la-sfida-della-rigenerazione-urbana/
LOCATION:Fondazione Giangiacomo Feltrinelli\, Viale Pasubio 5 (Fondazione Feltrinelli)\, Milano\, Italia
END:VEVENT
END:VCALENDAR