BEGIN:VCALENDAR
VERSION:2.0
PRODID:-//Impronta Etica - ECPv6.15.20//NONSGML v1.0//EN
CALSCALE:GREGORIAN
METHOD:PUBLISH
X-WR-CALNAME:Impronta Etica
X-ORIGINAL-URL:https://www.improntaetica.org
X-WR-CALDESC:Eventi per Impronta Etica
REFRESH-INTERVAL;VALUE=DURATION:PT1H
X-Robots-Tag:noindex
X-PUBLISHED-TTL:PT1H
BEGIN:VTIMEZONE
TZID:Europe/Rome
BEGIN:DAYLIGHT
TZOFFSETFROM:+0100
TZOFFSETTO:+0200
TZNAME:CEST
DTSTART:20160327T010000
END:DAYLIGHT
BEGIN:STANDARD
TZOFFSETFROM:+0200
TZOFFSETTO:+0100
TZNAME:CET
DTSTART:20161030T010000
END:STANDARD
BEGIN:DAYLIGHT
TZOFFSETFROM:+0100
TZOFFSETTO:+0200
TZNAME:CEST
DTSTART:20170326T010000
END:DAYLIGHT
BEGIN:STANDARD
TZOFFSETFROM:+0200
TZOFFSETTO:+0100
TZNAME:CET
DTSTART:20171029T010000
END:STANDARD
BEGIN:DAYLIGHT
TZOFFSETFROM:+0100
TZOFFSETTO:+0200
TZNAME:CEST
DTSTART:20180325T010000
END:DAYLIGHT
BEGIN:STANDARD
TZOFFSETFROM:+0200
TZOFFSETTO:+0100
TZNAME:CET
DTSTART:20181028T010000
END:STANDARD
BEGIN:DAYLIGHT
TZOFFSETFROM:+0100
TZOFFSETTO:+0200
TZNAME:CEST
DTSTART:20190331T010000
END:DAYLIGHT
BEGIN:STANDARD
TZOFFSETFROM:+0200
TZOFFSETTO:+0100
TZNAME:CET
DTSTART:20191027T010000
END:STANDARD
END:VTIMEZONE
BEGIN:VEVENT
DTSTART;VALUE=DATE:20181023
DTEND;VALUE=DATE:20181026
DTSTAMP:20260421T044942
CREATED:20180914T081119Z
LAST-MODIFIED:20180914T081119Z
UID:15393-1540252800-1540511999@www.improntaetica.org
SUMMARY:Smau Milano 2018
DESCRIPTION:L’evento per le imprese e i professionisti italiani dei settori innovazione e digitale.\nSmau è una piattaforma di business matching per tutte le imprese e gli attori pubblici che desiderano guardare oltre il presente cogliendo le opportunità offerte dalle nuove tecnologie\, dal mondo digital e dalle startup più promettenti.\nMaggiori informazioni sono disponibili al seguente link.\nE’ possibile consultare il programma a questo link.
URL:https://www.improntaetica.org/evento/smau-milano-2018/
LOCATION:fieramilanocity – Padiglioni 3 e 4\, Via Calatafimi 10\, Milano
ATTACH;FMTTYPE=:
END:VEVENT
BEGIN:VEVENT
DTSTART;VALUE=DATE:20170201
DTEND;VALUE=DATE:20170203
DTSTAMP:20260421T044942
CREATED:20170115T165535Z
LAST-MODIFIED:20170115T165535Z
UID:11741-1485907200-1486079999@www.improntaetica.org
SUMMARY:La fiera dell'Innovazione Sociale Digitale
DESCRIPTION:Digital Social Innovation Fair 2017: Come può internet essere un beneficio per gli individui e per la società?\nL’evento – organizzato da CAPSSI\, Collective Awareness Platforms for Sustainability and Social Innovation – attraverso conferenze e workshop\, avrà l’obiettivo di comprendere come internet possa essere utilizzato per risolvere numerose sfide attuali\, beneficiando sia agli individui che alla società nel suo complesso\, portando alla prossima generazione di internet in cui l’essere umano è al centro: “Internet for Humans”.\nL’evento\, sarà inoltre l’occasione per discutere di come i processi di innovazione sociale digitale possono essere applicati\, trasferiti e potenzialmente riutilizzati per un efficace scale-up di iniziative di innovazione sociale nella società europea.\nMaggiori informazioni sono disponibili qui.\nA questo link è possibile consultare il programma dell’evento.\nE’ possibile registrarsi qui.
URL:https://www.improntaetica.org/evento/la-fiera-dellinnovazione-sociale-digitale/
LOCATION:Sala della Protomoteca in Campidoglio\, Piazza del Campidoglio\, Roma\, Italia
END:VEVENT
END:VCALENDAR