BEGIN:VCALENDAR
VERSION:2.0
PRODID:-//Impronta Etica - ECPv6.15.20//NONSGML v1.0//EN
CALSCALE:GREGORIAN
METHOD:PUBLISH
X-WR-CALNAME:Impronta Etica
X-ORIGINAL-URL:https://www.improntaetica.org
X-WR-CALDESC:Eventi per Impronta Etica
REFRESH-INTERVAL;VALUE=DURATION:PT1H
X-Robots-Tag:noindex
X-PUBLISHED-TTL:PT1H
BEGIN:VTIMEZONE
TZID:Europe/Rome
BEGIN:DAYLIGHT
TZOFFSETFROM:+0100
TZOFFSETTO:+0200
TZNAME:CEST
DTSTART:20250330T010000
END:DAYLIGHT
BEGIN:STANDARD
TZOFFSETFROM:+0200
TZOFFSETTO:+0100
TZNAME:CET
DTSTART:20251026T010000
END:STANDARD
BEGIN:DAYLIGHT
TZOFFSETFROM:+0100
TZOFFSETTO:+0200
TZNAME:CEST
DTSTART:20260329T010000
END:DAYLIGHT
BEGIN:STANDARD
TZOFFSETFROM:+0200
TZOFFSETTO:+0100
TZNAME:CET
DTSTART:20261025T010000
END:STANDARD
BEGIN:DAYLIGHT
TZOFFSETFROM:+0100
TZOFFSETTO:+0200
TZNAME:CEST
DTSTART:20270328T010000
END:DAYLIGHT
BEGIN:STANDARD
TZOFFSETFROM:+0200
TZOFFSETTO:+0100
TZNAME:CET
DTSTART:20271031T010000
END:STANDARD
END:VTIMEZONE
BEGIN:VEVENT
DTSTART;TZID=Europe/Rome:20260128T110000
DTEND;TZID=Europe/Rome:20260128T130000
DTSTAMP:20260421T023801
CREATED:20260127T155439Z
LAST-MODIFIED:20260127T155439Z
UID:42407-1769598000-1769605200@www.improntaetica.org
SUMMARY:Il Gemello Digitale Civico di Bologna
DESCRIPTION:Dati condivisi e intelligenza collettiva per progettare insieme il futuro della città.\n\n\nSi terrà mercoledì 28 gennaio dalle 11.00 alle 13.00 presso gli spazi della Fondazione Golinelli l’evento a cura del Comune di Bologna e di Fondazione IU Rusconi Ghigi un evento dedicato ad approfondire il progetto del Gemello Digitale all’interno della città di Bologna.\n\nIl  progetto Gemello Digitale Civico offre una nuova infrastruttura strategica con l’obiettivo di sostenere decisoni pubbliche informate\, integrate e trasparenti attraverso una combinazione di analisi dati\, di nuovi modelli e simulazioni sugli effetti. Per favorire al meglio l’implementazione del Gemello Digitale il Comune di Bologna assieme ai partner facenti parte dell’ecosistema dell’innovazione del bolognese hanno avviato investimenti comuni e collaborativi.\n\nObiettivo finale della giornaa è quella di aprire il Gemello Digitale Civico come spazio collaborativo e abilitante in grado di coinvolgere tutti gli attori del territorio per costruire valore pubblico condiviso.\n\nMaggiori informazioni per l’iscrizione e sull’evento sono disponibili al seguente link.
URL:https://www.improntaetica.org/evento/il-gemello-digitale-civico-di-bologna/
CATEGORIES:Eventi 2026,Eventi 2026
ATTACH;FMTTYPE=image/png:https://www.improntaetica.org/wp-content/uploads/2026/01/Screenshot-2026-01-27-165347.png
END:VEVENT
END:VCALENDAR