BEGIN:VCALENDAR
VERSION:2.0
PRODID:-//Impronta Etica - ECPv6.15.20//NONSGML v1.0//EN
CALSCALE:GREGORIAN
METHOD:PUBLISH
X-ORIGINAL-URL:https://www.improntaetica.org
X-WR-CALDESC:Eventi per Impronta Etica
REFRESH-INTERVAL;VALUE=DURATION:PT1H
X-Robots-Tag:noindex
X-PUBLISHED-TTL:PT1H
BEGIN:VTIMEZONE
TZID:Europe/Rome
BEGIN:DAYLIGHT
TZOFFSETFROM:+0100
TZOFFSETTO:+0200
TZNAME:CEST
DTSTART:20230326T010000
END:DAYLIGHT
BEGIN:STANDARD
TZOFFSETFROM:+0200
TZOFFSETTO:+0100
TZNAME:CET
DTSTART:20231029T010000
END:STANDARD
BEGIN:DAYLIGHT
TZOFFSETFROM:+0100
TZOFFSETTO:+0200
TZNAME:CEST
DTSTART:20240331T010000
END:DAYLIGHT
BEGIN:STANDARD
TZOFFSETFROM:+0200
TZOFFSETTO:+0100
TZNAME:CET
DTSTART:20241027T010000
END:STANDARD
BEGIN:DAYLIGHT
TZOFFSETFROM:+0100
TZOFFSETTO:+0200
TZNAME:CEST
DTSTART:20250330T010000
END:DAYLIGHT
BEGIN:STANDARD
TZOFFSETFROM:+0200
TZOFFSETTO:+0100
TZNAME:CET
DTSTART:20251026T010000
END:STANDARD
END:VTIMEZONE
BEGIN:VEVENT
DTSTART;TZID=Europe/Rome:20240703T100000
DTEND;TZID=Europe/Rome:20240703T100000
DTSTAMP:20260421T083756
CREATED:20240701T074038Z
LAST-MODIFIED:20240701T074410Z
UID:39420-1720000800-1720000800@www.improntaetica.org
SUMMARY:3/07 | Presentazione Bilancio Integrato Tper 2023
DESCRIPTION:Un evento di confronto e dialogo con gli stakeholder.\nIl prossimo 3 luglio alle ore 10.00 si terrà la presentazione del bilancio integrato 2023 del Gruppo TPER\, Socio di Impronta Etica\, presso la sede aziendale di Bologna\, in via di Saliceto 3. \nUn importante vento di confronto e dialogo con gli stakeholder sui temi della mobilità e dello sviluppo sostenibile. A partire dall’illustrazione dei risultati 2023\, si discuterà di scenari previsti\, obiettivi industriali\, impatti auspicati. \nE’ possibile iscriversi al seguente link. \nSCARICA IL PROGRAMMA
URL:https://www.improntaetica.org/evento/3-07-presentazione-bilancio-integrato-tper-2023/
ATTACH;FMTTYPE=image/png:https://www.improntaetica.org/wp-content/uploads/2018/01/logo_TPER_0.png
END:VEVENT
END:VCALENDAR