BEGIN:VCALENDAR
VERSION:2.0
PRODID:-//Impronta Etica - ECPv6.15.20//NONSGML v1.0//EN
CALSCALE:GREGORIAN
METHOD:PUBLISH
X-ORIGINAL-URL:https://www.improntaetica.org
X-WR-CALDESC:Eventi per Impronta Etica
REFRESH-INTERVAL;VALUE=DURATION:PT1H
X-Robots-Tag:noindex
X-PUBLISHED-TTL:PT1H
BEGIN:VTIMEZONE
TZID:Europe/Rome
BEGIN:DAYLIGHT
TZOFFSETFROM:+0100
TZOFFSETTO:+0200
TZNAME:CEST
DTSTART:20210328T010000
END:DAYLIGHT
BEGIN:STANDARD
TZOFFSETFROM:+0200
TZOFFSETTO:+0100
TZNAME:CET
DTSTART:20211031T010000
END:STANDARD
BEGIN:DAYLIGHT
TZOFFSETFROM:+0100
TZOFFSETTO:+0200
TZNAME:CEST
DTSTART:20220327T010000
END:DAYLIGHT
BEGIN:STANDARD
TZOFFSETFROM:+0200
TZOFFSETTO:+0100
TZNAME:CET
DTSTART:20221030T010000
END:STANDARD
BEGIN:DAYLIGHT
TZOFFSETFROM:+0100
TZOFFSETTO:+0200
TZNAME:CEST
DTSTART:20230326T010000
END:DAYLIGHT
BEGIN:STANDARD
TZOFFSETFROM:+0200
TZOFFSETTO:+0100
TZNAME:CET
DTSTART:20231029T010000
END:STANDARD
END:VTIMEZONE
BEGIN:VEVENT
DTSTART;TZID=Europe/Rome:20221021T103000
DTEND;TZID=Europe/Rome:20221021T153000
DTSTAMP:20260421T072413
CREATED:20220923T143935Z
LAST-MODIFIED:20220923T143935Z
UID:35511-1666348200-1666366200@www.improntaetica.org
SUMMARY:21/10 | Salone SRI 2022
DESCRIPTION:L’inizio della settima edizione a Roma.\nIl 21 ottobre\, dalle 10:30 alle 15:30\, l’Università Cattolica ospiterà nella sua sede\, solo in presenza\, due tavole rotonde e un pranzo di networking per la tappa capitolina del Salone SRI 2022\, organizzato da Etica News in collaborazione con ALTIS Unicatt. \nL’evento coinvolgerà gli investitori istituzionali\, gli asset manager\, e i docenti del Master in Finanza Sostenibile di ALTIS Università Cattolica. Le tematiche saranno in coerenza con gli obiettivi di salone.SRI 2022 che punta ad aiutare la distinzione tra i grandi volumi di prodotti e servizi sostenibili che hanno travolto il mercato.L’evento in Università Cattolica\, in particolare\, si focalizzerà sullo sviluppo del capitale umano su cui investire\, nonché sulle frontiere dell’engagement adottato dai fondi pensione\, in relazione alla shareholder rights directive. Con “l’inizio a Roma“\, salone.SRI per la prima volta apre gli orizzonti della finanza Esg oltre gli abituali confini di Milano. \nMaggiori informazioni sono disponibili al seguente link. \nE’ possibile registrarsi al seguente link.
URL:https://www.improntaetica.org/evento/21-10-salone-sri-2022/
ATTACH;FMTTYPE=image/jpeg:https://www.improntaetica.org/wp-content/uploads/2022/09/salone-sri.jpg
END:VEVENT
END:VCALENDAR