BEGIN:VCALENDAR
VERSION:2.0
PRODID:-//Impronta Etica - ECPv6.15.20//NONSGML v1.0//EN
CALSCALE:GREGORIAN
METHOD:PUBLISH
X-WR-CALNAME:Impronta Etica
X-ORIGINAL-URL:https://www.improntaetica.org
X-WR-CALDESC:Eventi per Impronta Etica
REFRESH-INTERVAL;VALUE=DURATION:PT1H
X-Robots-Tag:noindex
X-PUBLISHED-TTL:PT1H
BEGIN:VTIMEZONE
TZID:Europe/Rome
BEGIN:DAYLIGHT
TZOFFSETFROM:+0100
TZOFFSETTO:+0200
TZNAME:CEST
DTSTART:20220327T010000
END:DAYLIGHT
BEGIN:STANDARD
TZOFFSETFROM:+0200
TZOFFSETTO:+0100
TZNAME:CET
DTSTART:20221030T010000
END:STANDARD
BEGIN:DAYLIGHT
TZOFFSETFROM:+0100
TZOFFSETTO:+0200
TZNAME:CEST
DTSTART:20230326T010000
END:DAYLIGHT
BEGIN:STANDARD
TZOFFSETFROM:+0200
TZOFFSETTO:+0100
TZNAME:CET
DTSTART:20231029T010000
END:STANDARD
BEGIN:DAYLIGHT
TZOFFSETFROM:+0100
TZOFFSETTO:+0200
TZNAME:CEST
DTSTART:20240331T010000
END:DAYLIGHT
BEGIN:STANDARD
TZOFFSETFROM:+0200
TZOFFSETTO:+0100
TZNAME:CET
DTSTART:20241027T010000
END:STANDARD
BEGIN:DAYLIGHT
TZOFFSETFROM:+0100
TZOFFSETTO:+0200
TZNAME:CEST
DTSTART:20250330T010000
END:DAYLIGHT
BEGIN:STANDARD
TZOFFSETFROM:+0200
TZOFFSETTO:+0100
TZNAME:CET
DTSTART:20251026T010000
END:STANDARD
BEGIN:DAYLIGHT
TZOFFSETFROM:+0100
TZOFFSETTO:+0200
TZNAME:CEST
DTSTART:20260329T010000
END:DAYLIGHT
BEGIN:STANDARD
TZOFFSETFROM:+0200
TZOFFSETTO:+0100
TZNAME:CET
DTSTART:20261025T010000
END:STANDARD
END:VTIMEZONE
BEGIN:VEVENT
DTSTART;TZID=Europe/Rome:20251020T170000
DTEND;TZID=Europe/Rome:20251020T183000
DTSTAMP:20260421T035042
CREATED:20251001T144302Z
LAST-MODIFIED:20251001T144302Z
UID:41744-1760979600-1760985000@www.improntaetica.org
SUMMARY:20/10 | Ma che fine fanno gli standard settoriali di rendicontazione di sostenibilità?
DESCRIPTION:Un nuovo webinar a cura di OIBR.\nSi terrà lunedì 20 ottobre dalle 17.00 alle 18.30\, online\, il nuovo webinar a cura di Fondazione O.I.B.R.\, che esplorerà l’incertezza normativa e strategica che vivono gli standard settoriali\, prima parte integrante della CSRD e oggi relegati ad un ruolo secondario che ne prevede la scomparsa nel prossimo futuro. \nIn un contesto che ricerca la comparabilità delle informazioni\, come evidenzia il lavoro svolto dall’ISSB che ha pubblicato i propri standard settoriali\, ci si domanda come si muoveranno le autorità europee. In un panorama che muta molto rapidamente è fondamentale più che mai oggi riflettere sulle possibili implicazioni dell’assenza di standard settoriali per la rendicontazione di sostenibilità europea. \nDurante il webinar interverranno esperti nazionali e internazionali\, che aiuteranno i partecipanti ad orientarsi in questo quadro complesso. \nMaggiori informazioni sul programma e su come iscriversi sono disponibili al seguente link.
URL:https://www.improntaetica.org/evento/20-10-ma-che-fine-fanno-gli-standard-settoriali-di-rendicontazione-di-sostenibilita/
CATEGORIES:Eventi 2025
ATTACH;FMTTYPE=image/jpeg:https://www.improntaetica.org/wp-content/uploads/2025/01/oibr-e1736263060142.jpg
END:VEVENT
BEGIN:VEVENT
DTSTART;TZID=Europe/Rome:20231012T153000
DTEND;TZID=Europe/Rome:20231012T173000
DTSTAMP:20260421T035042
CREATED:20230824T131721Z
LAST-MODIFIED:20230908T144534Z
UID:37326-1697124600-1697131800@www.improntaetica.org
SUMMARY:12/10 | Gli Standard IFRS s1 ed S2 dell’ISSB: presentazione\, prospettive e interoperabilità
DESCRIPTION:Il nuovo webinar della Fondazione O.I.B.R.\nIl 26 giugno 2023 l’International Sustainability Standards Board (ISSB) della Fondazione IFRS ha pubblicato con un lancio simultaneo in molte Borse mondiali i suoi primi standard internazionali per la rendicontazione di sostenibilità\, ovvero l’IFRS S1 dedicato ai requisiti generali per le informazioni di sostenibilità rilevanti dal punto di vista finanziario\, e l’IFRS S2 che tratta specificamente le disclosures aziendali legate al clima. Si tratta di un evento epocale per il mondo del reporting poiché il più autorevole organismo internazionale in questo campo\, la Fondazione IFRS\, ha iniziato l’elaborazione di standard per questo genere di rendicontazione. \nL’obiettivo del presente Webinar di Fondazione O.I.B.R.che si terrà il 12 ottobre dalle ore 15:30  alle ore 17:30 dalle ore  è quello non solo di approfondire i contenuti dei due standard\, ma anche di presentare il nuovo scenario internazionale in cui si colloca l’importante azione dell’ISSB\, la sua relazione con altri standard setter della sostenibilità (ovvero l’interoperabilità in particolare con l’EFRAG e il GRI)\, e la sua agenda di lavoro futura alla luce della recente consultazione pubblica internazionale (“Request for Information” con scadenza 1° settembre). \nE’ possibile iscriversi ed ottenere maggiori informazioni circa il programma al seguente link.
URL:https://www.improntaetica.org/evento/12-10-gli-standard-ifrs-s1-ed-s2-dellissb-presentazione-prospettive-e-interoperabilita/
ATTACH;FMTTYPE=image/png:https://www.improntaetica.org/wp-content/uploads/2019/08/oibr.png
END:VEVENT
END:VCALENDAR