BEGIN:VCALENDAR
VERSION:2.0
PRODID:-//Impronta Etica - ECPv6.15.20//NONSGML v1.0//EN
CALSCALE:GREGORIAN
METHOD:PUBLISH
X-ORIGINAL-URL:https://www.improntaetica.org
X-WR-CALDESC:Eventi per Impronta Etica
REFRESH-INTERVAL;VALUE=DURATION:PT1H
X-Robots-Tag:noindex
X-PUBLISHED-TTL:PT1H
BEGIN:VTIMEZONE
TZID:Europe/Rome
BEGIN:DAYLIGHT
TZOFFSETFROM:+0100
TZOFFSETTO:+0200
TZNAME:CEST
DTSTART:20210328T010000
END:DAYLIGHT
BEGIN:STANDARD
TZOFFSETFROM:+0200
TZOFFSETTO:+0100
TZNAME:CET
DTSTART:20211031T010000
END:STANDARD
BEGIN:DAYLIGHT
TZOFFSETFROM:+0100
TZOFFSETTO:+0200
TZNAME:CEST
DTSTART:20220327T010000
END:DAYLIGHT
BEGIN:STANDARD
TZOFFSETFROM:+0200
TZOFFSETTO:+0100
TZNAME:CET
DTSTART:20221030T010000
END:STANDARD
BEGIN:DAYLIGHT
TZOFFSETFROM:+0100
TZOFFSETTO:+0200
TZNAME:CEST
DTSTART:20230326T010000
END:DAYLIGHT
BEGIN:STANDARD
TZOFFSETFROM:+0200
TZOFFSETTO:+0100
TZNAME:CET
DTSTART:20231029T010000
END:STANDARD
END:VTIMEZONE
BEGIN:VEVENT
DTSTART;TZID=Europe/Rome:20221214T093000
DTEND;TZID=Europe/Rome:20221214T133000
DTSTAMP:20260421T061043
CREATED:20221206T123830Z
LAST-MODIFIED:20221206T123926Z
UID:36051-1671010200-1671024600@www.improntaetica.org
SUMMARY:14/12 | Semplificazione e Coerenza: verso la valutazione di sostenibilità delle politiche pubbliche
DESCRIPTION:L’impegno pubblico verso il tema della sostenibilità.\nSi terrà sia in presenza che da remoto mercoledì 14 dicembre dalle 9.30 alle 13.30 nell’Aula Magna Dipartimento di Architettura dell’Università degli Studi Roma Tre (Largo G. B. Marzi 10\, Roma) la conferenza dal titolo “Semplificazione e Coerenza: verso la valutazione di sostenibilità delle politiche pubbliche.” \nLa Conferenza è organizzata dal Ministero dell’Ambiente e della Sicurezza Energetica (MASE) con la collaborazione di ISTAT\, nell’ambito del Progetto CReIAMO PA – L2WP1. \nL’obiettivo dell’evento è quello di sviluppare una riflessione di tipo tecnico operativo sul tema della governance dei flussi informativi e sul monitoraggio degli obiettivi di sostenibilità. \nPer partecipare è necessario iscriversi\, fino ad esaurimento posti\, al seguente link entro l’11 dicembre. \nMaggiori informazioni sono disponibili al seguente link. \nSCARICA IL PROGRAMMA
URL:https://www.improntaetica.org/evento/14-12-semplificazione-e-coerenza-verso-la-valutazione-di-sostenibilita-delle-politiche-pubbliche/
ATTACH;FMTTYPE=image/png:https://www.improntaetica.org/wp-content/uploads/2022/12/Immagine-senza-nome-2.png
END:VEVENT
END:VCALENDAR