BEGIN:VCALENDAR
VERSION:2.0
PRODID:-//Impronta Etica - ECPv6.15.20//NONSGML v1.0//EN
CALSCALE:GREGORIAN
METHOD:PUBLISH
X-WR-CALNAME:Impronta Etica
X-ORIGINAL-URL:https://www.improntaetica.org
X-WR-CALDESC:Eventi per Impronta Etica
REFRESH-INTERVAL;VALUE=DURATION:PT1H
X-Robots-Tag:noindex
X-PUBLISHED-TTL:PT1H
BEGIN:VTIMEZONE
TZID:Europe/Rome
BEGIN:DAYLIGHT
TZOFFSETFROM:+0100
TZOFFSETTO:+0200
TZNAME:CEST
DTSTART:20150329T010000
END:DAYLIGHT
BEGIN:STANDARD
TZOFFSETFROM:+0200
TZOFFSETTO:+0100
TZNAME:CET
DTSTART:20151025T010000
END:STANDARD
BEGIN:DAYLIGHT
TZOFFSETFROM:+0100
TZOFFSETTO:+0200
TZNAME:CEST
DTSTART:20160327T010000
END:DAYLIGHT
BEGIN:STANDARD
TZOFFSETFROM:+0200
TZOFFSETTO:+0100
TZNAME:CET
DTSTART:20161030T010000
END:STANDARD
BEGIN:DAYLIGHT
TZOFFSETFROM:+0100
TZOFFSETTO:+0200
TZNAME:CEST
DTSTART:20170326T010000
END:DAYLIGHT
BEGIN:STANDARD
TZOFFSETFROM:+0200
TZOFFSETTO:+0100
TZNAME:CET
DTSTART:20171029T010000
END:STANDARD
END:VTIMEZONE
BEGIN:VEVENT
DTSTART;VALUE=DATE:20161205
DTEND;VALUE=DATE:20161210
DTSTAMP:20260421T013741
CREATED:20161130T170050Z
LAST-MODIFIED:20161130T170050Z
UID:11621-1480896000-1481327999@www.improntaetica.org
SUMMARY:La Commissione Europea promuove la "Settimana delle competenze professionali europee 2016"
DESCRIPTION:Discover your talent! The European vocational skills week 2016.\nL’iniziativa “Discover your talent!”\, promossa dalla Commissione Europea\, prevede una serie di eventi e di attività che avranno luogo simultaneamente in diversi Paesi dell’Unione Europea\, con l’intento di accrescere l’interesse verso i temi dell’istruzione e della formazione professionale.\nSono state invitate all’iniziativa diverse categorie di soggetti interessati: studenti\, genitori\, imprese\, ricercatori\, autorità pubbliche e centri di formazione professionale.\nPer maggiori informazioni e per visualizzare la mappa degli eventi e delle attività è possibile consultare il seguente link.\nE’ inoltre possibile contattare gli organizzatori dell’evento al seguente indirizzo di posta elettronica: info@vocationalskillsweek.eu
URL:https://www.improntaetica.org/evento/la-commissione-europea-promuove-la-settimana-competenze-professionali-europee-2016/
ATTACH;FMTTYPE=:
END:VEVENT
END:VCALENDAR