BEGIN:VCALENDAR
VERSION:2.0
PRODID:-//Impronta Etica - ECPv6.15.20//NONSGML v1.0//EN
CALSCALE:GREGORIAN
METHOD:PUBLISH
X-ORIGINAL-URL:https://www.improntaetica.org
X-WR-CALDESC:Eventi per Impronta Etica
REFRESH-INTERVAL;VALUE=DURATION:PT1H
X-Robots-Tag:noindex
X-PUBLISHED-TTL:PT1H
BEGIN:VTIMEZONE
TZID:Europe/Rome
BEGIN:DAYLIGHT
TZOFFSETFROM:+0100
TZOFFSETTO:+0200
TZNAME:CEST
DTSTART:20240331T010000
END:DAYLIGHT
BEGIN:STANDARD
TZOFFSETFROM:+0200
TZOFFSETTO:+0100
TZNAME:CET
DTSTART:20241027T010000
END:STANDARD
BEGIN:DAYLIGHT
TZOFFSETFROM:+0100
TZOFFSETTO:+0200
TZNAME:CEST
DTSTART:20250330T010000
END:DAYLIGHT
BEGIN:STANDARD
TZOFFSETFROM:+0200
TZOFFSETTO:+0100
TZNAME:CET
DTSTART:20251026T010000
END:STANDARD
BEGIN:DAYLIGHT
TZOFFSETFROM:+0100
TZOFFSETTO:+0200
TZNAME:CEST
DTSTART:20260329T010000
END:DAYLIGHT
BEGIN:STANDARD
TZOFFSETFROM:+0200
TZOFFSETTO:+0100
TZNAME:CET
DTSTART:20261025T010000
END:STANDARD
END:VTIMEZONE
BEGIN:VEVENT
DTSTART;TZID=Europe/Rome:20250619T100000
DTEND;TZID=Europe/Rome:20250619T133000
DTSTAMP:20260421T020027
CREATED:20250603T092837Z
LAST-MODIFIED:20250714T121005Z
UID:41281-1750327200-1750339800@www.improntaetica.org
SUMMARY:19/06 | Verso una transizione giusta: una bussola per gli operatori finanziari
DESCRIPTION:L’evento a cura del Forum Finanza Sostenibile.\nSi terrà il 19 giugno 2025\, dalle 10:00 alle 13:30\, a Milano presso Casa Emergency\, via Santa Croce 19\, l’evento “Verso una transizione giusta: una bussola per gli operatori finanziari”\, organizzato dal Forum per la Finanza Sostenibile. \nL’incontro sarà l’occasione per approfondire il ruolo chiave del settore finanziario nel promuovere una transizione ecologica che sia efficace e socialmente equa\, in un contesto complesso segnato da crisi climatiche\, disuguaglianze crescenti e nuove tensioni geopolitiche. \nDurante l’evento sarà presentato il nuovo paper “Verso una transizione giusta: una bussola per gli operatori finanziari”\, realizzato dal Forum Finanza Sostenibile con il contributo di Cassa Depositi e Prestiti ed Etica Sgr. Il documento fornisce indicazioni pratiche per integrare i principi della Just Transition nei processi di investimento e finanziamento offrendo una panoramica completa utile per il settore finanziario e le imprese. \nL’evento nasce da un gruppo di lavoro condotto dal Forum Finanza Sostenibile nella prima metà del 2025 insieme ai propri Soci\, tra cui Impronta Etica\, che hanno attivamente contribuito al paper. \nMaggiori informazioni sono disponibili al seguente link. \nE’ possibile registrarsi all’evento al seguente link. \nSCARICA IL PROGRAMMA
URL:https://www.improntaetica.org/evento/19-06-verso-una-transizione-giusta-una-bussola-per-gli-operatori-finanziari/
CATEGORIES:Eventi 2025
ATTACH;FMTTYPE=image/png:https://www.improntaetica.org/wp-content/uploads/2025/06/ffs-e1758640784996.png
END:VEVENT
END:VCALENDAR