BEGIN:VCALENDAR
VERSION:2.0
PRODID:-//Impronta Etica - ECPv6.15.20//NONSGML v1.0//EN
CALSCALE:GREGORIAN
METHOD:PUBLISH
X-ORIGINAL-URL:https://www.improntaetica.org
X-WR-CALDESC:Eventi per Impronta Etica
REFRESH-INTERVAL;VALUE=DURATION:PT1H
X-Robots-Tag:noindex
X-PUBLISHED-TTL:PT1H
BEGIN:VTIMEZONE
TZID:Europe/Rome
BEGIN:DAYLIGHT
TZOFFSETFROM:+0100
TZOFFSETTO:+0200
TZNAME:CEST
DTSTART:20210328T010000
END:DAYLIGHT
BEGIN:STANDARD
TZOFFSETFROM:+0200
TZOFFSETTO:+0100
TZNAME:CET
DTSTART:20211031T010000
END:STANDARD
BEGIN:DAYLIGHT
TZOFFSETFROM:+0100
TZOFFSETTO:+0200
TZNAME:CEST
DTSTART:20220327T010000
END:DAYLIGHT
BEGIN:STANDARD
TZOFFSETFROM:+0200
TZOFFSETTO:+0100
TZNAME:CET
DTSTART:20221030T010000
END:STANDARD
BEGIN:DAYLIGHT
TZOFFSETFROM:+0100
TZOFFSETTO:+0200
TZNAME:CEST
DTSTART:20230326T010000
END:DAYLIGHT
BEGIN:STANDARD
TZOFFSETFROM:+0200
TZOFFSETTO:+0100
TZNAME:CET
DTSTART:20231029T010000
END:STANDARD
BEGIN:DAYLIGHT
TZOFFSETFROM:+0100
TZOFFSETTO:+0200
TZNAME:CEST
DTSTART:20240331T010000
END:DAYLIGHT
BEGIN:STANDARD
TZOFFSETFROM:+0200
TZOFFSETTO:+0100
TZNAME:CET
DTSTART:20241027T010000
END:STANDARD
BEGIN:DAYLIGHT
TZOFFSETFROM:+0100
TZOFFSETTO:+0200
TZNAME:CEST
DTSTART:20250330T010000
END:DAYLIGHT
BEGIN:STANDARD
TZOFFSETFROM:+0200
TZOFFSETTO:+0100
TZNAME:CET
DTSTART:20251026T010000
END:STANDARD
BEGIN:DAYLIGHT
TZOFFSETFROM:+0100
TZOFFSETTO:+0200
TZNAME:CEST
DTSTART:20260329T010000
END:DAYLIGHT
BEGIN:STANDARD
TZOFFSETFROM:+0200
TZOFFSETTO:+0100
TZNAME:CET
DTSTART:20261025T010000
END:STANDARD
END:VTIMEZONE
BEGIN:VEVENT
DTSTART;TZID=Europe/Rome:20251215T113000
DTEND;TZID=Europe/Rome:20251215T133000
DTSTAMP:20260421T020531
CREATED:20251212T163231Z
LAST-MODIFIED:20251212T163231Z
UID:42177-1765798200-1765805400@www.improntaetica.org
SUMMARY:15/12 | Sostenere l'intergenerazionalità
DESCRIPTION:Un dialogo su competenze\, buon lavoro e valore dell’intergenerazionalità per lo sviluppo sostenibile.\nSi terrà lunedì 15 dicembre dalle 11.30 alle 13.30\, presso la Fondazione Ivano Barberini in via Mentana 2 a  Bologna la presentazione del Report Bologna 2030 – Agenda Cooperativa per lo Sviluppo Sostenibile che quest’anno dedcia il proprio approfondimento al tema dell’intergenerazionalità e del buon lavoro come leve strategiche per uno sviluppo sostenibile del tessuto economico\, sociale e politico del territorio. \nL’incontro\, a cura di Legacoop Bologna che è anche impresa associata di Impronta Etica\, non solo offrirà una presentazione dell’Overview e highlights del Report 2025\, ma anche un approfondimento sulla ricerca-azione “Maledetta Primavera” di Generazioni Bologna\, cui ha anche collaborato attivamente Impronta Etica. \nDurante l’evento ampio spazio sarà inoltre dedicato al dialogo tra realtà della cooperazione\, della pubblica amministrazione e delle imprese per discutere sul ruolo sempre più centrale delle competenze e dell’innovazione all’interno delle politiche territoriali. \nMaggiori informazioni sul programma e su come iscriversi sono disponibili al seguente link.
URL:https://www.improntaetica.org/evento/15-12-sostenere-lintergenerazionalita/
CATEGORIES:Eventi 2025
ATTACH;FMTTYPE=image/png:https://www.improntaetica.org/wp-content/uploads/2025/10/80anni-legacoop-e1759333784399.png
END:VEVENT
BEGIN:VEVENT
DTSTART;TZID=Europe/Rome:20251103T090000
DTEND;TZID=Europe/Rome:20251103T130000
DTSTAMP:20260421T020531
CREATED:20251027T165739Z
LAST-MODIFIED:20251027T165921Z
UID:41826-1762160400-1762174800@www.improntaetica.org
SUMMARY:03/11 | Ci vorrebbe l'Europa
DESCRIPTION:Cantiere territoriale per l’Europa di domani.\nSi terrà il 3 novembre 2025 dalle 9 alle 13 presso Salaborsa a Bologna\, in occasione dell’80° anniversario di Legacoop Bologna\, Socio di Impronta Etica\, e CNA Bologna dal titolo “Ci vorrebbe l’Europa – Cantiere territoriale per l’Europa di domani“\, un evento che a partire dall’esperienza del mondo cooperativo e artigiano bolognese intende aprire nuovi spazi di riflessioni sul futuro dell’Europa e delle sue economie locali. \nL’evento porterà un confronto tra rappresentati delle istituzioni\, delle imprese e il mondo accademico attorno a diversi approfondimenti tematici: l’Europa tra nuova globalizzazione e frammentazione geo-economica\, l’import ed export della regione Emilia-Romagna nel mercato europeo e globale; le politiche di bilancio dell’Unione Europea rispetto alle PMI e le ooperative e il mondo della formazione per i giovani tra imprese e Università. \nAttraverso il dialogo tra esperti\, imprese e istituzioni\, l’appuntamento offrirà l’occasione di riaffermare la centralità della collaborazione e dell’innovazione come leve per uno sviluppo sostenibile\, equo e competitivo per il nostro continente. \nMaggiori informazioni sul programma e su come iscriversi sono disponibili al seguente link. \nSCARICA IL PROGRAMMA
URL:https://www.improntaetica.org/evento/03-11-ci-vorrebbe-leuropa/
CATEGORIES:Eventi 2025
ATTACH;FMTTYPE=image/png:https://www.improntaetica.org/wp-content/uploads/2025/10/Screenshot-2025-10-27-175245-e1761584173773.png
END:VEVENT
BEGIN:VEVENT
DTSTART;TZID=Europe/Rome:20251016T163000
DTEND;TZID=Europe/Rome:20251016T210000
DTSTAMP:20260421T020531
CREATED:20251001T154954Z
LAST-MODIFIED:20251001T154954Z
UID:41754-1760632200-1760648400@www.improntaetica.org
SUMMARY:16/10 | Relazioni cooperative
DESCRIPTION:L’appuntamento istituzionale per gli 80 anni di Legacoop Bologna.\nSi svolgerà il 16 ottobre 2025 dalle 16.30 al Cinema Modernissimo di Bologna l’evento istituzionale per celebrare gli 80 anni di Legacoop Bologna\, Socio di Impronta Etica\, in una cornice che riunirà imprese\, organizzazioni internazionali\, istituzioni locali e mondo accademico. Tra questi Simone Gamberini\, Presidente di Legacoop\, e Carlo Cimbri\, Presidente di Unipol\, impresa socia di Impronta Etica. \nNell’Anno Internazionale delle Cooperative proclamato delle Nazioni Unite\, questa sarà l’occasione per riflettere sulle sfide e i trend futuri per l’economia cooperativa in un mondo globale sempre più complesso e in cui si naviga nell’incertezza. \nL’evento vedrà non solo un momento di confronto e discussione tra i diversi relatori ma anche performance teatrali a cura del Teatro dell’Argine\, lavori di artisti del collettivo FairBrands e la proiezione di un cortometraggio. \nL’ingresso sarà libero e gratuito. \nMaggiori informazioni su come iscriversi sono disponibili al seguente link.
URL:https://www.improntaetica.org/evento/16-10-relazioni-cooperative/
CATEGORIES:Eventi 2025
ATTACH;FMTTYPE=image/png:https://www.improntaetica.org/wp-content/uploads/2025/10/80anni-legacoop-e1759333784399.png
END:VEVENT
BEGIN:VEVENT
DTSTART;TZID=Europe/Rome:20241209T113000
DTEND;TZID=Europe/Rome:20241209T133000
DTSTAMP:20260421T020531
CREATED:20241203T163650Z
LAST-MODIFIED:20241203T163809Z
UID:40480-1733743800-1733751000@www.improntaetica.org
SUMMARY:9/12 | Praticare la sostenibilità: sfide e numeri
DESCRIPTION:Un evento di Legacoop Bologna per esplorare la sostenibilità.\nIl nuovo evento di Legacoop Bologna\, Socio di Impronta Etica\, che si terrà il 9 dicembre 2024 dalle 11.30 alle 13.30 sia in presenza presso Fondazione Barberini\, via Mentana 2\, a Bologna sia online rappresenterà un’occasione per parlare di sostenibilità nella pratica in un’ottica di sviluppo sostenibile. \nDurante la mattinata si alterneranno interventi accademici ed istituzionali che offriranno una panoramica completa su come oggi è possibile affrontare le sfide della sostenibilità condividendo gli impatti e le distintività generate dal modello cooperativo sul territorio. \nMaggiori informazioni sono disponibili al seguente link. \nSCARICA IL PROGRAMMA
URL:https://www.improntaetica.org/evento/9-12-praticare-la-sostenibilita-sfide-e-numeri/
CATEGORIES:Eventi 2024
ATTACH;FMTTYPE=image/png:https://www.improntaetica.org/wp-content/uploads/2024/11/logo-new-e1736929923394.png
END:VEVENT
BEGIN:VEVENT
DTSTART;TZID=Europe/Rome:20241023T173000
DTEND;TZID=Europe/Rome:20241023T190000
DTSTAMP:20260421T020531
CREATED:20241024T091550Z
LAST-MODIFIED:20241024T091550Z
UID:40096-1729704600-1729710000@www.improntaetica.org
SUMMARY:23/10 | Premio Calanchi Turrini
DESCRIPTION:La seconda edizione del premio per la ricerca sulla cooperazione.\nSi terrà il 23 ottobre alle 17.30 presso la Fondazione Barberini a Bologna l’assegnazione del Premio Calanchi Turrini dedicato alla miglior tesi di Laurea Magistrale e la miglior tesi di Dottorato a tema cooperazione. \nL’assegnazione del Premio ispirato a due grandi cooperatori\, Luciano Calanchi e Adriano Turrini\, promossa da Legacoop Bologna\, socio di Impronta Etica\, Fondazione Ivano Barberini e Fondazione Unipolis. \nDurante l’incontro oltre alla premiazione si svolgerà una lectio dal titolo “Innovazione\, mutualismo\, cooperazione” del sociologo Flaviano Zandonai e una tavola rotonda con un dialogo aperto con i vincitori del Premio. \nMaggiori informazioni sono disponibili qui.
URL:https://www.improntaetica.org/evento/23-10-premio-calanchi-turrini/
CATEGORIES:Eventi 2024
ATTACH;FMTTYPE=image/jpeg:https://www.improntaetica.org/wp-content/uploads/2021/05/legacoop_logo_O-e1732723816366.jpg
END:VEVENT
BEGIN:VEVENT
DTSTART;TZID=Europe/Rome:20230703T110000
DTEND;TZID=Europe/Rome:20230703T110000
DTSTAMP:20260421T020531
CREATED:20230616T144830Z
LAST-MODIFIED:20230616T144830Z
UID:37106-1688382000-1688382000@www.improntaetica.org
SUMMARY:03/07 | Direzione tematica Legacoop Bologna
DESCRIPTION:Trasformazioni urbane: il Piano per l’Abitare del Comune di Bologna.\nSi terrà il 3 luglio 2023 ore 11.00\, in modalità ibrida in presenza alla Torre Legacoop e online sulla piattaforma Zoom\, l’ultimo incontro del ciclo di iniziative di confronto con l’Amministrazione Comunale bolognese sul progetto “La Grande Bologna”; dal titolo “Trasformazioni urbane: il Piano per l’Abitare del Comune di Bologna“. \nLa Direzione tematica\, allargata alle imprese associate a Legacoop Bologna\, verterà sul Piano dell’Abitare del Comune di Bologna che si propone di dare una risposta all’emergenza abitativa e ai nuovi bisogni abitativi emersi in questi ultimi anni e che emergeranno dagli sviluppi futuri del territorio. \nNel mese di maggio si è svolta l’Assemblea pubblica sulla Casa che ha aperto il confronto con le realtà territoriali interessate per potere condividere una strategia comune volta a costruire una risposta concreta alla questione abitativa. L’evento sarà occasione di approfondire questo argomento per un confronto aperto e condiviso\ntra pubblica amministrazione e le cooperative associate che operano sulla città. \nPer la trattazione di questa tematica saranno presenti: \n• Emily Clancy – Vicesindaca con delega alla casa\, emergenza abitativa\, abitare collaborativo e cooperativo del Comune di Bologna\n• Marco Guerzoni – Direttore Settore Politiche Abitative del Comune di Bologna \nAl termine di ogni illustrazione è prevista una sessione di domande da parte delle imprese interessate. \nE’ possibile iscriversi al seguente link. \nSCARICA IL VOLANTINO
URL:https://www.improntaetica.org/evento/03-07-direzione-tematica-legacoop-bologna/
ATTACH;FMTTYPE=image/png:https://www.improntaetica.org/wp-content/uploads/2021/04/legacoop-e1618575610113.png
END:VEVENT
BEGIN:VEVENT
DTSTART;TZID=Europe/Rome:20230620T170000
DTEND;TZID=Europe/Rome:20230620T170000
DTSTAMP:20260421T020531
CREATED:20230619T071930Z
LAST-MODIFIED:20230619T071930Z
UID:37110-1687280400-1687280400@www.improntaetica.org
SUMMARY:20/06 | Economia sociale e Agenda 2030
DESCRIPTION:Per un nuovo paradigma dello sviluppo sostenibile.\nSi terrà il 20 giugno dalle ore 17:00 in presenza alla Torre Legacoop a Bologna e via Zoom\, l’evento Legacoop Bologna “Economia sociale e Agenda 2030. Per un nuovo paradigma dello sviluppo sostenibile.” \nL’evento vuole aprire una riflessione su come l’economia sociale contribuisce\, grazie alle sue caratteristiche\, a realizzare uno sviluppo più sostenibile e inclusivo e a promuovere l’attiva partecipazione sociale dei cittadini. Gli obiettivi dell’Agenda ONU 2030 e il Global Reporting Initiative colgono solo in parte gli effetti del mutualismo\, le esternalità positive che genera sia tra i soci sia verso le comunità. \nPartendo dall’Action Plan europeo sull’economia sociale la sfida è andare a definire modalità di misurazione dell’impatto economico\, sociale e ambientale degli attori dell’economia sociale che vadano a dialogare e integrarsi all’interno del framework dell’Agenda ONU 2030 e degli strumenti di rendicontazione dei fattori ESG. \nI programma completo e maggiori informazioni sono disponibili al seguente link. \nE’ possibile iscriversi al seguente link.
URL:https://www.improntaetica.org/evento/20-06-economia-sociale-e-agenda-2030/
ATTACH;FMTTYPE=image/png:https://www.improntaetica.org/wp-content/uploads/2021/04/legacoop-e1618575610113.png
END:VEVENT
BEGIN:VEVENT
DTSTART;TZID=Europe/Rome:20230208T090000
DTEND;TZID=Europe/Rome:20230208T170000
DTSTAMP:20260421T020531
CREATED:20230130T153714Z
LAST-MODIFIED:20230130T153714Z
UID:36276-1675846800-1675875600@www.improntaetica.org
SUMMARY:8/02 | 25° Congresso di Legacoop Bologna
DESCRIPTION:Innovazione\, coesione e sviluppo sostenibile: l’impresa del futuro è cooperativa.\nSi terrà l’8 febbraio\, presso FICO Eataly World (Via Paolo Canali 8\, Bologna)\, dalle ore 9 alle ore 17\, il venticinquesimo Congresso di Legacoop Bologna. \nOltre ad adempiere agli obblighi congressuali\, durante l’evento si terranno due tavole rotonde: \n\n“Per un nuovo patto associativo tra Legacoop e le imprese cooperative bolognesi” alla quale si segnala parteciperanno anche Granarolo\, Coop Alleanza 3.0\, Cadiai e Camst group.\n“Innovazione\, coesione e sviluppo sostenibile. Le visioni cooperative per il futuro di Bologna” alla quale si segnala parteciperanno anche il Sindaco della città Metropolitana di Bologna Matteo Lepore e Fondazione Unipolis.\n\nInoltre\, verrà presentata la ricerca  “Bologna Tech\, Smart e Green. Una città in movimento: strategie\, problemi\, prospettive” prodotta dalla RUR – Rete Urbana delle Rappresentanze. \nPer partecipare all’evento è necessario iscriversi al seguente link. \nMaggiori informazioni sono disponibili al seguente link. \nSCARICA IL PROGRAMMA
URL:https://www.improntaetica.org/evento/8-02-25-congresso-di-legacoop-bologna/
ATTACH;FMTTYPE=image/png:https://www.improntaetica.org/wp-content/uploads/2021/04/legacoop-e1618575610113.png
END:VEVENT
BEGIN:VEVENT
DTSTART;TZID=Europe/Rome:20221111T100000
DTEND;TZID=Europe/Rome:20221111T130000
DTSTAMP:20260421T020531
CREATED:20221104T143835Z
LAST-MODIFIED:20221104T143835Z
UID:35777-1668160800-1668171600@www.improntaetica.org
SUMMARY:11/11 | Legacoop Bologna: Cooperare per la transizione energetica
DESCRIPTION:Un convegno sulle comunità energetiche rinnovabili cooperative.\nSi terrà l’11 Novembre dalle ore 10:00 alle ore 13:00\, presso il CUBO Unipol in Piazza Sergio Vieira de Mello\, il convegno “Cooperare per la transizione energetica” organizzato da Legacoop Bologna\, socia di Impronta Etica. \nIn risposta alla crisi energetica che si sta abbattendo sul Paese\, si analizzerà il ruolo delle comunità energetiche rinnovabili cooperative\, sistemi energetici locali capaci di riformare il mercato dell’energia e al contempo promuovere comunità responsabili. \nTra i vari ospiti\, segnaliamo anche la presenza di Coopfond\, socia di Impronta Etica. \nMaggiori informazioni sono disponibili al seguente link. \nSCARICA IL PROGRAMMA
URL:https://www.improntaetica.org/evento/11-11-legacoop-bologna-cooperare-per-la-transizione-energetica/
ATTACH;FMTTYPE=image/png:https://www.improntaetica.org/wp-content/uploads/2021/04/legacoop-e1618575610113.png
END:VEVENT
END:VCALENDAR