BEGIN:VCALENDAR
VERSION:2.0
PRODID:-//Impronta Etica - ECPv6.15.20//NONSGML v1.0//EN
CALSCALE:GREGORIAN
METHOD:PUBLISH
X-ORIGINAL-URL:https://www.improntaetica.org
X-WR-CALDESC:Eventi per Impronta Etica
REFRESH-INTERVAL;VALUE=DURATION:PT1H
X-Robots-Tag:noindex
X-PUBLISHED-TTL:PT1H
BEGIN:VTIMEZONE
TZID:Europe/Rome
BEGIN:DAYLIGHT
TZOFFSETFROM:+0100
TZOFFSETTO:+0200
TZNAME:CEST
DTSTART:20210328T010000
END:DAYLIGHT
BEGIN:STANDARD
TZOFFSETFROM:+0200
TZOFFSETTO:+0100
TZNAME:CET
DTSTART:20211031T010000
END:STANDARD
BEGIN:DAYLIGHT
TZOFFSETFROM:+0100
TZOFFSETTO:+0200
TZNAME:CEST
DTSTART:20220327T010000
END:DAYLIGHT
BEGIN:STANDARD
TZOFFSETFROM:+0200
TZOFFSETTO:+0100
TZNAME:CET
DTSTART:20221030T010000
END:STANDARD
BEGIN:DAYLIGHT
TZOFFSETFROM:+0100
TZOFFSETTO:+0200
TZNAME:CEST
DTSTART:20230326T010000
END:DAYLIGHT
BEGIN:STANDARD
TZOFFSETFROM:+0200
TZOFFSETTO:+0100
TZNAME:CET
DTSTART:20231029T010000
END:STANDARD
END:VTIMEZONE
BEGIN:VEVENT
DTSTART;TZID=Europe/Rome:20220331T000000
DTEND;TZID=Europe/Rome:20220331T000000
DTSTAMP:20260421T100130
CREATED:20220315T125839Z
LAST-MODIFIED:20220315T125839Z
UID:34552-1648684800-1648684800@www.improntaetica.org
SUMMARY:31\03| ASviS: Il Pnrr\, la Legge di Bilancio e l’Agenda 2030
DESCRIPTION:Il primo evento di avvicinamento alla sesta edizione del Festival dello Sviluppo Sostenibile.\nIl primo evento di avvicinamento alla Sesta Edizione del Festival dello Sviluppo Sostenibile organizzato dall’ASviS sarà incentrato sulla presentazione del documento inedito elaborato dall’Alleanza che contiene una riflessione integrale sul Piano nazionale di ripresa e resilienza e l’esame della Legge di Bilancio 2022 alla luce dell’Agenda 2030. \nMaggiori informazioni sono disponibili al seguente link. 
URL:https://www.improntaetica.org/evento/3103-asvis-il-pnrr-la-legge-di-bilancio-e-lagenda-2030/
ATTACH;FMTTYPE=image/png:https://www.improntaetica.org/wp-content/uploads/2019/08/Logo-ASviS-e1736929301112.png
END:VEVENT
END:VCALENDAR