BEGIN:VCALENDAR
VERSION:2.0
PRODID:-//Impronta Etica - ECPv6.15.20//NONSGML v1.0//EN
CALSCALE:GREGORIAN
METHOD:PUBLISH
X-ORIGINAL-URL:https://www.improntaetica.org
X-WR-CALDESC:Eventi per Impronta Etica
REFRESH-INTERVAL;VALUE=DURATION:PT1H
X-Robots-Tag:noindex
X-PUBLISHED-TTL:PT1H
BEGIN:VTIMEZONE
TZID:Europe/Rome
BEGIN:DAYLIGHT
TZOFFSETFROM:+0100
TZOFFSETTO:+0200
TZNAME:CEST
DTSTART:20230326T010000
END:DAYLIGHT
BEGIN:STANDARD
TZOFFSETFROM:+0200
TZOFFSETTO:+0100
TZNAME:CET
DTSTART:20231029T010000
END:STANDARD
BEGIN:DAYLIGHT
TZOFFSETFROM:+0100
TZOFFSETTO:+0200
TZNAME:CEST
DTSTART:20240331T010000
END:DAYLIGHT
BEGIN:STANDARD
TZOFFSETFROM:+0200
TZOFFSETTO:+0100
TZNAME:CET
DTSTART:20241027T010000
END:STANDARD
BEGIN:DAYLIGHT
TZOFFSETFROM:+0100
TZOFFSETTO:+0200
TZNAME:CEST
DTSTART:20250330T010000
END:DAYLIGHT
BEGIN:STANDARD
TZOFFSETFROM:+0200
TZOFFSETTO:+0100
TZNAME:CET
DTSTART:20251026T010000
END:STANDARD
END:VTIMEZONE
BEGIN:VEVENT
DTSTART;TZID=Europe/Rome:20240511T103000
DTEND;TZID=Europe/Rome:20240511T130000
DTSTAMP:20260421T033303
CREATED:20240412T070910Z
LAST-MODIFIED:20240424T150922Z
UID:38870-1715423400-1715432400@www.improntaetica.org
SUMMARY:11/05 | Lets' MOB
DESCRIPTION:10 idee diverse e un unico grande desiderio: rivoluzionare le nostre città.\nLet’s MOB: 10 GENZ presentano 10 idee di mobilità per il futuro è l’evento finale del progetto MOB – movimento in rivoluzione di Fondazione Unipolis in programma all’Unipol Auditorium “Enea Mazzoli”\, in Via Stalingrado 37 a Bologna\, l’11 maggio 2024 dalle 10.30 alle 13. \nL’iniziativa\, nel calendario degli eventi del Festival dello Sviluppo Sostenibile di ASviS\, è patrocinata dal Comune di Bologna e realizzata in collaborazione con Tper.  \nMaggiori informazioni sono disponibili al seguente link. \nE’ possibile iscriversi al seguente link. \nSCARICA IL SAVE THE DATE
URL:https://www.improntaetica.org/evento/11-05-lets-mob/
ATTACH;FMTTYPE=image/jpeg:https://www.improntaetica.org/wp-content/uploads/2020/04/unipolis-e1587126214638.jpg
END:VEVENT
END:VCALENDAR