BEGIN:VCALENDAR
VERSION:2.0
PRODID:-//Impronta Etica - ECPv6.15.20//NONSGML v1.0//EN
CALSCALE:GREGORIAN
METHOD:PUBLISH
X-ORIGINAL-URL:https://www.improntaetica.org
X-WR-CALDESC:Eventi per Impronta Etica
REFRESH-INTERVAL;VALUE=DURATION:PT1H
X-Robots-Tag:noindex
X-PUBLISHED-TTL:PT1H
BEGIN:VTIMEZONE
TZID:Europe/Rome
BEGIN:DAYLIGHT
TZOFFSETFROM:+0100
TZOFFSETTO:+0200
TZNAME:CEST
DTSTART:20240331T010000
END:DAYLIGHT
BEGIN:STANDARD
TZOFFSETFROM:+0200
TZOFFSETTO:+0100
TZNAME:CET
DTSTART:20241027T010000
END:STANDARD
BEGIN:DAYLIGHT
TZOFFSETFROM:+0100
TZOFFSETTO:+0200
TZNAME:CEST
DTSTART:20250330T010000
END:DAYLIGHT
BEGIN:STANDARD
TZOFFSETFROM:+0200
TZOFFSETTO:+0100
TZNAME:CET
DTSTART:20251026T010000
END:STANDARD
BEGIN:DAYLIGHT
TZOFFSETFROM:+0100
TZOFFSETTO:+0200
TZNAME:CEST
DTSTART:20260329T010000
END:DAYLIGHT
BEGIN:STANDARD
TZOFFSETFROM:+0200
TZOFFSETTO:+0100
TZNAME:CET
DTSTART:20261025T010000
END:STANDARD
END:VTIMEZONE
BEGIN:VEVENT
DTSTART;TZID=Europe/Rome:20250919T090000
DTEND;TZID=Europe/Rome:20250919T130000
DTSTAMP:20260421T101645
CREATED:20250910T113526Z
LAST-MODIFIED:20250912T085055Z
UID:41486-1758272400-1758286800@www.improntaetica.org
SUMMARY:19/09 | City Flows 2025
DESCRIPTION:Inclusione e diritto alla mobilità.\nSi terrà il 19 settembre 2025 dalle 9.00 alle 13.00  a Perugia \, presso l’Auditorium di San Francesco al Prato (Via San Francesco\, 4) l’edizione annuale di City Flows\, nell’ambito del calendario dell’European Mobility Week​\, iniziativa promossa da Fondazione Unipolis\, in collaborazione con l‘European Transport Safety Council (ETSC)\, i Consigli Regionali Unipol (CRU) e le Agenzie Unipol. \nIn linea con il tema ufficiale proposto dalla Commissione Europea “Mobility for everyone”  il convegno indagherà il tema delle disuguaglianze nell’accesso ai servizi di mobilità\, analizzando ostacoli e soluzioni possibili. Il programma\, che sarà pubblicato nelle prossime settimane\, prevede casi studio internazionali e la presentazione di nuove ricerche\, a cura di esperti e organizzazioni impegnate sul campo. \nDue le direttrici principali del confronto: \n\nAree interne e periferie urbane: per riflettere su come garantire un accesso continuo\, sicuro e sostenibile alla mobilità nelle zone rurali e periferiche.\n​Mobilità di rifugiati e migranti: per evidenziare ostacoli e opportunità nel percorso verso la loro autonomia e inclusione.\n\nL’evento si potrà seguire sia in presenza che in streaming\, in italiano e inglese\, sul canale YouTube di Fondazione Unipolis. ​​ \nMaggiori informazioni sono disponibili al seguente link.
URL:https://www.improntaetica.org/evento/19-09-city-flows-2025/
CATEGORIES:Eventi 2025
ATTACH;FMTTYPE=image/jpeg:https://www.improntaetica.org/wp-content/uploads/2025/07/CityFlows_socialEN-e1752222876689.jpg
END:VEVENT
END:VCALENDAR