BEGIN:VCALENDAR
VERSION:2.0
PRODID:-//Impronta Etica - ECPv6.15.20//NONSGML v1.0//EN
CALSCALE:GREGORIAN
METHOD:PUBLISH
X-ORIGINAL-URL:https://www.improntaetica.org
X-WR-CALDESC:Eventi per Impronta Etica
REFRESH-INTERVAL;VALUE=DURATION:PT1H
X-Robots-Tag:noindex
X-PUBLISHED-TTL:PT1H
BEGIN:VTIMEZONE
TZID:Europe/Rome
BEGIN:DAYLIGHT
TZOFFSETFROM:+0100
TZOFFSETTO:+0200
TZNAME:CEST
DTSTART:20230326T010000
END:DAYLIGHT
BEGIN:STANDARD
TZOFFSETFROM:+0200
TZOFFSETTO:+0100
TZNAME:CET
DTSTART:20231029T010000
END:STANDARD
BEGIN:DAYLIGHT
TZOFFSETFROM:+0100
TZOFFSETTO:+0200
TZNAME:CEST
DTSTART:20240331T010000
END:DAYLIGHT
BEGIN:STANDARD
TZOFFSETFROM:+0200
TZOFFSETTO:+0100
TZNAME:CET
DTSTART:20241027T010000
END:STANDARD
BEGIN:DAYLIGHT
TZOFFSETFROM:+0100
TZOFFSETTO:+0200
TZNAME:CEST
DTSTART:20250330T010000
END:DAYLIGHT
BEGIN:STANDARD
TZOFFSETFROM:+0200
TZOFFSETTO:+0100
TZNAME:CET
DTSTART:20251026T010000
END:STANDARD
END:VTIMEZONE
BEGIN:VEVENT
DTSTART;TZID=Europe/Rome:20240416T180000
DTEND;TZID=Europe/Rome:20240416T210000
DTSTAMP:20260421T095709
CREATED:20240223T123944Z
LAST-MODIFIED:20240408T070654Z
UID:38511-1713290400-1713301200@www.improntaetica.org
SUMMARY:16/04 | Hackathon sulla formazione e i NEET
DESCRIPTION:L’Hackathon di Bologna InnovAttiva.\nImpronta Etica supporta e partecipa all’iniziativa «Bologna InnovAttiva» promossa da Visionary e Sprintaly: una serie di Hackathon volti a incoraggiare la collaborazione cittadina e la riflessione su come produrre un impatto sociale positivo nel territorio. \nL’idea centrale del progetto è organizzare una serie di eventi\, strutturati come hackathon\, per incoraggiare la collaborazione cittadina e la riflessione su come produrre un impatto sociale positivo nel territorio. Questi incontri si basano sul principio dell’Open Innovation\, promuovendo un dialogo aperto e trasparente tra cittadini\, imprese\, associazioni e istituzioni. \n\nImpronta Etica sarà presente come testimone\, raccontando la propria realtà\, all’appuntamento del 16 aprile presso  la sede di CISL Emilia Romagna Via Milazzo\,16\, 40121 (BO) dalle ore 18:00 alle ore 21:00 dedicato al tema della formazione e dei NEET.\n\nUn’opportunità di lavorare in team\, utilizzando metodologie progettuali collaborative\, per sviluppare progetti innovativi che aumentino la sensibilità e la partecipazione della cittadinanza sfruttando tecnologie innovative e azioni collettive sul tema. \nE’ possibile iscriversi al seguente link.
URL:https://www.improntaetica.org/evento/11-04-hackathon-sulla-formazione-e-i-neet/
ATTACH;FMTTYPE=image/png:https://www.improntaetica.org/wp-content/uploads/2024/04/GRAFICA-POST.png
END:VEVENT
END:VCALENDAR