BEGIN:VCALENDAR
VERSION:2.0
PRODID:-//Impronta Etica - ECPv6.15.20//NONSGML v1.0//EN
CALSCALE:GREGORIAN
METHOD:PUBLISH
X-WR-CALNAME:Impronta Etica
X-ORIGINAL-URL:https://www.improntaetica.org
X-WR-CALDESC:Eventi per Impronta Etica
REFRESH-INTERVAL;VALUE=DURATION:PT1H
X-Robots-Tag:noindex
X-PUBLISHED-TTL:PT1H
BEGIN:VTIMEZONE
TZID:Europe/Rome
BEGIN:DAYLIGHT
TZOFFSETFROM:+0100
TZOFFSETTO:+0200
TZNAME:CEST
DTSTART:20230326T010000
END:DAYLIGHT
BEGIN:STANDARD
TZOFFSETFROM:+0200
TZOFFSETTO:+0100
TZNAME:CET
DTSTART:20231029T010000
END:STANDARD
BEGIN:DAYLIGHT
TZOFFSETFROM:+0100
TZOFFSETTO:+0200
TZNAME:CEST
DTSTART:20240331T010000
END:DAYLIGHT
BEGIN:STANDARD
TZOFFSETFROM:+0200
TZOFFSETTO:+0100
TZNAME:CET
DTSTART:20241027T010000
END:STANDARD
BEGIN:DAYLIGHT
TZOFFSETFROM:+0100
TZOFFSETTO:+0200
TZNAME:CEST
DTSTART:20250330T010000
END:DAYLIGHT
BEGIN:STANDARD
TZOFFSETFROM:+0200
TZOFFSETTO:+0100
TZNAME:CET
DTSTART:20251026T010000
END:STANDARD
END:VTIMEZONE
BEGIN:VEVENT
DTSTART;TZID=Europe/Rome:20240709T153000
DTEND;TZID=Europe/Rome:20240709T193000
DTSTAMP:20260421T060142
CREATED:20240621T133131Z
LAST-MODIFIED:20240621T133439Z
UID:39330-1720539000-1720553400@www.improntaetica.org
SUMMARY:09/07 | Il paradigma della neurodiversità per la valorizzazione dei talenti e il benessere organizzativo
DESCRIPTION:Evento di chiusura del progetto “Neurodiversity at work”.\nSi terrà il 9 luglio dalle 15:30 alle 19:30 presso l’ Aeroporto di Bologna – Sala Marconi Business Lounge l’evento “ Il paradigma della neurodiversità per la valorizzazione dei talenti e il benessere organizzativo” organizzato da Aeroporto di Bologna\, Socio di Impronta Etica\, e AIDP. \nL’evento sarà il momento conclusivo del progetto “Neurodiversity at work” cofinanziato dal programma Erasmus + dell’Unione Europea. \nMaggiori informazioni ed il programma completo sono disponibili al seguente link. \nE’ possibile iscriversi al seguente link. \nSCARICA LA LOCADINA \n 
URL:https://www.improntaetica.org/evento/09-07-il-paradigma-della-neurodiversita-per-la-valorizzazione-dei-talenti-e-il-benessere-organizzativo/
ATTACH;FMTTYPE=image/png:https://www.improntaetica.org/wp-content/uploads/2024/06/aero-.png
END:VEVENT
END:VCALENDAR