BEGIN:VCALENDAR
VERSION:2.0
PRODID:-//Impronta Etica - ECPv6.15.20//NONSGML v1.0//EN
CALSCALE:GREGORIAN
METHOD:PUBLISH
X-WR-CALNAME:Impronta Etica
X-ORIGINAL-URL:https://www.improntaetica.org
X-WR-CALDESC:Eventi per Impronta Etica
REFRESH-INTERVAL;VALUE=DURATION:PT1H
X-Robots-Tag:noindex
X-PUBLISHED-TTL:PT1H
BEGIN:VTIMEZONE
TZID:Europe/Rome
BEGIN:DAYLIGHT
TZOFFSETFROM:+0100
TZOFFSETTO:+0200
TZNAME:CEST
DTSTART:20210328T010000
END:DAYLIGHT
BEGIN:STANDARD
TZOFFSETFROM:+0200
TZOFFSETTO:+0100
TZNAME:CET
DTSTART:20211031T010000
END:STANDARD
BEGIN:DAYLIGHT
TZOFFSETFROM:+0100
TZOFFSETTO:+0200
TZNAME:CEST
DTSTART:20220327T010000
END:DAYLIGHT
BEGIN:STANDARD
TZOFFSETFROM:+0200
TZOFFSETTO:+0100
TZNAME:CET
DTSTART:20221030T010000
END:STANDARD
BEGIN:DAYLIGHT
TZOFFSETFROM:+0100
TZOFFSETTO:+0200
TZNAME:CEST
DTSTART:20230326T010000
END:DAYLIGHT
BEGIN:STANDARD
TZOFFSETFROM:+0200
TZOFFSETTO:+0100
TZNAME:CET
DTSTART:20231029T010000
END:STANDARD
END:VTIMEZONE
BEGIN:VEVENT
DTSTART;TZID=Europe/Rome:20220302T103000
DTEND;TZID=Europe/Rome:20220302T123000
DTSTAMP:20260421T051317
CREATED:20220301T094711Z
LAST-MODIFIED:20220301T140852Z
UID:34474-1646217000-1646224200@www.improntaetica.org
SUMMARY:02\03| Alleati nell'Europa per una nuova economia sostenibile ed inclusiva
DESCRIPTION:L’ Europa unita per una nuova economia futura.\nSì terrà mercoledì 2 marzo dalle ore 10:30 l’evento di presentazione organizzato da NeXt del documento “Alleati nell’Europa per una nuova economia sostenibile ed inclusiva”\, elaborato dal gruppo di lavoro per la Conferenza sul futuro dell’Europa costituito dagli associati interessati. Anche Impronta Etica ha contribuito all’elaborato.  \nUn elaborato che chiede all’Europa di impegnarsi per una Nuova economia\, presentando le potenzialità e la forza del Voto col Portafoglio\, che sarà presentato al Dipartimento per le Politiche europee della Presidenza del Consiglio dei Ministri\, da Valentino Bobbio e Leonardo Becchetti. \nSarà possibile partecipare all’evento tramite il seguente link. 
URL:https://www.improntaetica.org/evento/0203-alleati-nelleuropa-per-una-nuova-economia-sostenibile-ed-inclusiva/
ATTACH;FMTTYPE=image/png:https://www.improntaetica.org/wp-content/uploads/2019/08/logo_next-1.png
END:VEVENT
END:VCALENDAR