BEGIN:VCALENDAR
VERSION:2.0
PRODID:-//Impronta Etica - ECPv6.15.20//NONSGML v1.0//EN
CALSCALE:GREGORIAN
METHOD:PUBLISH
X-WR-CALNAME:Impronta Etica
X-ORIGINAL-URL:https://www.improntaetica.org
X-WR-CALDESC:Eventi per Impronta Etica
REFRESH-INTERVAL;VALUE=DURATION:PT1H
X-Robots-Tag:noindex
X-PUBLISHED-TTL:PT1H
BEGIN:VTIMEZONE
TZID:Europe/Rome
BEGIN:DAYLIGHT
TZOFFSETFROM:+0100
TZOFFSETTO:+0200
TZNAME:CEST
DTSTART:20150329T010000
END:DAYLIGHT
BEGIN:STANDARD
TZOFFSETFROM:+0200
TZOFFSETTO:+0100
TZNAME:CET
DTSTART:20151025T010000
END:STANDARD
BEGIN:DAYLIGHT
TZOFFSETFROM:+0100
TZOFFSETTO:+0200
TZNAME:CEST
DTSTART:20160327T010000
END:DAYLIGHT
BEGIN:STANDARD
TZOFFSETFROM:+0200
TZOFFSETTO:+0100
TZNAME:CET
DTSTART:20161030T010000
END:STANDARD
BEGIN:DAYLIGHT
TZOFFSETFROM:+0100
TZOFFSETTO:+0200
TZNAME:CEST
DTSTART:20170326T010000
END:DAYLIGHT
BEGIN:STANDARD
TZOFFSETFROM:+0200
TZOFFSETTO:+0100
TZNAME:CET
DTSTART:20171029T010000
END:STANDARD
BEGIN:DAYLIGHT
TZOFFSETFROM:+0100
TZOFFSETTO:+0200
TZNAME:CEST
DTSTART:20180325T010000
END:DAYLIGHT
BEGIN:STANDARD
TZOFFSETFROM:+0200
TZOFFSETTO:+0100
TZNAME:CET
DTSTART:20181028T010000
END:STANDARD
END:VTIMEZONE
BEGIN:VEVENT
DTSTART;TZID=Europe/Rome:20171204T170000
DTEND;TZID=Europe/Rome:20171204T190000
DTSTAMP:20260421T095633
CREATED:20171129T105024Z
LAST-MODIFIED:20171129T105024Z
UID:14039-1512406800-1512414000@www.improntaetica.org
SUMMARY:Rifare il mondo del lavoro
DESCRIPTION:Riflessione aperta su nuovi modelli di occupazione e welfare.\nUn confronto su nuove strade e modelli di occupazione e welfare tra esperti\, imprenditori e professionisti che parte dal libro Rifare il mondo… del lavoro. Un’alternativa alla uberizzazione dell’economia di Sandrino Graceffa.\nCon l’autore del volume verranno discussi temi quali innovazione sociale e culturale\, nuove forme dell’economia e del lavoro\, cooperazione e mutualismo\, partecipazione e frontiere del welfare.\nL’iniziativa è promossa da Fondazione Unipolis\, Gruppo Unipol e SMart.\nE’ possibile iscriversi all’evento e avere maggiori informazioni a questo link.
URL:https://www.improntaetica.org/evento/rifare-mondo-del-lavoro/
LOCATION:Mercato Sonato\, via Giuseppe Tartini 3\, Bologna
ATTACH;FMTTYPE=:
END:VEVENT
BEGIN:VEVENT
DTSTART;TZID=Europe/Rome:20161005T140000
DTEND;TZID=Europe/Rome:20161005T160000
DTSTAMP:20260421T095633
CREATED:20160915T095738Z
LAST-MODIFIED:20160915T095738Z
UID:11108-1475676000-1475683200@www.improntaetica.org
SUMMARY:Partnership Scuola-Impresa per il futuro dei giovani
DESCRIPTION:Attuare in Italia “The European Pact for Youth”.\nL’Europa ha firmato un patto per restituire ai giovani una prospettiva di futuro e di lavoro. The European Pact for Youth punta sulla partnership Scuola-Impresa per rafforzare l’inclusione e l’occupabilità dei giovani. E si impegna a realizzare 10.000 partnership di qualità tra imprese e sistema educativo entro il 2017 in Europa.\nDurante l’evento verrà presentato il Piano di Azione con cui l’Italia contribuisce a questo obiettivo: imprese\, istituzioni scolastiche e organizzazioni private lavorano in rete per fare Alternanza Scuola Lavoro\, educare all’imprenditorialità\, radicare nel territorio il Sistema Duale che punta su formazione e lavoro come fattori di sviluppo.\nE’ possibile iscriversi all’evento qui.\nProgramma
URL:https://www.improntaetica.org/evento/partnership-scuola-impresa-futuro-dei-giovani/
ATTACH;FMTTYPE=:
END:VEVENT
END:VCALENDAR