BEGIN:VCALENDAR
VERSION:2.0
PRODID:-//Impronta Etica - ECPv6.15.20//NONSGML v1.0//EN
CALSCALE:GREGORIAN
METHOD:PUBLISH
X-WR-CALNAME:Impronta Etica
X-ORIGINAL-URL:https://www.improntaetica.org
X-WR-CALDESC:Eventi per Impronta Etica
REFRESH-INTERVAL;VALUE=DURATION:PT1H
X-Robots-Tag:noindex
X-PUBLISHED-TTL:PT1H
BEGIN:VTIMEZONE
TZID:Europe/Rome
BEGIN:DAYLIGHT
TZOFFSETFROM:+0100
TZOFFSETTO:+0200
TZNAME:CEST
DTSTART:20170326T010000
END:DAYLIGHT
BEGIN:STANDARD
TZOFFSETFROM:+0200
TZOFFSETTO:+0100
TZNAME:CET
DTSTART:20171029T010000
END:STANDARD
BEGIN:DAYLIGHT
TZOFFSETFROM:+0100
TZOFFSETTO:+0200
TZNAME:CEST
DTSTART:20180325T010000
END:DAYLIGHT
BEGIN:STANDARD
TZOFFSETFROM:+0200
TZOFFSETTO:+0100
TZNAME:CET
DTSTART:20181028T010000
END:STANDARD
BEGIN:DAYLIGHT
TZOFFSETFROM:+0100
TZOFFSETTO:+0200
TZNAME:CEST
DTSTART:20190331T010000
END:DAYLIGHT
BEGIN:STANDARD
TZOFFSETFROM:+0200
TZOFFSETTO:+0100
TZNAME:CET
DTSTART:20191027T010000
END:STANDARD
END:VTIMEZONE
BEGIN:VEVENT
DTSTART;TZID=Europe/Rome:20180321T093000
DTEND;TZID=Europe/Rome:20180321T130000
DTSTAMP:20260421T094318
CREATED:20180219T085725Z
LAST-MODIFIED:20180219T085725Z
UID:14319-1521624600-1521637200@www.improntaetica.org
SUMMARY:Come accelerare le partnerhip scuola-impresa
DESCRIPTION:Prossimo appuntamento nazionale nell’ambito del progetto Pact4Youth.\nDurante l’evento verrà presentata la ricerca sui modelli di Work-based Learning realizzata dalla Fondazione Di Vittorio nell’ambito della campagna We4Youth\, il progetto di Fondazione Sodalitas supportato da JPMorgan Chase Foundation nell’ambito del Piano di Azione Nazionale del Pact4Youth.\nInoltre sarà l’occasione per fare il punto sul Pact4Youth sia a livello europeo – grazie alla partecipazione di Jan Noterdaeme\, Senior Advisor di CSR Europe\, sia a livello nazionale – grazie alla testimonianza di aziende\, studenti e mentor di impresa\, tra cui si segnala la presenza di Alessandro Camilleri\, Direttore Sviluppo\, Formazione e Organizzazione di Gruppo Hera.\nLa partecipazione è aperta a tutti gli aderenti al Piano di Azione Nazionale ed agli stakeholder coinvolti nelle business-education partnership.\nPer motivi organizzativi è richiesta la registrazione al seguente link.\nProgramma
URL:https://www.improntaetica.org/evento/accelerare-le-partnerhip-scuola-impresa/
LOCATION:Fondazione Il Corriere della Sera – Sala Buzzati\, Via Balzan 3\, Milano
ATTACH;FMTTYPE=:
END:VEVENT
END:VCALENDAR