BEGIN:VCALENDAR
VERSION:2.0
PRODID:-//Impronta Etica - ECPv6.15.20//NONSGML v1.0//EN
CALSCALE:GREGORIAN
METHOD:PUBLISH
X-WR-CALNAME:Impronta Etica
X-ORIGINAL-URL:https://www.improntaetica.org
X-WR-CALDESC:Eventi per Impronta Etica
REFRESH-INTERVAL;VALUE=DURATION:PT1H
X-Robots-Tag:noindex
X-PUBLISHED-TTL:PT1H
BEGIN:VTIMEZONE
TZID:Europe/Rome
BEGIN:DAYLIGHT
TZOFFSETFROM:+0100
TZOFFSETTO:+0200
TZNAME:CEST
DTSTART:20220327T010000
END:DAYLIGHT
BEGIN:STANDARD
TZOFFSETFROM:+0200
TZOFFSETTO:+0100
TZNAME:CET
DTSTART:20221030T010000
END:STANDARD
BEGIN:DAYLIGHT
TZOFFSETFROM:+0100
TZOFFSETTO:+0200
TZNAME:CEST
DTSTART:20230326T010000
END:DAYLIGHT
BEGIN:STANDARD
TZOFFSETFROM:+0200
TZOFFSETTO:+0100
TZNAME:CET
DTSTART:20231029T010000
END:STANDARD
BEGIN:DAYLIGHT
TZOFFSETFROM:+0100
TZOFFSETTO:+0200
TZNAME:CEST
DTSTART:20240331T010000
END:DAYLIGHT
BEGIN:STANDARD
TZOFFSETFROM:+0200
TZOFFSETTO:+0100
TZNAME:CET
DTSTART:20241027T010000
END:STANDARD
END:VTIMEZONE
BEGIN:VEVENT
DTSTART;TZID=Europe/Rome:20230710T000000
DTEND;TZID=Europe/Rome:20230719T000000
DTSTAMP:20260421T003547
CREATED:20230710T142444Z
LAST-MODIFIED:20230710T143349Z
UID:37194-1688947200-1689724800@www.improntaetica.org
SUMMARY:10/07 - 19/07 | High-Level Political Forum 2023
DESCRIPTION:L’evento annuale per monitorare i progessi sull’Agenda 2030.\nIl Forum politico di alto livello sullo sviluppo sostenibile (HLPF) si terrà da lunedì 10 luglio a mercoledì 19 luglio 2023 a News York\, sotto gli auspici del Consiglio economico e sociale. L’evento annuale delle Nazioni unite per monitorare i progressi sull’Agenda 2030 e i suoi 17 Obiettivi di sviluppo sostenibile. \nQuest’anno sono 40 gli Stati che presenteranno la propria voluntary national review\, il documento con cui i Paesi forniscono alle Nazioni unite informazioni sull’attuazione dell’Agenda 2030 a livello nazionale. Per la prima volta la revisione volontaria sarà presentata anche dall’Unione europea. Il tema sarà “Accelerare la ripresa dalla malattia da coronavirus (COVID-19) e la piena attuazione dell’Agenda 2030 per lo sviluppo sostenibile a tutti i livelli“ \nL’High-level political forum 2023 si articola in due sessioni: dal 10 al 20 luglio sotto gli auspici del Consiglio economico e sociale delle Nazioni unite (Ecosoc) e dal 18 al 19 settembre sotto l’egida dell’Assemblea generale. A conclusione delle due sessioni verrà adottata una dichiarazione politica\, la cui bozza è attualmente in fase di negoziazione. \nIl programma è disponibile al seguente link. \nMaggiori informazioni sono disponibili al seguente link.
URL:https://www.improntaetica.org/evento/10-07-19-07-high-level-political-forum-2023/
ATTACH;FMTTYPE=image/jpeg:https://www.improntaetica.org/wp-content/uploads/2023/07/un.jpg
END:VEVENT
END:VCALENDAR