BEGIN:VCALENDAR
VERSION:2.0
PRODID:-//Impronta Etica - ECPv6.15.20//NONSGML v1.0//EN
CALSCALE:GREGORIAN
METHOD:PUBLISH
X-WR-CALNAME:Impronta Etica
X-ORIGINAL-URL:https://www.improntaetica.org
X-WR-CALDESC:Eventi per Impronta Etica
REFRESH-INTERVAL;VALUE=DURATION:PT1H
X-Robots-Tag:noindex
X-PUBLISHED-TTL:PT1H
BEGIN:VTIMEZONE
TZID:Europe/Rome
BEGIN:DAYLIGHT
TZOFFSETFROM:+0100
TZOFFSETTO:+0200
TZNAME:CEST
DTSTART:20220327T010000
END:DAYLIGHT
BEGIN:STANDARD
TZOFFSETFROM:+0200
TZOFFSETTO:+0100
TZNAME:CET
DTSTART:20221030T010000
END:STANDARD
BEGIN:DAYLIGHT
TZOFFSETFROM:+0100
TZOFFSETTO:+0200
TZNAME:CEST
DTSTART:20230326T010000
END:DAYLIGHT
BEGIN:STANDARD
TZOFFSETFROM:+0200
TZOFFSETTO:+0100
TZNAME:CET
DTSTART:20231029T010000
END:STANDARD
BEGIN:DAYLIGHT
TZOFFSETFROM:+0100
TZOFFSETTO:+0200
TZNAME:CEST
DTSTART:20240331T010000
END:DAYLIGHT
BEGIN:STANDARD
TZOFFSETFROM:+0200
TZOFFSETTO:+0100
TZNAME:CET
DTSTART:20241027T010000
END:STANDARD
END:VTIMEZONE
BEGIN:VEVENT
DTSTART;TZID=Europe/Rome:20230711T000000
DTEND;TZID=Europe/Rome:20230713T000000
DTSTAMP:20260420T231159
CREATED:20230629T135533Z
LAST-MODIFIED:20230629T135533Z
UID:37171-1689033600-1689206400@www.improntaetica.org
SUMMARY:11/07 - 13/07 | Un anno del Piano per l’Uguaglianza della Città metropolitana
DESCRIPTION:Se ti dico uguaglianza\, cosa senti?\nSi terrà a Bologna l’11\, il 12 e il 13 luglio 2023 l’evento per festeggiare un anno del Piano per l’Uguaglianza della Città metropolitana\,  una tre giorni di incontri per conoscere progetti\, presentare proposte\, condividere azioni\, prendersi cura dell’uguaglianza e confrontarsi con altre esperienze europee\,  insieme a: \nMatteo Lepore\, Sindaco metropolitano di Bologna\, Stefano Bonaccini\, Presidente della Regione Emilia-Romagna\, Zaida Muxi Martinez\, Architetta e Urbanista  e con altre figure europee\, nazionali e locali\, esponenti di parti sociali\, associazioni e istituzioni. \nIl programma definitivo sarà disponibile a breve. \nMaggiori informazioni sono disponibili al seguente link. \nE’ possibile iscriversi al seguente link. \nSCARICA IL SAVE THE DATE \n 
URL:https://www.improntaetica.org/evento/11-07-13-07-un-anno-del-piano-per-luguaglianza-della-citta-metropolitana/
ATTACH;FMTTYPE=image/jpeg:https://www.improntaetica.org/wp-content/uploads/2023/06/piano.jpg
END:VEVENT
END:VCALENDAR