BEGIN:VCALENDAR
VERSION:2.0
PRODID:-//Impronta Etica - ECPv6.15.20//NONSGML v1.0//EN
CALSCALE:GREGORIAN
METHOD:PUBLISH
X-WR-CALNAME:Impronta Etica
X-ORIGINAL-URL:https://www.improntaetica.org
X-WR-CALDESC:Eventi per Impronta Etica
REFRESH-INTERVAL;VALUE=DURATION:PT1H
X-Robots-Tag:noindex
X-PUBLISHED-TTL:PT1H
BEGIN:VTIMEZONE
TZID:Europe/Rome
BEGIN:DAYLIGHT
TZOFFSETFROM:+0100
TZOFFSETTO:+0200
TZNAME:CEST
DTSTART:20170326T010000
END:DAYLIGHT
BEGIN:STANDARD
TZOFFSETFROM:+0200
TZOFFSETTO:+0100
TZNAME:CET
DTSTART:20171029T010000
END:STANDARD
BEGIN:DAYLIGHT
TZOFFSETFROM:+0100
TZOFFSETTO:+0200
TZNAME:CEST
DTSTART:20180325T010000
END:DAYLIGHT
BEGIN:STANDARD
TZOFFSETFROM:+0200
TZOFFSETTO:+0100
TZNAME:CET
DTSTART:20181028T010000
END:STANDARD
BEGIN:DAYLIGHT
TZOFFSETFROM:+0100
TZOFFSETTO:+0200
TZNAME:CEST
DTSTART:20190331T010000
END:DAYLIGHT
BEGIN:STANDARD
TZOFFSETFROM:+0200
TZOFFSETTO:+0100
TZNAME:CET
DTSTART:20191027T010000
END:STANDARD
BEGIN:DAYLIGHT
TZOFFSETFROM:+0100
TZOFFSETTO:+0200
TZNAME:CEST
DTSTART:20200329T010000
END:DAYLIGHT
BEGIN:STANDARD
TZOFFSETFROM:+0200
TZOFFSETTO:+0100
TZNAME:CET
DTSTART:20201025T010000
END:STANDARD
BEGIN:DAYLIGHT
TZOFFSETFROM:+0100
TZOFFSETTO:+0200
TZNAME:CEST
DTSTART:20210328T010000
END:DAYLIGHT
BEGIN:STANDARD
TZOFFSETFROM:+0200
TZOFFSETTO:+0100
TZNAME:CET
DTSTART:20211031T010000
END:STANDARD
BEGIN:DAYLIGHT
TZOFFSETFROM:+0100
TZOFFSETTO:+0200
TZNAME:CEST
DTSTART:20220327T010000
END:DAYLIGHT
BEGIN:STANDARD
TZOFFSETFROM:+0200
TZOFFSETTO:+0100
TZNAME:CET
DTSTART:20221030T010000
END:STANDARD
BEGIN:DAYLIGHT
TZOFFSETFROM:+0100
TZOFFSETTO:+0200
TZNAME:CEST
DTSTART:20230326T010000
END:DAYLIGHT
BEGIN:STANDARD
TZOFFSETFROM:+0200
TZOFFSETTO:+0100
TZNAME:CET
DTSTART:20231029T010000
END:STANDARD
BEGIN:DAYLIGHT
TZOFFSETFROM:+0100
TZOFFSETTO:+0200
TZNAME:CEST
DTSTART:20240331T010000
END:DAYLIGHT
BEGIN:STANDARD
TZOFFSETFROM:+0200
TZOFFSETTO:+0100
TZNAME:CET
DTSTART:20241027T010000
END:STANDARD
BEGIN:DAYLIGHT
TZOFFSETFROM:+0100
TZOFFSETTO:+0200
TZNAME:CEST
DTSTART:20250330T010000
END:DAYLIGHT
BEGIN:STANDARD
TZOFFSETFROM:+0200
TZOFFSETTO:+0100
TZNAME:CET
DTSTART:20251026T010000
END:STANDARD
BEGIN:DAYLIGHT
TZOFFSETFROM:+0100
TZOFFSETTO:+0200
TZNAME:CEST
DTSTART:20260329T010000
END:DAYLIGHT
BEGIN:STANDARD
TZOFFSETFROM:+0200
TZOFFSETTO:+0100
TZNAME:CET
DTSTART:20261025T010000
END:STANDARD
END:VTIMEZONE
BEGIN:VEVENT
DTSTART;TZID=Europe/Rome:20250315T103000
DTEND;TZID=Europe/Rome:20250315T173000
DTSTAMP:20260421T071535
CREATED:20250224T154755Z
LAST-MODIFIED:20250313T144350Z
UID:40824-1742034600-1742059800@www.improntaetica.org
SUMMARY:15/03 | L'individuo da solo (non) esiste
DESCRIPTION:Insieme per scrivere le note di un nuovo spartito.\nIl 15 marzo\, dalle 10.30 alle 17.30\, a Palazzo Valentini a Roma\, si terrà\, nella cornice del Festival Nazionale dell’Economia Civile con il supporto di diversi soggetti tra cui ASviS e NeXt\, di cui Impronta Etica fa parte\, un incontro dedicato alla centralità della solidarietà e dell’intelligenza delle relazioni per percorrere un strada di risposta alle sfide globali. \nLa giornata esplorerà come il paradigma relazionale possa arricchire l’esperienza sociale e politica\, traducendosi in buone pratiche e strategie concrete. L’evento mira ad avviare un processo partecipativo che coinvolga società civile\, politici e amministratori\, stimolando il dialogo e lo sviluppo di programmi d’azione condivisi. \nMaggiori informazioni sono disponibili al seguente link. \nSCARICA IL PROGRAMMA
URL:https://www.improntaetica.org/evento/15-03-lindividuo-da-solo-non-esiste/
CATEGORIES:Eventi 2025
ATTACH;FMTTYPE=image/jpeg:https://www.improntaetica.org/wp-content/uploads/2020/06/festival-delleconomia-civile.jpg
END:VEVENT
BEGIN:VEVENT
DTSTART;TZID=Europe/Rome:20250225T093000
DTEND;TZID=Europe/Rome:20250225T130000
DTSTAMP:20260421T071535
CREATED:20250211T154751Z
LAST-MODIFIED:20250224T100423Z
UID:40786-1740475800-1740488400@www.improntaetica.org
SUMMARY:25/02 | La tappa bolognese de “Il Salone della CSR e dell’innovazione sociale”
DESCRIPTION:Tessere reti per realizzare il cambiamento.\nSi terrà il 25 febbraio dalle ore 10.00 alle ore 13.00 in presenza presso il Binario Centrale del DumBo a Bologna in Via Camillo Casarini 19 l’evento dal titolo “Tessere reti per realizzare cambiamento”. \nL’evento organizzato da Impronta Etica con il supporto metodologico e organizzativo di SCS Consulting\, sarà la decima edizione della tappa bolognese de  “Il Salone della CSR e dell’innovazione sociale”. Per il decimo anniversario dalla realizzazione della prima tappa territoriale\, Bologna aprirà il roadshow del Giro d’Italia della CSR dando inizio ai lavori. \nIl tema della collaborazione verrà inquadrato nel suo forte valore territoriale e legame tra il mondo pubblico e privato da Irene Priolo\, Assessora all’Ambiente\, Programmazione territoriale\, Mobilità e Trasporti\, Infrastrutture Regione Emilia- Romagna; Stefania Contesini\, Coordinatrice Philosophy and Business Unit e Responsabile Laboratorio Filosofia Impresa e Mariagrazia Bonzagni\, Direttrice Area Programmazione\, Statistica e Presidio Sistemi di Controllo Interni Comune di Bologna e Coordinatrice Rete SmartBO. \nA seguire la mattinata si svolgerà mediante un’attività laboratoriale in tre tavoli di lavoro dedicati a tre temi centrali per il destino del nostro futuro: la risoluzione corale alla crisi climatica\, la risposta ai nuovi bisogni del mondo del lavoro e le nuove frontiere dell’innovazione sostenibile.  \nI tavoli sono al momento sold out! \nChi si trovasse impossibilitato ad iscriversi ad una tavolo in quanto sold-out\, può contattare lo Staff di Impronta Etica per essere messo in lista d’attesa. \nChi non potesse più partecipare per impegni sopraggiunti è gentilmente invitato a disiscriversi o a comunicarlo allo staff di Impronta Etica per questioni organizzative. \nPer maggiori informazioni: info@improntaetica.org \nSCARICA IL PROGRAMMA
URL:https://www.improntaetica.org/evento/25-02-la-tappa-bolognese-de-il-salone-della-csr-e-dellinnovazione-sociale/
CATEGORIES:Eventi 2025
ATTACH;FMTTYPE=image/png:https://www.improntaetica.org/wp-content/uploads/2025/01/Programma_Tappa-Bologna-Formato-quadrato-2.png
END:VEVENT
BEGIN:VEVENT
DTSTART;VALUE=DATE:20180909
DTEND;VALUE=DATE:20180913
DTSTAMP:20260421T071535
CREATED:20180706T141551Z
LAST-MODIFIED:20180706T141551Z
UID:15150-1536451200-1536796799@www.improntaetica.org
SUMMARY:6° Convegno internazionale su “Social Life Cycle  Assessment”
DESCRIPTION:6th Social Life Cycle Assessment Conference.\nLe Università di Chieti-Pescara e di Aquisgrana ed Ecoinnovazione srl organizzano il 6° Convegno internazionale su “Social Life Cycle Assessment” dal titolo “People and places for parnership”.\nLa Conferenza farà il punto in merito alla metodologia Social LCA: sulle tematiche scientifiche\, offrirà un’ampia rassegna di esperienze applicative\, sarà l’occasione per discutere le problematiche relative ai processi normativi.\nIl confronto vedrà di volta in volta impegnati esperti\, imprese\, operatori pubblici e policy maker.\nMaggiori informazioni e il programma sono disponibili al seguente link.
URL:https://www.improntaetica.org/evento/6-convegno-internazionale-social-life-cycle-assessment/
ATTACH;FMTTYPE=:
END:VEVENT
END:VCALENDAR