BEGIN:VCALENDAR
VERSION:2.0
PRODID:-//Impronta Etica - ECPv6.15.20//NONSGML v1.0//EN
CALSCALE:GREGORIAN
METHOD:PUBLISH
X-WR-CALNAME:Impronta Etica
X-ORIGINAL-URL:https://www.improntaetica.org
X-WR-CALDESC:Eventi per Impronta Etica
REFRESH-INTERVAL;VALUE=DURATION:PT1H
X-Robots-Tag:noindex
X-PUBLISHED-TTL:PT1H
BEGIN:VTIMEZONE
TZID:Europe/Rome
BEGIN:DAYLIGHT
TZOFFSETFROM:+0100
TZOFFSETTO:+0200
TZNAME:CEST
DTSTART:20220327T010000
END:DAYLIGHT
BEGIN:STANDARD
TZOFFSETFROM:+0200
TZOFFSETTO:+0100
TZNAME:CET
DTSTART:20221030T010000
END:STANDARD
BEGIN:DAYLIGHT
TZOFFSETFROM:+0100
TZOFFSETTO:+0200
TZNAME:CEST
DTSTART:20230326T010000
END:DAYLIGHT
BEGIN:STANDARD
TZOFFSETFROM:+0200
TZOFFSETTO:+0100
TZNAME:CET
DTSTART:20231029T010000
END:STANDARD
BEGIN:DAYLIGHT
TZOFFSETFROM:+0100
TZOFFSETTO:+0200
TZNAME:CEST
DTSTART:20240331T010000
END:DAYLIGHT
BEGIN:STANDARD
TZOFFSETFROM:+0200
TZOFFSETTO:+0100
TZNAME:CET
DTSTART:20241027T010000
END:STANDARD
END:VTIMEZONE
BEGIN:VEVENT
DTSTART;TZID=Europe/Rome:20231116T150000
DTEND;TZID=Europe/Rome:20231116T173000
DTSTAMP:20260421T072235
CREATED:20231031T142842Z
LAST-MODIFIED:20231103T081802Z
UID:37782-1700146800-1700155800@www.improntaetica.org
SUMMARY:16/11 | Foresight Dialogues 2023
DESCRIPTION:Il nostro pianeta\, il clima e la società.\nL’evento di CMCC che si terrà a Firenze il 16 novembre dalle ore 15:00 alle ore 17:30 sarà un confronto sulle principali sfide per il settore della comunicazione e sul ruolo futuro dell’informazione nel supportare la transizione climatica\, con progetti ed esperti internazionali di spicco. \nLa radicale trasformazione innescata dal cambiamento climatico ha generato una grande quantità di informazioni che potrebbero essere difficili da navigare. La comunicazione ha un ruolo chiave nel collegare la conoscenza all’azione per mettere in moto il cambiamento e favorire la transizione verso società future resilienti e più eque. L’evento presenta una serie di iniziative per reinventare il modo in cui la conoscenza scientifica può trasformare il nostro futuro attraverso la comunicazione. Esperti internazionali di media e disinformazione\, architetti\, scienziati\, divulgatori\, artisti e giornalisti  riunisce le voci e le esperienze di coloro che stanno guidando la transizione climatica. \nIl programma e maggiori informazioni sono disponibili al seguente link.
URL:https://www.improntaetica.org/evento/16-11-foresight-dialogues-2023/
ATTACH;FMTTYPE=image/png:https://www.improntaetica.org/wp-content/uploads/2023/10/cmcc-e1732717600333.png
END:VEVENT
BEGIN:VEVENT
DTSTART;TZID=Europe/Rome:20230605T103000
DTEND;TZID=Europe/Rome:20230605T130000
DTSTAMP:20260421T072235
CREATED:20230516T080319Z
LAST-MODIFIED:20230516T080319Z
UID:36917-1685961000-1685970000@www.improntaetica.org
SUMMARY:05/06 | Conferenza Nazionale delle Green City
DESCRIPTION:Nell’ambito del Green&Blue Festival 2023 “Earth for all\, una terra per tutti”.\nSi terrà il 5 giugno a Roma la Conferenza nazionale delle green city si terrà nell’ambito del Festival Green&Blue dedicato al tema EARTH FOR ALL\, UNA TERRA PER TUTTI\, in occasione della Giornata Mondiale dell’Ambiente e proseguirà il 6-7-8 giugno a Milano con gli approfondimenti settoriali. \nLa Conferenza nazionale delle green city\, organizzata dal Green City Networke dalla Fondazione per lo Sviluppo Sostenibile \, sarà la prima iniziativa del Festival e si terrà la mattina del 5 giugno dalle 10.30 alle 13.00 presso la Sala della Protomoteca in Campidoglio. \nLa Conferenza nazionale delle green city sarà dedicata al tema della neutralità climatica delle città con particolare riguardo alle città italiane selezionate nell’ambito della EU Mission 100 climate-neutral cities e altre città italiane che si stanno muovendo verso un’anticipazione degli obiettivi di neutralità climatica al 2050. Verranno inoltre presentati gli esiti di una consultazione di un campione di città italiane sul recente Piano nazionale di adattamento climatico. \nMaggiori informazioni sono disponibili al seguente link. \nSCARICA IL PROGRAMMA
URL:https://www.improntaetica.org/evento/05-06-conferenza-nazionale-delle-green-city/
ATTACH;FMTTYPE=image/jpeg:https://www.improntaetica.org/wp-content/uploads/2023/05/loghi-per-news.jpg
END:VEVENT
END:VCALENDAR