BEGIN:VCALENDAR
VERSION:2.0
PRODID:-//Impronta Etica - ECPv6.15.20//NONSGML v1.0//EN
CALSCALE:GREGORIAN
METHOD:PUBLISH
X-ORIGINAL-URL:https://www.improntaetica.org
X-WR-CALDESC:Eventi per Impronta Etica
REFRESH-INTERVAL;VALUE=DURATION:PT1H
X-Robots-Tag:noindex
X-PUBLISHED-TTL:PT1H
BEGIN:VTIMEZONE
TZID:Europe/Rome
BEGIN:DAYLIGHT
TZOFFSETFROM:+0100
TZOFFSETTO:+0200
TZNAME:CEST
DTSTART:20240331T010000
END:DAYLIGHT
BEGIN:STANDARD
TZOFFSETFROM:+0200
TZOFFSETTO:+0100
TZNAME:CET
DTSTART:20241027T010000
END:STANDARD
BEGIN:DAYLIGHT
TZOFFSETFROM:+0100
TZOFFSETTO:+0200
TZNAME:CEST
DTSTART:20250330T010000
END:DAYLIGHT
BEGIN:STANDARD
TZOFFSETFROM:+0200
TZOFFSETTO:+0100
TZNAME:CET
DTSTART:20251026T010000
END:STANDARD
BEGIN:DAYLIGHT
TZOFFSETFROM:+0100
TZOFFSETTO:+0200
TZNAME:CEST
DTSTART:20260329T010000
END:DAYLIGHT
BEGIN:STANDARD
TZOFFSETFROM:+0200
TZOFFSETTO:+0100
TZNAME:CET
DTSTART:20261025T010000
END:STANDARD
END:VTIMEZONE
BEGIN:VEVENT
DTSTART;TZID=Europe/Rome:20251120T153000
DTEND;TZID=Europe/Rome:20251120T173000
DTSTAMP:20260421T052727
CREATED:20251115T124415Z
LAST-MODIFIED:20251117T124445Z
UID:42021-1763652600-1763659800@www.improntaetica.org
SUMMARY:20/11 | RI-MADE: PROTOTIPI DI MODA SOSTENIBILI
DESCRIPTION:Per sostenere le PMI nella transizione ecologica.\nGiovedì 20 novembre 2025\, alle ore 15:30\, avrà luogo al Centergross Sala Congressi (Zona Artigianale Funo\, Bologna) l’evento “RI-MADE – Prototipi di Moda Sostenibile“. \nPromosso da Bologna Innovation Square (BIS)\, dalla Città Metropolitana di Bologna e dal Comune di Bologna\, in collaborazione con Centergross e con il supporto della Regione Emilia-Romagna\, l’evento si inserisce nel programma del Festival della Cultura Tecnica 2025\, dedicato al dialogo tra formazione\, impresa e innovazione sostenibile. \nInfatti\, RI-MADE ha l‘obiettivo di sostenere le PMI nella transizione ecologica\, promuovendo la collaborazione tra istituzioni\, centri di ricerca e imprese e offrendo testimonianze di buone pratiche di nuovi modelli di produzione circolare\, materiali innovativi e processi a basso impatto ambientale. \nLa partecipazione è gratuita ma è richiesta l’iscrizione qui. \nMaggiori informazioni sono reperibili al seguente link.
URL:https://www.improntaetica.org/evento/20-11-ri-made-prototipi-di-moda-sostenibili/
CATEGORIES:Eventi 2025
ATTACH;FMTTYPE=image/png:https://www.improntaetica.org/wp-content/uploads/2025/11/Cattura-10-e1763377057512.png
END:VEVENT
END:VCALENDAR