BEGIN:VCALENDAR
VERSION:2.0
PRODID:-//Impronta Etica - ECPv6.15.20//NONSGML v1.0//EN
CALSCALE:GREGORIAN
METHOD:PUBLISH
X-WR-CALNAME:Impronta Etica
X-ORIGINAL-URL:https://www.improntaetica.org
X-WR-CALDESC:Eventi per Impronta Etica
REFRESH-INTERVAL;VALUE=DURATION:PT1H
X-Robots-Tag:noindex
X-PUBLISHED-TTL:PT1H
BEGIN:VTIMEZONE
TZID:Europe/Rome
BEGIN:DAYLIGHT
TZOFFSETFROM:+0100
TZOFFSETTO:+0200
TZNAME:CEST
DTSTART:20220327T010000
END:DAYLIGHT
BEGIN:STANDARD
TZOFFSETFROM:+0200
TZOFFSETTO:+0100
TZNAME:CET
DTSTART:20221030T010000
END:STANDARD
BEGIN:DAYLIGHT
TZOFFSETFROM:+0100
TZOFFSETTO:+0200
TZNAME:CEST
DTSTART:20230326T010000
END:DAYLIGHT
BEGIN:STANDARD
TZOFFSETFROM:+0200
TZOFFSETTO:+0100
TZNAME:CET
DTSTART:20231029T010000
END:STANDARD
BEGIN:DAYLIGHT
TZOFFSETFROM:+0100
TZOFFSETTO:+0200
TZNAME:CEST
DTSTART:20240331T010000
END:DAYLIGHT
BEGIN:STANDARD
TZOFFSETFROM:+0200
TZOFFSETTO:+0100
TZNAME:CET
DTSTART:20241027T010000
END:STANDARD
END:VTIMEZONE
BEGIN:VEVENT
DTSTART;TZID=Europe/Rome:20231130T143000
DTEND;TZID=Europe/Rome:20231130T170000
DTSTAMP:20260421T060016
CREATED:20231124T091933Z
LAST-MODIFIED:20231124T091933Z
UID:38062-1701354600-1701363600@www.improntaetica.org
SUMMARY:30/11 | Lancio del Position paper ASviS su Pnacc e insediamenti urbani
DESCRIPTION:Un’analisi e proposte sul Piano nazionale di adattamento ai cambiamenti climatici.\n“Gli insediamenti urbani nel Piano nazionale di adattamento ai cambiamenti climatici” è il titolo del nuovo Position paper di ASVIS\, realizzato dal Gruppo di lavoro sul Goal 11 “Città e comunità sostenibili” dell’Alleanza italiana per lo sviluppo sostenibile (ASviS)\, che sarà presentato il 30 novembre alle 14.30 presso l’Università Roma Tre per richiamare l’attenzione sul Pnacc e\, in particolare\, sul settore relativo agli insediamenti urbani. \nDopo la Romagna ora la Toscana\, insieme ad altre Regioni\, è stata colpita da una nuova drammatica alluvione. Sono gli effetti della crisi climatica che stiamo vivendo e che richiede misure urgenti di adattamento\, la cui mitigazione\, come è noto\, è affidata alla riduzione delle emissioni di CO2 in atmosfera. \nLa Strategia nazionale di adattamento ai cambiamenti climatici (Snacc) è del 2015 e la sua attuazione è demandata al Piano\, il quale stenta a decollare a otto anni di distanza dalla Strategia. L’ultima versione del dicembre 2022 è stata sottoposta alla procedura di Valutazione ambientale strategica (Vas) e ora il ministero dell’Ambiente e della sicurezza energetica (Mase) ha il compito di predisporre la sua versione definitiva alla luce del parere che ha concluso la consultazione. \nMaggiori informazioni sono disponibili al seguente link.
URL:https://www.improntaetica.org/evento/30-11-lancio-del-position-paper-asvis-su-pnacc-e-insediamenti-urbani/
ATTACH;FMTTYPE=image/png:https://www.improntaetica.org/wp-content/uploads/2019/08/Logo-ASviS-e1736929301112.png
END:VEVENT
BEGIN:VEVENT
DTSTART;TZID=Europe/Rome:20230222T140000
DTEND;TZID=Europe/Rome:20230222T160000
DTSTAMP:20260421T060016
CREATED:20230209T111314Z
LAST-MODIFIED:20230209T111426Z
UID:36373-1677074400-1677081600@www.improntaetica.org
SUMMARY:22/02 | ETicaNews e ESG governance LAB presentano i nuovi Position paper
DESCRIPTION:Due Poposition paper su Due Diligence e doppia materialità.\nETicaNews organizza un webinar di presentazione dei due Position paper realizzati dai due tavoli di lavoro 2022 di ESG Governance LAB: “ESG Due diligence\, responsabilità 4.0” e “Doppia materialità per molteplici dimensioni”. \nI paper sottolineano le sfide e opportunità dei due temi e propongono una prima riflessione su modalità e strumenti per tradurre in soluzioni operative i cambiamenti in atto. \nL’evento si terrà il 22 febbraio\, dalle 14:00 alle 16:00\, e per parteciparvi è necessario iscriversi al seguente link. \nMaggiori informazioni sono disponibili al seguente link.
URL:https://www.improntaetica.org/evento/eticanews-e-esg-governance-lab-presentazione-dei-nuovi-position-paper/
ATTACH;FMTTYPE=image/png:https://www.improntaetica.org/wp-content/uploads/2023/02/Immagine-senza-nome.png
END:VEVENT
END:VCALENDAR