BEGIN:VCALENDAR
VERSION:2.0
PRODID:-//Impronta Etica - ECPv6.15.20//NONSGML v1.0//EN
CALSCALE:GREGORIAN
METHOD:PUBLISH
X-WR-CALNAME:Impronta Etica
X-ORIGINAL-URL:https://www.improntaetica.org
X-WR-CALDESC:Eventi per Impronta Etica
REFRESH-INTERVAL;VALUE=DURATION:PT1H
X-Robots-Tag:noindex
X-PUBLISHED-TTL:PT1H
BEGIN:VTIMEZONE
TZID:Europe/Rome
BEGIN:DAYLIGHT
TZOFFSETFROM:+0100
TZOFFSETTO:+0200
TZNAME:CEST
DTSTART:20150329T010000
END:DAYLIGHT
BEGIN:STANDARD
TZOFFSETFROM:+0200
TZOFFSETTO:+0100
TZNAME:CET
DTSTART:20151025T010000
END:STANDARD
BEGIN:DAYLIGHT
TZOFFSETFROM:+0100
TZOFFSETTO:+0200
TZNAME:CEST
DTSTART:20160327T010000
END:DAYLIGHT
BEGIN:STANDARD
TZOFFSETFROM:+0200
TZOFFSETTO:+0100
TZNAME:CET
DTSTART:20161030T010000
END:STANDARD
BEGIN:DAYLIGHT
TZOFFSETFROM:+0100
TZOFFSETTO:+0200
TZNAME:CEST
DTSTART:20170326T010000
END:DAYLIGHT
BEGIN:STANDARD
TZOFFSETFROM:+0200
TZOFFSETTO:+0100
TZNAME:CET
DTSTART:20171029T010000
END:STANDARD
BEGIN:DAYLIGHT
TZOFFSETFROM:+0100
TZOFFSETTO:+0200
TZNAME:CEST
DTSTART:20180325T010000
END:DAYLIGHT
BEGIN:STANDARD
TZOFFSETFROM:+0200
TZOFFSETTO:+0100
TZNAME:CET
DTSTART:20181028T010000
END:STANDARD
BEGIN:DAYLIGHT
TZOFFSETFROM:+0100
TZOFFSETTO:+0200
TZNAME:CEST
DTSTART:20190331T010000
END:DAYLIGHT
BEGIN:STANDARD
TZOFFSETFROM:+0200
TZOFFSETTO:+0100
TZNAME:CET
DTSTART:20191027T010000
END:STANDARD
BEGIN:DAYLIGHT
TZOFFSETFROM:+0100
TZOFFSETTO:+0200
TZNAME:CEST
DTSTART:20200329T010000
END:DAYLIGHT
BEGIN:STANDARD
TZOFFSETFROM:+0200
TZOFFSETTO:+0100
TZNAME:CET
DTSTART:20201025T010000
END:STANDARD
BEGIN:DAYLIGHT
TZOFFSETFROM:+0100
TZOFFSETTO:+0200
TZNAME:CEST
DTSTART:20210328T010000
END:DAYLIGHT
BEGIN:STANDARD
TZOFFSETFROM:+0200
TZOFFSETTO:+0100
TZNAME:CET
DTSTART:20211031T010000
END:STANDARD
BEGIN:DAYLIGHT
TZOFFSETFROM:+0100
TZOFFSETTO:+0200
TZNAME:CEST
DTSTART:20220327T010000
END:DAYLIGHT
BEGIN:STANDARD
TZOFFSETFROM:+0200
TZOFFSETTO:+0100
TZNAME:CET
DTSTART:20221030T010000
END:STANDARD
BEGIN:DAYLIGHT
TZOFFSETFROM:+0100
TZOFFSETTO:+0200
TZNAME:CEST
DTSTART:20230326T010000
END:DAYLIGHT
BEGIN:STANDARD
TZOFFSETFROM:+0200
TZOFFSETTO:+0100
TZNAME:CET
DTSTART:20231029T010000
END:STANDARD
BEGIN:DAYLIGHT
TZOFFSETFROM:+0100
TZOFFSETTO:+0200
TZNAME:CEST
DTSTART:20240331T010000
END:DAYLIGHT
BEGIN:STANDARD
TZOFFSETFROM:+0200
TZOFFSETTO:+0100
TZNAME:CET
DTSTART:20241027T010000
END:STANDARD
END:VTIMEZONE
BEGIN:VEVENT
DTSTART;TZID=Europe/Rome:20230320T180000
DTEND;TZID=Europe/Rome:20230320T180000
DTSTAMP:20260421T051046
CREATED:20230317T141331Z
LAST-MODIFIED:20230317T141331Z
UID:36656-1679335200-1679335200@www.improntaetica.org
SUMMARY:20/03 | Dalla catastrofe alla speranza
DESCRIPTION:Presentazione del libro di Alfonso Musci.\nLunedì 20 marzo\, alle ore 18:00\, presso la libreria Zanichelli (Piazza Galvani 1) si terrà la presentazione di “Dalla catastrofe alla speranza. Un alfabeto politico della vita offesa” di Alfonso Musci\, organizzata in collaborazione con Pandora Rivista e che vede BPER come sponsor. \nDialogheranno con l’autore: \nMatteo Marchesini – critico letterario\, giornalista e speaker di Radio Radicale \nPasquale Terracciano – docente di storia della filosofia all’Università Tor Vergata di Roma \nEvento ad ingresso libero e gratuito fino ad esaurimento dei posti disponibili. \nMaggiori informazioni sono disponibili al seguente link. \nSCARICA IL PROGRAMMA \n 
URL:https://www.improntaetica.org/evento/20-03-dalla-catastrofe-alla-speranza/
ATTACH;FMTTYPE=image/jpeg:https://www.improntaetica.org/wp-content/uploads/2023/01/pandora.jpg
END:VEVENT
BEGIN:VEVENT
DTSTART;TZID=Europe/Rome:20161213T090000
DTEND;TZID=Europe/Rome:20161213T130000
DTSTAMP:20260421T051046
CREATED:20161202T135733Z
LAST-MODIFIED:20161202T135733Z
UID:11644-1481619600-1481634000@www.improntaetica.org
SUMMARY:Presentazione del Rapporto "L'Italia del Riciclo 2016"
DESCRIPTION:Settima edizione del report annuale sul riciclo ed il recupero dei rifiuti.\nIl rapporto\, realizzato dalla Fondazione per lo Sviluppo Sostenibile e FISE UNIRE\, con il patrocinio del Ministero dell’Ambiente\, del Ministero dello Sviluppo Economico e dell’ISPRA\, si colloca ad un anno dalla pubblicazione del Pacchetto sull’Economia Circolare da parte della Commissione Europea.\nDurante l’incontro verranno presentati i dati aggiornati delle filiere del riciclo e del recupero dei rifiuti in Italia\, in relazione con le dinamiche europee e internazionali\, e i risultati della ricerca condotta sulle Materie Prime Seconde prodotte in Italia dalle attività di recupero dei rifiuti\, oggetto dell’approfondimento in questa edizione del Rapporto.\nE’ possibile iscriversi all’evento qui.\nPer ulteriori informazioni è possibile consultare il seguente link.\nProgramma
URL:https://www.improntaetica.org/evento/presentazione-del-rapporto-litalia-del-riciclo-2016/
LOCATION:Hotel Quirinale\, Sala Verdi\, Via Nazionale\, 7\, Roma\, Italia
ATTACH;FMTTYPE=:
END:VEVENT
BEGIN:VEVENT
DTSTART;TZID=Europe/Rome:20161201T163000
DTEND;TZID=Europe/Rome:20161201T183000
DTSTAMP:20260421T051046
CREATED:20161130T090926Z
LAST-MODIFIED:20161130T090926Z
UID:11607-1480609800-1480617000@www.improntaetica.org
SUMMARY:Bilancio sociale e governance territoriale: esperienze a confronto
DESCRIPTION:Presentazione dei bilanci sociali: l’Unibo e gli stakeholder del territorio.\nFrutto di meccanismi istituzionali sempre più aperti e partecipati\, il Bilancio Sociale di Ateneo rendiconta annualmente le risorse\, le attività\, i risultati\, gli impatti della didattica e della ricerca\, offrendo alla comunità degli stakeholder una chiave interpretativa dell’impegno istituzionale dell’Università di Bologna.\nAll’evento\, promosso dal Campus di Forlì sarà presente anche Tonino Bernabè Presidente di Romagna Acque.\nPer maggiori informazioni è possibile consultare il seguente link.\nProgramma
URL:https://www.improntaetica.org/evento/bilancio-sociale-e-governance-territoriale-esperienze-a-confronto/
LOCATION:Teaching Hub\, Aula 9 (Piano 1\, Blocco C)\, Viale Corridoni\, 20\, Forlì\, Italia
ATTACH;FMTTYPE=:
END:VEVENT
END:VCALENDAR